Workbook

Sheet предшкольный класс
B1: Лист наблюдения для предшкольной группы (дети 5 -ти лет )
A2: Учебный год: ____________ Группа: _____________ Период: ______________ Сроки проведения:______________ | O2: итог | IR2: Приложение 1
A4: № | B4: ФИО ребенка | C4: Физическое развитие | X4: Развитие коммуникативных навыков | DD4: Развитие познавательных и интеллектуальных навыков | DY4: Развитие творческих навыков, исследовательской деятельности детей | HZ4: Формирование социально-эмоциональных навыков
C5: Физическая культура | X5: Развитие речи | AS5: Художественная литература | BN5: Основы грамоты | CI5: Казахский язык | DD5: Основы математики | DY5: Рисование | ET5: Лепка | FO5: Аппликация | GJ5: Конструирование | HE5: Музыка | HZ5: Ознакомление с окружающим миром
C6: 5-Ф.1 | F6: 5-Ф.2 | I6: 5-Ф.3 | L6: 5-Ф.4 | O6: 5-Ф.5 | R6: 5-Ф.6 | U6: 5-Ф.7 | X6: 5-К. 1 | AA6: 5-К.2 | AD6: 5-К.3 | AG6: 5-К.4 | AJ6: 5-К.5 | AM6: 5-К. 6 | AP6: 5-К.7 | AS6: 5-К.8 | AV6: 5-К.9 | AY6: 5-К.10 | BB6: 5-К.11 | BE6: 5-К.12 | BH6: 5-К.13 | BK6: 5-К.14 | BN6: 5-К.15 | BQ6: 5-К.16 | BT6: 5-К.17 | BW6: 5-К.18 | BZ6: 5-К.19 | CC6: 5-К.20 | CF6: 5-К.21 | CI6: 5-К.22 | CL6: 5-К.23 | CO6: 5-К.24 | CR6: 5-К.25 | CU6: 5-К.26 | CX6: 5-К.27 | DA6: 5-К.28 | DD6: 5-П.1 | DG6: 5-П.2 | DJ6: 5-П.3 | DM6: 5-П.4 | DP6: 5-П.5 | DS6: 5-П.6 | DV6: 5-П.7 | DY6: 5-Т.1 | EB6: 5-Т.2 | EE6: 5-Т.3 | EH6: 5-Т.4 | EK6: 5-Т.5 | EN6: 5-Т.6 | EQ6: 5-Т.7 | ET6: 5-Т.8 | EW6: 5-Т.9 | EZ6: 5-Т.10 | FC6: 5-Т.11 | FF6: 5-Т.12 | FI6: 5-Т.13 | FL6: 5-Т.14 | FO6: 5-Т.15 | FR6: 5-Т.16 | FU6: 5-Т.17 | FX6: 5-Т.18 | GA6: 5-Т.19 | GD6: 5-Т.20 | GG6: 5-Т.21 | GJ6: 5-Т.22 | GM6: 5-Т.23 | GP6: 5-Т.24 | GS6: 5-Т.25 | GV6: 5-Т.26 | GY6: 5-Т.27 | HB6: 5-Т.28 | HE6: 5-Т.29 | HH6: 5-Т.30 | HK6: 5-Т.31 | HN6: 5-Т.32 | HQ6: 5-Т.33 | HT6: 5-Т.34 | HW6: 5-Т.35 | HZ6: 5-С.1 | IC6: 5-С.2 | IF6: 5-С.3 | II6: 5-С.4 | IL6: 5-С.5 | IO6: 5-С.6 | IR6: 5-С.7
C7: ходит в колонне по одному, по двое, по трое, с перешагиванием через предметы, боком: с поворотом в другую сторону по сигналу | F7: бегает с разной скоростью - медленно, быстро, в среднем темпе, непрерывно | I7: активно участвует в национальных подвижных играх, играх с элементами соревнований и эстафетных играх, , где демонстрирует физические качества: скорость, силу, выносливость, гибкость, ловкость | L7: проявляет активность в спортивных играх и тренировках | O7: выполняет самостоятельно гигиенические процедуры | R7: владеет навыками самообслуживания и ухода за одеждой | U7: имеет первоначальные представления о здоровом образе жизни | X7: выполняет звуковой анализ слов | AA7: употребляет в речи существительные, прилагательные, наречия, многозначные слова, синонимы и антонимы | AD7: произносит имена существительные, связывая их с числительными и прилагательными с существительными | AG7: внимательно слушает собеседника, правильно задает вопросы и дает короткие или полные ответы на них | AJ7: сочиняет рассказы по наблюдениям и сюжетным картинкам | AM7: последовательно пересказывает рассказы | AP7: ведет себя культурно, тактично во время беседы | AS7: различает причинно-следственные связи, литературные жанры | AV7: читает стихотворения выразительно, с интонацией | AY7: пересказывает содержание рассказа самостоятельно, сохраняя последовательность сюжета: | BB7: передает в ролях настроение и характер героя, жесты, интонацию и мимику образа | BE7: выполняет свою роль в постановке выразительно, самостоятельно | BH7: делится впечатлениями, информацией из различных источников | BK7: выражает свое отношение к происходящему вокруг | BN7: выполняет звуковой анализ слов: определяет порядок звуков в слове, гласных и согласных | BQ7: четко произносит все звуки, различает гласные и согласные | BT7: составляет слово на заданный слог: | BW7: составляет простые предложения с предложенными словами | BZ7: правильно держит ручку: | CC7: рисует различные линии | CF7: ориентируется на странице прописи, различает рабочую строку и межстрочное пространство | CI7: правильно произносит специфические звуки казахского языка в слове | CL7: рассказывает наизусть пословицы и поговорки | CO7: понимает и произносит названия продуктов, посуды, мебели, фруктов, овощей, животных, птиц, частей тела человека, транспорта, встречающихся в повседневной жизни | CR7: называет слова, обозначающие признаки предметов (цвет, величина), действия с предметами, употребляет их в разговорной речи | CU7: употребляет знакомые слова в повседневной жизни | CX7: составляет короткие рассказы об игрушках и картинах по образцу педагога | DA7: знает прямой и обратный счет до 10 | DD7: делит множества на части и воссоединяет их | DG7: знает прямой и обратный счет в пределах 10-ти, различает вопросы "Сколько?", "Который?" ("Какой?") и правильно отвечает на них | DJ7: сравнивает предметы по различным признакам (цвет, форма, размер, материал, применение) | DM7: располагает предметы в порядке возрастания и убывания | DP7: ориентируется на листе бумаги, называет последовательно дни недели, месяцы по временам года | DS7: различает и называет геометрические фигуры (круг, овал, треугольник, квадрат, прямоугольник) | DV7: рисует различные линии | DY7: передает образы предметов живой природы через несложные движения и позы | EB7: умеет пользоваться красками, смешивает акварель в палитре с водой, красит карандашом различными принтами, для получения насыщенных цветов | EE7: получает новые цвета (фиолетовый) и оттенки (синий, розовый, темно-зеленый) путем смешивания красок: | EH7: работает с коллективом, выполняет задачи по обоюдному согласию | EK7: рисует элементы казахского орнамента и украшает ими одежду, предметы быта | EN7: изображает сюжетные рисунки: | EQ7: соблюдает аккуратность при рисовании, правила безопасного поведения | ET7: лепит с натуры и по представлению знакомые предметы разной формы и величины | EW7: лепит фигуры человека и животного, соблюдая простые пропорции | EZ7: использует различные методы лепки | FC7: составлять сюжетные композиции по содержанию сказок и рассказов | FF7: лепит разнообразную казахскую посуду, предметы быта, ювелирные изделия и украшает их орнаментами и аксессуарами | FI7: владеет навыками коллективной лепки для общей композиции | FL7: аккуратно выполняет работу, соблюдает правила безопасности | FO7: вырезает ножницами различные геометрические фигуры | FR7: вырезает знакомые или придуманные различные образы, сразу несколько одинаковых форм из бумаги, сложенной гармошкой, и предметы симметричной формы из бумаги, сложенной вдвое | FU7: выбирает и обосновывает приемы работы | FX7: составляет образ из нескольких частей | GA7: выполняет сюжетные композиции как индивидуально, так и в небольших группах, согласованно выполняя задачи | GD7: создает сюжетные композиции, дополняя их модными деталями | GG7: соблюдает правила безопасности труда и личной гигиены | GJ7: строит самостоятельно на предложенную тему | GM7: конструирует из бросового и природного материала | GP7: анализируя построенное им сооружение, находит эффективные конструктивные решения, применяет их при конструировании | GS7: совместно конструирует необходимую для игры конструкцию, выполняют работу по согласованию, играют с готовой конструкцией | GV7: может работать в команде | GY7: преобразовывает плоскостные бумажные формы в объемные | HB7: соблюдает правила безопасности на рабочем месте | HE7: различает простые музыкальные жанры (кюй, песня, танец, марш): | HH7: исполняет знакомые песни самостоятельно с музыкальным сопровождением и без сопровождения | HK7: произносит текст песни четко, громко и медленно, умеет воспринимать и передавать характер музыки | HN7: выделяет отдельные фрагменты произведения (вступление, припев, заключение) | HQ7: играет простые мелодии на музыкальных инструментах | HT7: самостоятельно и творчески исполняет песни различного характера | HW7: выполняет движения в соответствии с характером музыки | HZ7: верит в свои силы и возможности, понимает важность трудолюбия и ответственности | IC7: понимает родственные связи, знает родословную, уважает старших, заботится о младших | IF7: говорит осознанно, выражает свое мнение | II7: знает о применении специальных транспортных средств, знает элементарные правила дорожного движения | IL7: любит свою Родину, понимает значение живописной природы, достопримечательностей, исторических мест и культурного наследия Казахстана | IO7: наблюдает и понимает причинно-следственные связи между живой и неживой природой, явлениями природы, знает об охране природы, значении солнца и воздуха в жизни человека, животных и растений | IR7: понимает и различает что «правильно» или «неправильно», «хорошо» или «плохо»:
C8: ходит | D8: старается ходить | E8: не старается ходить | F8: бегает с разной скоростью | G8: старается бегать с разной скоростью | H8: не бегает с разной скоростью | I8: активно участвует, демонстрирует | J8: старается принять участие, демонстрировать | K8: принимает участие без интереса | L8: проявляет активность | M8: проявляет активность частично | N8: не проявляет активность | O8: выполняет самостоятельно | P8: выполняет самостоятельно частично | Q8: не выполняет самостоятельно | R8: владеет навыками | S8: владеет навыками частично | T8: не владеет навыками | U8: имеет первоначальные представления о здоровом образе жизни | V8: имеет частичные первоначальные представления о здоровом образе жизни | W8: не имеет первоначальных представлений о здоровом образе жизни | X8: выполняет с интересом | Y8: старается выполнять | Z8: не выполняет | AA8: употребляет | AB8: употребляет частично | AC8: не употребляет | AD8: произносит | AE8: произносит частично | AF8: не произносит | AG8: слушает собеседника, задает вопросы и отвечает на них | AH8: слушает собеседника, задает вопросы, но не отвечает на них | AI8: не слушает собеседника, не задает вопросы и не отвечает на них | AJ8: сочиняет рассказы | AK8: сочиняет рассказы частично | AL8: не сочиняет рассказы | AM8: пересказывает рассказы | AN8: пересказывает рассказы частично | AO8: не пересказывает рассказы | AP8: ведет себя культурно, тактично во время беседы | AQ8: старается вести себя культурно, тактично во время беседы | AR8: не старается вести себя культурно, тактично во время беседы | AS8: различает | AT8: различает частично | AU8: не различает | AV8: читает выразительно, с интонацией | AW8: старается читать выразительно, с интонацией | AX8: не старается читать выразительно, с интонацией | AY8: пересказывает рассказ самостоятельно | AZ8: пересказывает рассказ при помощи взрослого | BA8: не пересказывает рассказ | BB8: передает настроение, характер героя, жесты, интонацию и мимику образа | BC8: старается передать настроение, характер героя, жесты, интонацию и мимику образа | BD8: не старается передать настроение, характер героя, жесты, интонацию и мимику образа | BE8: выполняет свою роль выразительно, самостоятельно | BF8: старается выполнять свою роль выразительно, самостоятельно | BG8: не старается выполнять свою роль выразительно, самостоятельно | BH8: делится впечатлениями | BI8: делится впечатлениями частично | BJ8: не делится впечатлениями | BK8: выражает свое отношение | BL8: выражает свое отношение частично | BM8: не выражает свое отношение | BN8: определяет порядок звуков в слове | BO8: определяет порядок звуков в слове частично | BP8: не пытается определить порядок звуков в слове | BQ8: четко произносит все звуки, различает гласные и согласные | BR8: четко произносит все звуки, различает некоторые из них | BS8: не произносит все звуки, не различает гласные и согласные | BT8: составляет слово на заданный слог | BU8: пытается составить слово на заданный слог | BV8: не пытается составить слово на заданный слог | BW8: составляет простые предложения | BX8: составляет простые предложения частично | BY8: не составляет простые предложения | BZ8: правильно держит ручку | CA8: старается правильно держать ручку | CB8: не может правильно держать ручку | CC8: рисует различные линии | CD8: рисует различные линии частично | CE8: не может рисовать различные линии | CF8: умеет ориентироваться, различать пространство | CG8: частично ориентируется, различает пространство | CH8: не умеет ориентироваться, не умеет различать пространство | CI8: правильно произносит | CJ8: пытается произносить правильно | CK8: не пытается произносить правильно | CL8: рассказывает пословицы и поговорки | CM8: пытается рассказывать пословицы и поговорки | CN8: не рассказывает пословицы и поговорки | CO8: знает и называет | CP8: знает,пытается называть | CQ8: не знает и не называет | CR8: называет и употребляет | CS8: старается называть и употреблять | CT8: не старается называть и употреблять | CU8: употребляет | CV8: старается употреблять | CW8: не употребляет | CX8: составляет рассказы по образцу педагога | CY8: старается составить рассказы по образцу педагога | CZ8: не старается составлять рассказы по образцу педагога | DA8: знает прямой и обратный счет до 10 | DB8: старается считать в пределах 10 | DC8: не старается считать в пределах 10 | DD8: делит и воссоединяет | DE8: старается делить и воссоединить | DF8: не старается делить и воссоединять | DG8: знает, различает вопросы и правильно на них отвечает | DH8: знает, частично различает вопросы и старается правильно на них отвечать | DI8: путается в обратном счете, не различает вопросы и не отвечает на вопросы | DJ8: сравнивает предметы по различным признакам | DK8: пытается сравнивать предметы по различным признакам | DL8: не пытается сравнивать предметы по различным признакам | DM8: располагает предметы в порядке возрастания и убывания | DN8: пытается расположить предметы в порядке возрастания и убывания | DO8: не располагает предметы в порядке возрастания и убывания | DP8: ориентируется на листе бумаги, называет последовательно дни недели, месяцы по временам года | DQ8: ориентируется на листе бумаги, но не называет последовательно дни недели, месяцы по временам года | DR8: не ориентируется на листе бумаги, не называет последовательно дни недели, месяцы по временам года | DS8: различает и называет геометрические фигуры | DT8: частично различает и называет геометрические фигуры | DU8: различает геометрические фигуры, но не называет их | DV8: рисует различные линии | DW8: частично рисует различные линии | DX8: не рисует различные линии | DY8: передает образы через несложные движения и позы | DZ8: передает образы через несложные движения и позы частично | EA8: не старается передать образы через несложные движения и позы | EB8: пользуется красками, красит различными принтами | EC8: пользуется красками частично, красит различными принтами | ED8: не умеет пользоваться красками, не пытается красить различными принтами | EE8: получает новые цвета и оттенки | EF8: старается получать новые цвета и оттенки через смешивание красок | EG8: не может получать новые цвета и оттенки через смешивание красок | EH8: выполняет задачи по обоюдному согласию | EI8: выполняет задачи по обоюдному согласию частично | EJ8: не пытается выполнять задачи по обоюдному согласию | EK8: рисует элементы казахского орнамента и украшает ими одежду, предметы быта | EL8: рисует элементы казахского орнамента и частично может украшать ими одежду, предметы быта | EM8: не рисует элементы казахского орнамента и не может украшать ими одежду, предметы быта | EN8: изображает сюжетные рисунки | EO8: изображает сюжетные рисунки частично | EP8: не изображает сюжетные рисунки | EQ8: соблюдает аккуратность | ER8: старается соблюдать аккуратность | ES8: не соблюдает аккуратность | ET8: лепит с натуры | EU8: лепит с натуры частично | EV8: не лепит с натуры | EW8: лепит фигуры человека и животного | EX8: лепит фигуры человека и животного частично | EY8: не лепит фигуры человека и животного | EZ8: использует различные методы лепки | FA8: старается использовать различные методы лепки | FB8: не старается использовать различные методы лепки | FC8: составляет сюжетные композиции | FD8: составляет сюжетные композиции частично | FE8: не составляет сюжетные композиции | FF8: лепит, украшет | FG8: старается лепить и украшать | FH8: не лепит, не украшает | FI8: владеет навыками | FJ8: владеет навыками частично | FK8: не владеет навыками | FL8: аккуратно выполняет работу, соблюдает правила безопасности | FM8: пытается аккуратно выполнять работу, соблюдать правила безопасности | FN8: не пытается аккуратно выполнять работу, не соблюдает правила безопасности | FO8: вырезает ножницами различные геометрические фигуры | FP8: пытается вырезать ножницами различные геометрические фигуры | FQ8: не может вырезать ножницами различные геометрические фигуры | FR8: вырезает различные образы | FS8: пытается вырезать различные образы | FT8: не может вырезать различные образы | FU8: выбирает и обосновывает приемы работы | FV8: выбирает и обосновывает приемы работы частично | FW8: не пытается выбирать и обосновывать приемы работы | FX8: стремиться понять важность | FY8: составляет образ из нескольких частей частично | FZ8: не составляет образ из нескольких частей | GA8: выполняет сюжетные композиции как индивидуально, так и в небольших группах | GB8: выполняет сюжетные композиции индивидуально, не проявляет интерес к небольшим группам | GC8: не выполняет сюжетные композиции ни индивидуально, ни в группе | GD8: создает сюжетные композиции, дополняя их модными деталями | GE8: создает сюжетные композиции, но не дополняет их модными деталями | GF8: не создает сюжетные композиции | GG8: соблюдает правила безопасности труда и личной гигиены | GH8: соблюдает правила безопасности труда и личной гигиены частично | GI8: пытается соблюдать правила безопасности труда и личной гигиены | GJ8: строит самостоятельно | GK8: строит при помощи взрослого | GL8: не пытается строить самостоятельно | GM8: конструирует из бросового и природного материала | GN8: конструирует из бросового и природного материала частично | GO8: не конструирует из бросового и природного материала | GP8: применяет их при конструировании | GQ8: частично применяет их при конструировании | GR8: пытается применяет их при конструировании | GS8: совместно конструирует, выполняет работу по согласованию | GT8: пытается совместно конструировать, выполнять работу по согласованию | GU8: не пытается совместно конструировать, выполнять работу по согласованию | GV8: работает в команде | GW8: старается работать совместно в команде | GX8: не получается работа в команде | GY8: преобразовывает | GZ8: старается преобразовывать | HA8: не старается преобразовывать | HB8: соблюдает правила безопасности на рабочем месте | HC8: старается соблюдать правила безопасности на рабочем месте | HD8: не соблюдает правила безопасности на рабочем месте | HE8: различает простые музыкальные жанры | HF8: пытается различать простые музыкальные жанры | HG8: не различает простые музыкальные жанры | HH8: исполняет | HI8: исполняет частично | HJ8: не старается исполнить | HK8: произносит текст песни четко, воспринимает и передает характер музыки | HL8: старается произносить текст песни четко, воспринимает и передает характер музыки | HM8: не произносит текст песни четко, воспринимает и передает характер музыки | HN8: выделяет отдельные фрагменты произведения | HO8: старается выделять отдельные фрагменты произведения | HP8: не выделяет отдельные фрагменты произведения | HQ8: играет простые мелодии на музыкальных инструментах | HR8: играет простые мелодии на музыкальных инструментах с интересом | HS8: не проявляет интерес при игре простых мелодий на музыкальных инструментах | HT8: самостоятельно и творчески исполняет песни различного характера | HU8: исполняет песни различного характера при помощи взрослого | HV8: не исполняет песни различного характера | HW8: выполняет движения в соответствии с характером музыки | HX8: старается выполняет движения в соответствии с характером музыки | HY8: не выполняет движения в соответствии с характером музыки | HZ8: верит в свои силы и возможности, понимает важность трудолюбия и ответственности | IA8: нет уверенности в своих возможностях, понимает важность трудолюбия и ответственности | IB8: не уверен в своих возможностях, не понимает важность трудолюбия и ответственности | IC8: понимает родственные связи, уважает старших, заботится о младших | ID8: частично понимает, проявляет знаки уважения и заботы | IE8: старается понять и выполнять | IF8: говорит осознанно, выражает свое мнение | IG8: передает частичное понимание, высказывает свое мнение | IH8: пытается высказать свое мнение, чтобы передать понимание | II8: знает | IJ8: частично знает | IK8: не знает | IL8: гордится, понимает важность | IM8: любит, понимает важность | IN8: стремится понять важность | IO8: наблюдает, понимает, знает | IP8: наблюдает, частично понимае, знаетт | IQ8: наблюдает, но не понимает | IR8: понимает и различает | IS8: понимает и различает частично | IT8: старается понимать и различать
A9: 1 | B9: Башурова Полина Артемовна | C9: 1 | F9: 1 | I9: 1 | L9: 1 | O9: 1 | R9: 1 | U9: 1 | X9: 1 | AA9: 1 | AD9: 1 | AG9: 1 | AJ9: 1 | AM9: 1 | AP9: 1 | AS9: 1 | AV9: 1 | AY9: 1 | BB9: 1 | BE9: 1 | BH9: 1 | BK9: 1 | BN9: 1 | BQ9: 1 | BT9: 1 | BW9: 1 | BZ9: 1 | CC9: 1 | CF9: 1 | CI9: 1 | CL9: 1 | CO9: 1 | CR9: 1 | CU9: 1 | CX9: 1 | DA9: 1 | DD9: 1 | DG9: 1 | DJ9: 1 | DM9: 1 | DP9: 1 | DS9: 1 | DV9: 1 | DY9: 1 | EB9: 1 | EE9: 1 | EH9: 1 | EK9: 1 | EN9: 1 | EQ9: 1 | ET9: 1 | EW9: 1 | EZ9: 1 | FC9: 1 | FF9: 1 | FI9: 1 | FL9: 1 | FO9: 1 | FR9: 1 | FU9: 1 | FX9: 1 | GA9: 1 | GD9: 1 | GG9: 1 | GJ9: 1 | GM9: 1 | GP9: 1 | GS9: 1 | GV9: 1 | GY9: 1 | HB9: 1 | HE9: 1 | HH9: 1 | HK9: 1 | HN9: 1 | HQ9: 1 | HT9: 1 | HW9: 1 | HZ9: 1 | IC9: 1 | IF9: 1 | II9: 1 | IL9: 1 | IO9: 1 | IR9: 1
A10: 2 | B10: Гагарина Мария Николаевна | C10: 1 | F10: 1 | I10: 1 | L10: 1 | O10: 1 | R10: 1 | U10: 1 | X10: 1 | AA10: 1 | AD10: 1 | AG10: 1 | AJ10: 1 | AM10: 1 | AP10: 1 | AS10: 1 | AV10: 1 | AY10: 1 | BB10: 1 | BE10: 1 | BH10: 1 | BK10: 1 | BN10: 1 | BQ10: 1 | BT10: 1 | BW10: 1 | BZ10: 1 | CC10: 1 | CF10: 1 | CI10: 1 | CL10: 1 | CO10: 1 | CR10: 1 | CU10: 1 | CX10: 1 | DA10: 1 | DD10: 1 | DG10: 1 | DJ10: 1 | DM10: 1 | DP10: 1 | DS10: 1 | DV10: 1 | DY10: 1 | EB10: 1 | EE10: 1 | EH10: 1 | EK10: 1 | EN10: 1 | EQ10: 1 | ET10: 1 | EW10: 1 | EZ10: 1 | FC10: 1 | FF10: 1 | FI10: 1 | FL10: 1 | FO10: 1 | FR10: 1 | FU10: 1 | FX10: 1 | GA10: 1 | GD10: 1 | GG10: 1 | GJ10: 1 | GM10: 1 | GP10: 1 | GS10: 1 | GV10: 1 | GY10: 1 | HB10: 1 | HE10: 1 | HH10: 1 | HK10: 1 | HN10: 1 | HQ10: 1 | HT10: 1 | HW10: 1 | HZ10: 1 | IC10: 1 | IF10: 1 | II10: 1 | IL10: 1 | IO10: 1 | IR10: 1
A11: 3 | B11: Кабылова Виктория Вадимовна | C11: 1 | F11: 1 | I11: 1 | L11: 1 | O11: 1 | R11: 1 | U11: 1 | X11: 1 | AA11: 1 | AD11: 1 | AG11: 1 | AJ11: 1 | AM11: 1 | AP11: 1 | AS11: 1 | AV11: 1 | AY11: 1 | BB11: 1 | BE11: 1 | BH11: 1 | BK11: 1 | BN11: 1 | BQ11: 1 | BT11: 1 | BW11: 1 | BZ11: 1 | CC11: 1 | CF11: 1 | CI11: 1 | CL11: 1 | CO11: 1 | CR11: 1 | CU11: 1 | CX11: 1 | DA11: 1 | DD11: 1 | DG11: 1 | DJ11: 1 | DM11: 1 | DP11: 1 | DS11: 1 | DV11: 1 | DY11: 1 | EB11: 1 | EE11: 1 | EH11: 1 | EK11: 1 | EN11: 1 | EQ11: 1 | ET11: 1 | EW11: 1 | EZ11: 1 | FC11: 1 | FF11: 1 | FI11: 1 | FL11: 1 | FO11: 1 | FR11: 1 | FU11: 1 | FX11: 1 | GA11: 1 | GD11: 1 | GG11: 1 | GJ11: 1 | GM11: 1 | GP11: 1 | GS11: 1 | GV11: 1 | GY11: 1 | HB11: 1 | HE11: 1 | HH11: 1 | HK11: 1 | HN11: 1 | HQ11: 1 | HT11: 1 | HW11: 1 | HZ11: 1 | IC11: 1 | IF11: 1 | II11: 1 | IL11: 1 | IO11: 1 | IR11: 1
A12: 4 | B12: Коваль Лилия Максимовна | C12: 1 | F12: 1 | I12: 1 | L12: 1 | O12: 1 | R12: 1 | U12: 1 | X12: 1 | AA12: 1 | AD12: 1 | AG12: 1 | AJ12: 1 | AM12: 1 | AP12: 1 | AS12: 1 | AV12: 1 | AY12: 1 | BB12: 1 | BE12: 1 | BH12: 1 | BK12: 1 | BN12: 1 | BQ12: 1 | BT12: 1 | BW12: 1 | BZ12: 1 | CC12: 1 | CF12: 1 | CI12: 1 | CL12: 1 | CO12: 1 | CR12: 1 | CU12: 1 | CX12: 1 | DA12: 1 | DD12: 1 | DG12: 1 | DJ12: 1 | DM12: 1 | DP12: 1 | DS12: 1 | DV12: 1 | DY12: 1 | EB12: 1 | EE12: 1 | EH12: 1 | EK12: 1 | EN12: 1 | EQ12: 1 | ET12: 1 | EW12: 1 | EZ12: 1 | FC12: 1 | FF12: 1 | FI12: 1 | FL12: 1 | FO12: 1 | FR12: 1 | FU12: 1 | FX12: 1 | GA12: 1 | GD12: 1 | GG12: 1 | GJ12: 1 | GM12: 1 | GP12: 1 | GS12: 1 | GV12: 1 | GY12: 1 | HB12: 1 | HE12: 1 | HH12: 1 | HK12: 1 | HN12: 1 | HQ12: 1 | HT12: 1 | HW12: 1 | HZ12: 1 | IC12: 1 | IF12: 1 | II12: 1 | IL12: 1 | IO12: 1 | IR12: 1
A13: 5 | B13: Калинина Вероника Евгеньевна | C13: 1 | F13: 1 | I13: 1 | L13: 1 | O13: 1 | R13: 1 | U13: 1 | X13: 1 | AA13: 1 | AD13: 1 | AG13: 1 | AJ13: 1 | AM13: 1 | AP13: 1 | AS13: 1 | AV13: 1 | AY13: 1 | BB13: 1 | BE13: 1 | BH13: 1 | BK13: 1 | BN13: 1 | BQ13: 1 | BT13: 1 | BW13: 1 | BZ13: 1 | CC13: 1 | CF13: 1 | CI13: 1 | CL13: 1 | CO13: 1 | CR13: 1 | CU13: 1 | CX13: 1 | DA13: 1 | DD13: 1 | DG13: 1 | DJ13: 1 | DM13: 1 | DP13: 1 | DS13: 1 | DV13: 1 | DY13: 1 | EB13: 1 | EE13: 1 | EH13: 1 | EK13: 1 | EN13: 1 | EQ13: 1 | ET13: 1 | EW13: 1 | EZ13: 1 | FC13: 1 | FF13: 1 | FI13: 1 | FL13: 1 | FO13: 1 | FR13: 1 | FU13: 1 | FX13: 1 | GA13: 1 | GD13: 1 | GG13: 1 | GJ13: 1 | GM13: 1 | GP13: 1 | GS13: 1 | GV13: 1 | GY13: 1 | HB13: 1 | HE13: 1 | HH13: 1 | HK13: 1 | HN13: 1 | HQ13: 1 | HT13: 1 | HW13: 1 | HZ13: 1 | IC13: 1 | IF13: 1 | II13: 1 | IL13: 1 | IO13: 1 | IR13: 1
A14: 6 | B14: Каруно Анна Сергеевна | C14: 1 | F14: 1 | I14: 1 | L14: 1 | O14: 1 | R14: 1 | U14: 1 | X14: 1 | AA14: 1 | AD14: 1 | AG14: 1 | AJ14: 1 | AM14: 1 | AP14: 1 | AS14: 1 | AV14: 1 | AY14: 1 | BB14: 1 | BE14: 1 | BH14: 1 | BK14: 1 | BN14: 1 | BQ14: 1 | BT14: 1 | BW14: 1 | BZ14: 1 | CC14: 1 | CF14: 1 | CI14: 1 | CL14: 1 | CO14: 1 | CR14: 1 | CU14: 1 | CX14: 1 | DA14: 1 | DD14: 1 | DG14: 1 | DJ14: 1 | DM14: 1 | DP14: 1 | DS14: 1 | DV14: 1 | DY14: 1 | EB14: 1 | EE14: 1 | EH14: 1 | EK14: 1 | EN14: 1 | EQ14: 1 | ET14: 1 | EW14: 1 | EZ14: 1 | FC14: 1 | FF14: 1 | FI14: 1 | FL14: 1 | FO14: 1 | FR14: 1 | FU14: 1 | FX14: 1 | GA14: 1 | GD14: 1 | GG14: 1 | GJ14: 1 | GM14: 1 | GP14: 1 | GS14: 1 | GV14: 1 | GY14: 1 | HB14: 1 | HE14: 1 | HH14: 1 | HK14: 1 | HN14: 1 | HQ14: 1 | HT14: 1 | HW14: 1 | HZ14: 1 | IC14: 1 | IF14: 1 | II14: 1 | IL14: 1 | IO14: 1 | IR14: 1
A15: 7 | B15: Касымова Севара Рустамовна | C15: 1 | F15: 1 | I15: 1 | L15: 1 | O15: 1 | R15: 1 | U15: 1 | X15: 1 | AA15: 1 | AD15: 1 | AG15: 1 | AJ15: 1 | AM15: 1 | AP15: 1 | AS15: 1 | AV15: 1 | AY15: 1 | BB15: 1 | BE15: 1 | BH15: 1 | BK15: 1 | BN15: 1 | BQ15: 1 | BT15: 1 | BW15: 1 | BZ15: 1 | CC15: 1 | CF15: 1 | CI15: 1 | CL15: 1 | CO15: 1 | CR15: 1 | CU15: 1 | CX15: 1 | DA15: 1 | DD15: 1 | DG15: 1 | DJ15: 1 | DM15: 1 | DP15: 1 | DS15: 1 | DV15: 1 | DY15: 1 | EB15: 1 | EE15: 1 | EH15: 1 | EK15: 1 | EN15: 1 | EQ15: 1 | ET15: 1 | EW15: 1 | EZ15: 1 | FC15: 1 | FF15: 1 | FI15: 1 | FL15: 1 | FO15: 1 | FR15: 1 | FU15: 1 | FX15: 1 | GA15: 1 | GD15: 1 | GG15: 1 | GJ15: 1 | GM15: 1 | GP15: 1 | GS15: 1 | GV15: 1 | GY15: 1 | HB15: 1 | HE15: 1 | HH15: 1 | HK15: 1 | HN15: 1 | HQ15: 1 | HT15: 1 | HW15: 1 | HZ15: 1 | IC15: 1 | IF15: 1 | II15: 1 | IL15: 1 | IO15: 1 | IR15: 1
A16: 8 | B16: Кисиль Дарина Александровна | C16: 1 | F16: 1 | I16: 1 | L16: 1 | O16: 1 | R16: 1 | U16: 1 | X16: 1 | AA16: 1 | AD16: 1 | AG16: 1 | AJ16: 1 | AM16: 1 | AP16: 1 | AS16: 1 | AV16: 1 | AY16: 1 | BB16: 1 | BE16: 1 | BH16: 1 | BK16: 1 | BN16: 1 | BQ16: 1 | BT16: 1 | BW16: 1 | BZ16: 1 | CC16: 1 | CF16: 1 | CI16: 1 | CL16: 1 | CO16: 1 | CR16: 1 | CU16: 1 | CX16: 1 | DA16: 1 | DD16: 1 | DG16: 1 | DJ16: 1 | DM16: 1 | DP16: 1 | DS16: 1 | DV16: 1 | DY16: 1 | EB16: 1 | EE16: 1 | EH16: 1 | EK16: 1 | EN16: 1 | EQ16: 1 | ET16: 1 | EW16: 1 | EZ16: 1 | FC16: 1 | FF16: 1 | FI16: 1 | FL16: 1 | FO16: 1 | FR16: 1 | FU16: 1 | FX16: 1 | GA16: 1 | GD16: 1 | GG16: 1 | GJ16: 1 | GM16: 1 | GP16: 1 | GS16: 1 | GV16: 1 | GY16: 1 | HB16: 1 | HE16: 1 | HH16: 1 | HK16: 1 | HN16: 1 | HQ16: 1 | HT16: 1 | HW16: 1 | HZ16: 1 | IC16: 1 | IF16: 1 | II16: 1 | IL16: 1 | IO16: 1 | IR16: 1
A17: 9 | B17: Мамаева Полина Дмитриевна | C17: 1 | F17: 1 | I17: 1 | L17: 1 | O17: 1 | R17: 1 | U17: 1 | Y17: 1 | AB17: 1 | AE17: 1 | AH17: 1 | AK17: 1 | AN17: 1 | AQ17: 1 | AT17: 1 | AW17: 1 | AZ17: 1 | BC17: 1 | BF17: 1 | BI17: 1 | BL17: 1 | BO17: 1 | BR17: 1 | BU17: 1 | BX17: 1 | CA17: 1 | CD17: 1 | CG17: 1 | CJ17: 1 | CM17: 1 | CP17: 1 | CS17: 1 | CV17: 1 | CY17: 1 | DB17: 1 | DD17: 1 | DG17: 1 | DJ17: 1 | DM17: 1 | DP17: 1 | DS17: 1 | DV17: 1 | DY17: 1 | EB17: 1 | EE17: 1 | EH17: 1 | EK17: 1 | EN17: 1 | EQ17: 1 | ET17: 1 | EW17: 1 | EZ17: 1 | FC17: 1 | FF17: 1 | FI17: 1 | FL17: 1 | FO17: 1 | FR17: 1 | FU17: 1 | FX17: 1 | GA17: 1 | GD17: 1 | GG17: 1 | GJ17: 1 | GM17: 1 | GP17: 1 | GS17: 1 | GV17: 1 | GY17: 1 | HB17: 1 | HE17: 1 | HH17: 1 | HK17: 1 | HN17: 1 | HQ17: 1 | HT17: 1 | HW17: 1 | HZ17: 1 | IC17: 1 | IF17: 1 | II17: 1 | IL17: 1 | IO17: 1 | IR17: 1
A18: 10 | B18: Маратова Венера Талгатовна | C18: 1 | F18: 1 | I18: 1 | L18: 1 | O18: 1 | R18: 1 | U18: 1 | Y18: 1 | AB18: 1 | AE18: 1 | AH18: 1 | AK18: 1 | AN18: 1 | AQ18: 1 | AT18: 1 | AW18: 1 | AZ18: 1 | BC18: 1 | BF18: 1 | BI18: 1 | BL18: 1 | BO18: 1 | BR18: 1 | BU18: 1 | BX18: 1 | CA18: 1 | CD18: 1 | CG18: 1 | CJ18: 1 | CM18: 1 | CP18: 1 | CS18: 1 | CV18: 1 | CY18: 1 | DB18: 1 | DE18: 1 | DH18: 1 | DK18: 1 | DN18: 1 | DQ18: 1 | DT18: 1 | DW18: 1 | DY18: 1 | EB18: 1 | EE18: 1 | EH18: 1 | EK18: 1 | EN18: 1 | EQ18: 1 | ET18: 1 | EW18: 1 | EZ18: 1 | FC18: 1 | FF18: 1 | FI18: 1 | FL18: 1 | FO18: 1 | FR18: 1 | FU18: 1 | FX18: 1 | GA18: 1 | GD18: 1 | GG18: 1 | GJ18: 1 | GM18: 1 | GP18: 1 | GS18: 1 | GV18: 1 | GY18: 1 | HB18: 1 | HE18: 1 | HH18: 1 | HK18: 1 | HN18: 1 | HQ18: 1 | HT18: 1 | HW18: 1 | IA18: 1 | ID18: 1 | IG18: 1 | IJ18: 1 | IM18: 1 | IP18: 1 | IS18: 1
A19: 11 | B19: Новикова Екатерина Денисовна | C19: 1 | F19: 1 | I19: 1 | L19: 1 | O19: 1 | R19: 1 | U19: 1 | Y19: 1 | AB19: 1 | AE19: 1 | AH19: 1 | AK19: 1 | AN19: 1 | AQ19: 1 | AT19: 1 | AW19: 1 | AZ19: 1 | BC19: 1 | BF19: 1 | BI19: 1 | BL19: 1 | BO19: 1 | BR19: 1 | BU19: 1 | BX19: 1 | CA19: 1 | CD19: 1 | CG19: 1 | CJ19: 1 | CM19: 1 | CP19: 1 | CS19: 1 | CV19: 1 | CY19: 1 | DB19: 1 | DE19: 1 | DH19: 1 | DK19: 1 | DN19: 1 | DQ19: 1 | DT19: 1 | DW19: 1 | DZ19: 1 | EC19: 1 | EF19: 1 | EI19: 1 | EL19: 1 | EO19: 1 | ER19: 1 | EU19: 1 | EX19: 1 | FA19: 1 | FD19: 1 | FG19: 1 | FJ19: 1 | FM19: 1 | FP19: 1 | FS19: 1 | FV19: 1 | FY19: 1 | GB19: 1 | GE19: 1 | GH19: 1 | GK19: 1 | GN19: 1 | GQ19: 1 | GT19: 1 | GW19: 1 | GZ19: 1 | HC19: 1 | HF19: 1 | HI19: 1 | HL19: 1 | HO19: 1 | HR19: 1 | HU19: 1 | HX19: 1 | IA19: 1 | ID19: 1 | IG19: 1 | IJ19: 1 | IM19: 1 | IP19: 1 | IS19: 1
A20: 12 | B20: Плужникова Арина Александровна | C20: 1 | F20: 1 | I20: 1 | L20: 1 | O20: 1 | R20: 1 | U20: 1 | X20: 1 | AA20: 1 | AD20: 1 | AG20: 1 | AJ20: 1 | AM20: 1 | AP20: 1 | AS20: 1 | AV20: 1 | AY20: 1 | BB20: 1 | BE20: 1 | BH20: 1 | BK20: 1 | BN20: 1 | BQ20: 1 | BT20: 1 | BW20: 1 | BZ20: 1 | CC20: 1 | CF20: 1 | CI20: 1 | CL20: 1 | CO20: 1 | CR20: 1 | CU20: 1 | CX20: 1 | DA20: 1 | DD20: 1 | DG20: 1 | DJ20: 1 | DM20: 1 | DP20: 1 | DS20: 1 | DV20: 1 | DY20: 1 | EB20: 1 | EE20: 1 | EH20: 1 | EK20: 1 | EN20: 1 | EQ20: 1 | ET20: 1 | EW20: 1 | EZ20: 1 | FC20: 1 | FF20: 1 | FI20: 1 | FL20: 1 | FO20: 1 | FR20: 1 | FU20: 1 | FX20: 1 | GA20: 1 | GD20: 1 | GG20: 1 | GJ20: 1 | GM20: 1 | GP20: 1 | GS20: 1 | GV20: 1 | GY20: 1 | HB20: 1 | HE20: 1 | HH20: 1 | HK20: 1 | HN20: 1 | HQ20: 1 | HT20: 1 | HW20: 1 | HZ20: 1 | IC20: 1 | IF20: 1 | II20: 1 | IL20: 1 | IO20: 1 | IR20: 1
A21: 13 | B21: Симбирцева Екатерина Алексеевна | C21: 1 | F21: 1 | I21: 1 | L21: 1 | O21: 1 | R21: 1 | U21: 1 | X21: 1 | AA21: 1 | AD21: 1 | AG21: 1 | AJ21: 1 | AM21: 1 | AP21: 1 | AS21: 1 | AV21: 1 | AY21: 1 | BB21: 1 | BE21: 1 | BH21: 1 | BK21: 1 | BN21: 1 | BQ21: 1 | BT21: 1 | BW21: 1 | BZ21: 1 | CC21: 1 | CF21: 1 | CI21: 1 | CL21: 1 | CO21: 1 | CR21: 1 | CU21: 1 | CX21: 1 | DA21: 1 | DD21: 1 | DG21: 1 | DJ21: 1 | DM21: 1 | DP21: 1 | DS21: 1 | DV21: 1 | DY21: 1 | EB21: 1 | EE21: 1 | EH21: 1 | EK21: 1 | EN21: 1 | EQ21: 1 | ET21: 1 | EW21: 1 | EZ21: 1 | FC21: 1 | FF21: 1 | FI21: 1 | FL21: 1 | FO21: 1 | FR21: 1 | FU21: 1 | FX21: 1 | GA21: 1 | GD21: 1 | GG21: 1 | GJ21: 1 | GM21: 1 | GP21: 1 | GS21: 1 | GV21: 1 | GY21: 1 | HB21: 1 | HE21: 1 | HH21: 1 | HK21: 1 | HN21: 1 | HQ21: 1 | HT21: 1 | HW21: 1 | HZ21: 1 | IC21: 1 | IF21: 1 | II21: 1 | IL21: 1 | IO21: 1 | IR21: 1
A22: 14 | B22: Сквирский Евгений Андреевич (инкл. РАС) | C22: 1 | F22: 1 | I22: 1 | L22: 1 | O22: 1 | R22: 1 | U22: 1 | Y22: 1 | AB22: 1 | AE22: 1 | AH22: 1 | AK22: 1 | AN22: 1 | AQ22: 1 | AT22: 1 | AW22: 1 | AZ22: 1 | BC22: 1 | BF22: 1 | BI22: 1 | BL22: 1 | BO22: 1 | BR22: 1 | BU22: 1 | BX22: 1 | CA22: 1 | CD22: 1 | CG22: 1 | CJ22: 1 | CM22: 1 | CP22: 1 | CS22: 1 | CV22: 1 | CY22: 1 | DB22: 1 | DE22: 1 | DH22: 1 | DK22: 1 | DN22: 1 | DQ22: 1 | DT22: 1 | DW22: 1 | DZ22: 1 | EC22: 1 | EF22: 1 | EI22: 1 | EL22: 1 | EO22: 1 | ER22: 1 | EU22: 1 | EX22: 1 | FA22: 1 | FD22: 1 | FG22: 1 | FJ22: 1 | FM22: 1 | FP22: 1 | FS22: 1 | FV22: 1 | FY22: 1 | GB22: 1 | GE22: 1 | GH22: 1 | GK22: 1 | GN22: 1 | GQ22: 1 | GT22: 1 | GW22: 1 | GZ22: 1 | HC22: 1 | HF22: 1 | HI22: 1 | HL22: 1 | HO22: 1 | HR22: 1 | HU22: 1 | HX22: 1 | IA22: 1 | ID22: 1 | IG22: 1 | IJ22: 1 | IM22: 1 | IP22: 1 | IS22: 1
A23: 15 | B23: Скородумов Евгений Сергеевич | C23: 1 | F23: 1 | I23: 1 | L23: 1 | O23: 1 | R23: 1 | U23: 1 | X23: 1 | AA23: 1 | AD23: 1 | AG23: 1 | AJ23: 1 | AM23: 1 | AP23: 1 | AS23: 1 | AV23: 1 | AY23: 1 | BB23: 1 | BE23: 1 | BH23: 1 | BK23: 1 | BN23: 1 | BQ23: 1 | BT23: 1 | BW23: 1 | BZ23: 1 | CC23: 1 | CF23: 1 | CI23: 1 | CL23: 1 | CO23: 1 | CR23: 1 | CU23: 1 | CX23: 1 | DA23: 1 | DD23: 1 | DG23: 1 | DJ23: 1 | DM23: 1 | DP23: 1 | DS23: 1 | DV23: 1 | DY23: 1 | EB23: 1 | EE23: 1 | EH23: 1 | EK23: 1 | EN23: 1 | EQ23: 1 | ET23: 1 | EW23: 1 | EZ23: 1 | FC23: 1 | FF23: 1 | FI23: 1 | FL23: 1 | FO23: 1 | FR23: 1 | FU23: 1 | FX23: 1 | GA23: 1 | GD23: 1 | GG23: 1 | GJ23: 1 | GM23: 1 | GP23: 1 | GS23: 1 | GV23: 1 | GY23: 1 | HB23: 1 | HE23: 1 | HH23: 1 | HK23: 1 | HN23: 1 | HQ23: 1 | HT23: 1 | HW23: 1 | HZ23: 1 | IC23: 1 | IF23: 1 | II23: 1 | IL23: 1 | IO23: 1 | IR23: 1
A24: 16 | B24: Уразбекова Ясмина Ержановна | C24: 1 | F24: 1 | I24: 1 | L24: 1 | O24: 1 | R24: 1 | U24: 1 | X24: 1 | AA24: 1 | AD24: 1 | AG24: 1 | AJ24: 1 | AM24: 1 | AP24: 1 | AS24: 1 | AV24: 1 | AY24: 1 | BB24: 1 | BE24: 1 | BH24: 1 | BK24: 1 | BN24: 1 | BQ24: 1 | BT24: 1 | BW24: 1 | BZ24: 1 | CC24: 1 | CF24: 1 | CI24: 1 | CL24: 1 | CO24: 1 | CR24: 1 | CU24: 1 | CX24: 1 | DA24: 1 | DD24: 1 | DG24: 1 | DJ24: 1 | DM24: 1 | DP24: 1 | DS24: 1 | DV24: 1 | DY24: 1 | EB24: 1 | EE24: 1 | EH24: 1 | EK24: 1 | EN24: 1 | EQ24: 1 | ET24: 1 | EW24: 1 | EZ24: 1 | FC24: 1 | FF24: 1 | FI24: 1 | FL24: 1 | FO24: 1 | FR24: 1 | FU24: 1 | FX24: 1 | GA24: 1 | GD24: 1 | GG24: 1 | GJ24: 1 | GM24: 1 | GP24: 1 | GS24: 1 | GV24: 1 | GY24: 1 | HB24: 1 | HE24: 1 | HH24: 1 | HK24: 1 | HN24: 1 | HQ24: 1 | HT24: 1 | HW24: 1 | HZ24: 1 | IC24: 1 | IF24: 1 | II24: 1 | IL24: 1 | IO24: 1 | IR24: 1
A25: 17 | B25: Халихан Амир | C25: 1 | F25: 1 | I25: 1 | L25: 1 | O25: 1 | R25: 1 | U25: 1 | X25: 1 | AA25: 1 | AD25: 1 | AG25: 1 | AJ25: 1 | AM25: 1 | AP25: 1 | AS25: 1 | AV25: 1 | AY25: 1 | BB25: 1 | BE25: 1 | BH25: 1 | BK25: 1 | BN25: 1 | BQ25: 1 | BT25: 1 | BW25: 1 | BZ25: 1 | CC25: 1 | CF25: 1 | CI25: 1 | CL25: 1 | CO25: 1 | CR25: 1 | CU25: 1 | CX25: 1 | DA25: 1 | DD25: 1 | DG25: 1 | DJ25: 1 | DM25: 1 | DP25: 1 | DS25: 1 | DV25: 1 | DY25: 1 | EB25: 1 | EE25: 1 | EH25: 1 | EK25: 1 | EN25: 1 | EQ25: 1 | ET25: 1 | EW25: 1 | EZ25: 1 | FC25: 1 | FF25: 1 | FI25: 1 | FL25: 1 | FO25: 1 | FR25: 1 | FU25: 1 | FX25: 1 | GA25: 1 | GD25: 1 | GG25: 1 | GJ25: 1 | GM25: 1 | GP25: 1 | GS25: 1 | GV25: 1 | GY25: 1 | HB25: 1 | HE25: 1 | HH25: 1 | HK25: 1 | HN25: 1 | HQ25: 1 | HT25: 1 | HW25: 1 | HZ25: 1 | IC25: 1 | IF25: 1 | II25: 1 | IL25: 1 | IO25: 1 | IR25: 1
A26: 18 | B26: Химич Тимофей Григорьевич | C26: 1 | F26: 1 | I26: 1 | L26: 1 | O26: 1 | R26: 1 | U26: 1 | X26: 1 | AA26: 1 | AD26: 1 | AG26: 1 | AJ26: 1 | AM26: 1 | AP26: 1 | AS26: 1 | AV26: 1 | AY26: 1 | BB26: 1 | BE26: 1 | BH26: 1 | BK26: 1 | BN26: 1 | BQ26: 1 | BT26: 1 | BW26: 1 | BZ26: 1 | CC26: 1 | CF26: 1 | CI26: 1 | CL26: 1 | CO26: 1 | CR26: 1 | CU26: 1 | CX26: 1 | DA26: 1 | DD26: 1 | DG26: 1 | DJ26: 1 | DM26: 1 | DP26: 1 | DS26: 1 | DV26: 1 | DY26: 1 | EB26: 1 | EE26: 1 | EH26: 1 | EK26: 1 | EN26: 1 | EQ26: 1 | ET26: 1 | EW26: 1 | EZ26: 1 | FC26: 1 | FF26: 1 | FI26: 1 | FL26: 1 | FO26: 1 | FR26: 1 | FU26: 1 | FX26: 1 | GA26: 1 | GD26: 1 | GG26: 1 | GJ26: 1 | GM26: 1 | GP26: 1 | GS26: 1 | GV26: 1 | GY26: 1 | HB26: 1 | HE26: 1 | HH26: 1 | HK26: 1 | HN26: 1 | HQ26: 1 | HT26: 1 | HW26: 1 | HZ26: 1 | IC26: 1 | IF26: 1 | II26: 1 | IL26: 1 | IO26: 1 | IR26: 1
A27: 19 | B27: Чеснокова Анна Петровна | C27: 1 | F27: 1 | I27: 1 | L27: 1 | O27: 1 | R27: 1 | U27: 1 | Y27: 1 | AB27: 1 | AE27: 1 | AH27: 1 | AK27: 1 | AN27: 1 | AQ27: 1 | AT27: 1 | AW27: 1 | AZ27: 1 | BC27: 1 | BF27: 1 | BI27: 1 | BL27: 1 | BO27: 1 | BR27: 1 | BU27: 1 | BX27: 1 | CA27: 1 | CD27: 1 | CG27: 1 | CJ27: 1 | CM27: 1 | CP27: 1 | CS27: 1 | CV27: 1 | CY27: 1 | DB27: 1 | DE27: 1 | DH27: 1 | DK27: 1 | DN27: 1 | DQ27: 1 | DT27: 1 | DW27: 1 | DZ27: 1 | EC27: 1 | EF27: 1 | EI27: 1 | EL27: 1 | EO27: 1 | ER27: 1 | EU27: 1 | EX27: 1 | FA27: 1 | FD27: 1 | FG27: 1 | FJ27: 1 | FM27: 1 | FP27: 1 | FS27: 1 | FV27: 1 | FY27: 1 | GB27: 1 | GE27: 1 | GH27: 1 | GK27: 1 | GN27: 1 | GQ27: 1 | GT27: 1 | GW27: 1 | GZ27: 1 | HC27: 1 | HF27: 1 | HI27: 1 | HL27: 1 | HO27: 1 | HR27: 1 | HU27: 1 | HX27: 1 | IA27: 1 | ID27: 1 | IG27: 1 | IJ27: 1 | IM27: 1 | IP27: 1 | IS27: 1
A28: 20 | B28: Юсупова Эмилия Руслановна | C28: 1 | F28: 1 | I28: 1 | L28: 1 | O28: 1 | R28: 1 | U28: 1 | X28: 1 | AA28: 1 | AD28: 1 | AG28: 1 | AJ28: 1 | AM28: 1 | AP28: 1 | AS28: 1 | AV28: 1 | AY28: 1 | BB28: 1 | BE28: 1 | BH28: 1 | BK28: 1 | BN28: 1 | BQ28: 1 | BT28: 1 | BW28: 1 | BZ28: 1 | CC28: 1 | CF28: 1 | CI28: 1 | CL28: 1 | CO28: 1 | CR28: 1 | CU28: 1 | CX28: 1 | DA28: 1 | DD28: 1 | DG28: 1 | DJ28: 1 | DM28: 1 | DP28: 1 | DS28: 1 | DV28: 1 | DY28: 1 | EB28: 1 | EE28: 1 | EH28: 1 | EK28: 1 | EN28: 1 | EQ28: 1 | ET28: 1 | EW28: 1 | EZ28: 1 | FC28: 1 | FF28: 1 | FI28: 1 | FL28: 1 | FO28: 1 | FR28: 1 | FU28: 1 | FX28: 1 | GA28: 1 | GD28: 1 | GG28: 1 | GJ28: 1 | GM28: 1 | GP28: 1 | GS28: 1 | GV28: 1 | GY28: 1 | HB28: 1 | HE28: 1 | HH28: 1 | HK28: 1 | HN28: 1 | HQ28: 1 | HT28: 1 | HW28: 1 | HZ28: 1 | IC28: 1 | IF28: 1 | II28: 1 | IL28: 1 | IO28: 1 | IR28: 1
A29: 21
A30: 22
A31: 23
A32: 24
A33: 25
A34: 26
A35: 27
A36: 28
A37: 29
A38: 30
A39: 31
A40: 32
... A43: 35
A44: Всего, N | C44: =SUM(C9:C43) -> 20 | D44: =SUM(D9:D43) -> 0 | E44: =SUM(E9:E43) -> 0 | F44: =SUM(F9:F43) -> 20 | G44: =SUM(G9:G43) -> 0 | H44: =SUM(H9:H43) -> 0 | I44: =SUM(I9:I43) -> 20 | J44: =SUM(J9:J43) -> 0 | ... IT44: =SUM(IT9:IT43) -> 0
A45: Достижение детьми и педагогом ожидаемых результатов | C45: =IFERROR(C44/SUM(IU46:IU80)%," ") -> 100 | D45: =D44/SUM(IU46:IU80)% -> 0 | E45: =E44/SUM(IU46:IU80)% -> 0 | F45: =F44/SUM(IU46:IU80)% -> 100 | G45: =G44/SUM(IU46:IU80)% -> 0 | H45: =H44/SUM(IU46:IU80)% -> 0 | I45: =I44/SUM(IU46:IU80)% -> 100 | J45: =J44/SUM(IU46:IU80)% -> 0 | K45: =K44/SUM(IU46:IU80)% -> 0 | L45: =L44/SUM(IU46:IU80)% -> 100 | M45: =M44/SUM(IU46:IU80)% -> 0 | N45: =N44/SUM(IU46:IU80)% -> 0 | O45: =O44/SUM(IU46:IU80)% -> 100 | P45: =P44/SUM(IU46:IU80)% -> 0 | Q45: =Q44/SUM(IU46:IU80)% -> 0 | R45: =R44/SUM(IU46:IU80)% -> 100 | S45: =S44/SUM(IU46:IU80)% -> 0 | T45: =T44/SUM(IU46:IU80)% -> 0 | U45: =U44/SUM(IU46:IU80)% -> 100 | V45: =V44/SUM(IU46:IU80)% -> 0 | W45: =W44/SUM(IU46:IU80)% -> 0 | X45: =X44/SUM(IU46:IU80)% -> 75 | Y45: =Y44/SUM(IU46:IU80)% -> 25 | Z45: =Z44/SUM(IU46:IU80)% -> 0 | AA45: =AA44/SUM(IU46:IU80)% -> 75 | AB45: =AB44/SUM(IU46:IU80)% -> 25 | AC45: =AC44/SUM(IU46:IU80)% -> 0 | AD45: =AD44/SUM(IU46:IU80)% -> 75 | AE45: =AE44/SUM(IU46:IU80)% -> 25 | AF45: =AF44/SUM(IU46:IU80)% -> 0 | AG45: =AG44/SUM(IU46:IU80)% -> 75 | AH45: =AH44/SUM(IU46:IU80)% -> 25 | AI45: =AI44/SUM(IU46:IU80)% -> 0 | AJ45: =AJ44/SUM(IU46:IU80)% -> 75 | AK45: =AK44/SUM(IU46:IU80)% -> 25 | AL45: =AL44/SUM(IU46:IU80)% -> 0 | AM45: =AM44/SUM(IU46:IU80)% -> 75 | AN45: =AN44/SUM(IU46:IU80)% -> 25 | AO45: =AO44/SUM(IU46:IU80)% -> 0 | AP45: =AP44/SUM(IU46:IU80)% -> 75 | AQ45: =AQ44/SUM(IU46:IU80)% -> 25 | AR45: =AR44/SUM(IU46:IU80)% -> 0 | AS45: =AS44/SUM(IU46:IU80)% -> 75 | AT45: =AT44/SUM(IU46:IU80)% -> 25 | AU45: =AU44/SUM(IU46:IU80)% -> 0 | AV45: =AV44/SUM(IU46:IU80)% -> 75 | AW45: =AW44/SUM(IU46:IU80)% -> 25 | AX45: =AX44/SUM(IU46:IU80)% -> 0 | AY45: =AY44/SUM(IU46:IU80)% -> 75 | AZ45: =AZ44/SUM(IU46:IU80)% -> 25 | BA45: =BA44/SUM(IU46:IU80)% -> 0 | BB45: =BB44/SUM(IU46:IU80)% -> 75 | BC45: =BC44/SUM(IU46:IU80)% -> 25 | BD45: =BD44/SUM(IU46:IU80)% -> 0 | BE45: =BE44/SUM(IU46:IU80)% -> 75 | BF45: =BF44/SUM(IU46:IU80)% -> 25 | BG45: =BG44/SUM(IU46:IU80)% -> 0 | BH45: =BH44/SUM(IU46:IU80)% -> 75 | BI45: =BI44/SUM(IU46:IU80)% -> 25 | BJ45: =BJ44/SUM(IU46:IU80)% -> 0 | BK45: =BK44/SUM(IU46:IU80)% -> 75 | BL45: =BL44/SUM(IU46:IU80)% -> 25 | BM45: =BM44/SUM(IU46:IU80)% -> 0 | BN45: =BN44/SUM(IU46:IU80)% -> 75 | BO45: =BO44/SUM(IU46:IU80)% -> 25 | BP45: =BP44/SUM(IU46:IU80)% -> 0 | BQ45: =BQ44/SUM(IU46:IU80)% -> 75 | BR45: =BR44/SUM(IU46:IU80)% -> 25 | BS45: =BS44/SUM(IU46:IU80)% -> 0 | BT45: =BT44/SUM(IU46:IU80)% -> 75 | BU45: =BU44/SUM(IU46:IU80)% -> 25 | BV45: =BV44/SUM(IU46:IU80)% -> 0 | BW45: =BW44/SUM(IU46:IU80)% -> 75 | BX45: =BX44/SUM(IU46:IU80)% -> 25 | BY45: =BY44/SUM(IU46:IU80)% -> 0 | BZ45: =BZ44/SUM(IU46:IU80)% -> 75 | CA45: =CA44/SUM(IU46:IU80)% -> 25 | CB45: =CB44/SUM(IU46:IU80)% -> 0 | CC45: =CC44/SUM(IU46:IU80)% -> 75 | CD45: =CD44/SUM(IU46:IU80)% -> 25 | CE45: =CE44/SUM(IU46:IU80)% -> 0 | CF45: =CF44/SUM(IU46:IU80)% -> 75 | CG45: =CG44/SUM(IU46:IU80)% -> 25 | CH45: =CH44/SUM(IU46:IU80)% -> 0 | CI45: =CI44/SUM(IU46:IU80)% -> 75 | CJ45: =CJ44/SUM(IU46:IU80)% -> 25 | CK45: =CK44/SUM(IU46:IU80)% -> 0 | CL45: =CL44/SUM(IU46:IU80)% -> 75 | CM45: =CM44/SUM(IU46:IU80)% -> 25 | CN45: =CN44/SUM(IU46:IU80)% -> 0 | CO45: =CO44/SUM(IU46:IU80)% -> 75 | CP45: =CP44/SUM(IU46:IU80)% -> 25 | CQ45: =CQ44/SUM(IU46:IU80)% -> 0 | CR45: =CR44/SUM(IU46:IU80)% -> 75 | CS45: =CS44/SUM(IU46:IU80)% -> 25 | CT45: =CT44/SUM(IU46:IU80)% -> 0 | CU45: =CU44/SUM(IU46:IU80)% -> 75 | CV45: =CV44/SUM(IU46:IU80)% -> 25 | CW45: =CW44/SUM(IU46:IU80)% -> 0 | CX45: =CX44/SUM(IU46:IU80)% -> 75 | CY45: =CY44/SUM(IU46:IU80)% -> 25 | CZ45: =CZ44/SUM(IU46:IU80)% -> 0 | DA45: =DA44/SUM(IU46:IU80)% -> 75 | DB45: =DB44/SUM(IU46:IU80)% -> 25 | DC45: =DC44/SUM(IU46:IU80)% -> 0 | DD45: =DD44/SUM(IU46:IU80)% -> 80 | DE45: =DE44/SUM(IU46:IU80)% -> 20 | DF45: =DF44/SUM(IU46:IU80)% -> 0 | DG45: =DG44/SUM(IU46:IU80)% -> 80 | DH45: =DH44/SUM(IU46:IU80)% -> 20 | DI45: =DI44/SUM(IU46:IU80)% -> 0 | DJ45: =DJ44/SUM(IU46:IU80)% -> 80 | DK45: =DK44/SUM(IU46:IU80)% -> 20 | DL45: =DL44/SUM(IU46:IU80)% -> 0 | DM45: =DM44/SUM(IU46:IU80)% -> 80 | DN45: =DN44/SUM(IU46:IU80)% -> 20 | DO45: =DO44/SUM(IU46:IU80)% -> 0 | DP45: =DP44/SUM(IU46:IU80)% -> 80 | DQ45: =DQ44/SUM(IU46:IU80)% -> 20 | DR45: =DR44/SUM(IU46:IU80)% -> 0 | DS45: =DS44/SUM(IU46:IU80)% -> 80 | DT45: =DT44/SUM(IU46:IU80)% -> 20 | DU45: =DU44/SUM(IU46:IU80)% -> 0 | DV45: =DV44/SUM(IU46:IU80)% -> 80 | DW45: =DW44/SUM(IU46:IU80)% -> 20 | DX45: =DX44/SUM(IU46:IU80)% -> 0 | DY45: =DY44/SUM(IU46:IU80)% -> 85 | DZ45: =DZ44/SUM(IU46:IU80)% -> 15 | EA45: =EA44/SUM(IU46:IU80)% -> 0 | EB45: =EB44/SUM(IU46:IU80)% -> 85 | EC45: =EC44/SUM(IU46:IU80)% -> 15 | ED45: =ED44/SUM(IU46:IU80)% -> 0 | EE45: =EE44/SUM(IU46:IU80)% -> 85 | EF45: =EF44/SUM(IU46:IU80)% -> 15 | EG45: =EG44/SUM(IU46:IU80)% -> 0 | EH45: =EH44/SUM(IU46:IU80)% -> 85 | EI45: =EI44/SUM(IU46:IU80)% -> 15 | EJ45: =EJ44/SUM(IU46:IU80)% -> 0 | EK45: =EK44/SUM(IU46:IU80)% -> 85 | EL45: =EL44/SUM(IU46:IU80)% -> 15 | EM45: =EM44/SUM(IU46:IU80)% -> 0 | EN45: =EN44/SUM(IU46:IU80)% -> 85 | EO45: =EO44/SUM(IU46:IU80)% -> 15 | EP45: =EP44/SUM(IU46:IU80)% -> 0 | EQ45: =EQ44/SUM(IU46:IU80)% -> 85 | ER45: =ER44/SUM(IU46:IU80)% -> 15 | ES45: =ES44/SUM(IU46:IU80)% -> 0 | ET45: =ET44/SUM(IU46:IU80)% -> 85 | EU45: =EU44/SUM(IU46:IU80)% -> 15 | EV45: =EV44/SUM(IU46:IU80)% -> 0 | EW45: =EW44/SUM(IU46:IU80)% -> 85 | EX45: =EX44/SUM(IU46:IU80)% -> 15 | EY45: =EY44/SUM(IU46:IU80)% -> 0 | EZ45: =EZ44/SUM(IU46:IU80)% -> 85 | FA45: =FA44/SUM(IU46:IU80)% -> 15 | FB45: =FB44/SUM(IU46:IU80)% -> 0 | FC45: =FC44/SUM(IU46:IU80)% -> 85 | FD45: =FD44/SUM(IU46:IU80)% -> 15 | FE45: =FE44/SUM(IU46:IU80)% -> 0 | FF45: =FF44/SUM(IU46:IU80)% -> 85 | FG45: =FG44/SUM(IU46:IU80)% -> 15 | FH45: =FH44/SUM(IU46:IU80)% -> 0 | FI45: =FI44/SUM(IU46:IU80)% -> 85 | FJ45: =FJ44/SUM(IU46:IU80)% -> 15 | FK45: =FK44/SUM(IU46:IU80)% -> 0 | FL45: =FL44/SUM(IU46:IU80)% -> 85 | FM45: =FM44/SUM(IU46:IU80)% -> 15 | FN45: =FN44/SUM(IU46:IU80)% -> 0 | FO45: =FO44/SUM(IU46:IU80)% -> 85 | FP45: =FP44/SUM(IU46:IU80)% -> 15 | FQ45: =FQ44/SUM(IU46:IU80)% -> 0 | FR45: =FR44/SUM(IU46:IU80)% -> 85 | FS45: =FS44/SUM(IU46:IU80)% -> 15 | FT45: =FT44/SUM(IU46:IU80)% -> 0 | FU45: =FU44/SUM(IU46:IU80)% -> 85 | FV45: =FV44/SUM(IU46:IU80)% -> 15 | FW45: =FW44/SUM(IU46:IU80)% -> 0 | FX45: =FX44/SUM(IU46:IU80)% -> 85 | FY45: =FY44/SUM(IU46:IU80)% -> 15 | FZ45: =FZ44/SUM(IU46:IU80)% -> 0 | GA45: =GA44/SUM(IU46:IU80)% -> 85 | GB45: =GB44/SUM(IU46:IU80)% -> 15 | GC45: =GC44/SUM(IU46:IU80)% -> 0 | GD45: =GD44/SUM(IU46:IU80)% -> 85 | GE45: =GE44/SUM(IU46:IU80)% -> 15 | GF45: =GF44/SUM(IU46:IU80)% -> 0 | GG45: =GG44/SUM(IU46:IU80)% -> 85 | GH45: =GH44/SUM(IU46:IU80)% -> 15 | GI45: =GI44/SUM(IU46:IU80)% -> 0 | GJ45: =GJ44/SUM(IU46:IU80)% -> 85 | GK45: =GK44/SUM(IU46:IU80)% -> 15 | GL45: =GL44/SUM(IU46:IU80)% -> 0 | GM45: =GM44/SUM(IU46:IU80)% -> 85 | GN45: =GN44/SUM(IU46:IU80)% -> 15 | GO45: =GO44/SUM(IU46:IU80)% -> 0 | GP45: =GP44/SUM(IU46:IU80)% -> 85 | GQ45: =GQ44/SUM(IU46:IU80)% -> 15 | GR45: =GR44/SUM(IU46:IU80)% -> 0 | GS45: =GS44/SUM(IU46:IU80)% -> 85 | GT45: =GT44/SUM(IU46:IU80)% -> 15 | GU45: =GU44/SUM(IU46:IU80)% -> 0 | GV45: =GV44/SUM(IU46:IU80)% -> 85 | GW45: =GW44/SUM(IU46:IU80)% -> 15 | GX45: =GX44/SUM(IU46:IU80)% -> 0 | GY45: =GY44/SUM(IU46:IU80)% -> 85 | GZ45: =GZ44/SUM(IU46:IU80)% -> 15 | HA45: =HA44/SUM(IU46:IU80)% -> 0 | HB45: =HB44/SUM(IU46:IU80)% -> 85 | HC45: =HC44/SUM(IU46:IU80)% -> 15 | HD45: =HD44/SUM(IU46:IU80)% -> 0 | HE45: =HE44/SUM(IU46:IU80)% -> 85 | HF45: =HF44/SUM(IU46:IU80)% -> 15 | HG45: =HG44/SUM(IU46:IU80)% -> 0 | HH45: =HH44/SUM(IU46:IU80)% -> 85 | HI45: =HI44/SUM(IU46:IU80)% -> 15 | HJ45: =HJ44/SUM(IU46:IU80)% -> 0 | HK45: =HK44/SUM(IU46:IU80)% -> 85 | HL45: =HL44/SUM(IU46:IU80)% -> 15 | HM45: =HM44/SUM(IU46:IU80)% -> 0 | HN45: =HN44/SUM(IU46:IU80)% -> 85 | HO45: =HO44/SUM(IU46:IU80)% -> 15 | HP45: =HP44/SUM(IU46:IU80)% -> 0 | HQ45: =HQ44/SUM(IU46:IU80)% -> 85 | HR45: =HR44/SUM(IU46:IU80)% -> 15 | HS45: =HS44/SUM(IU46:IU80)% -> 0 | HT45: =HT44/SUM(IU46:IU80)% -> 85 | HU45: =HU44/SUM(IU46:IU80)% -> 15 | HV45: =HV44/SUM(IU46:IU80)% -> 0 | HW45: =HW44/SUM(IU46:IU80)% -> 85 | HX45: =HX44/SUM(IU46:IU80)% -> 15 | HY45: =HY44/SUM(IU46:IU80)% -> 0 | HZ45: =HZ44/SUM(IU46:IU80)% -> 80 | IA45: =IA44/SUM(IU46:IU80)% -> 20 | IB45: =IB44/SUM(IU46:IU80)% -> 0 | IC45: =IC44/SUM(IU46:IU80)% -> 80 | ID45: =ID44/SUM(IU46:IU80)% -> 20 | IE45: =IE44/SUM(IU46:IU80)% -> 0 | IF45: =IF44/SUM(IU46:IU80)% -> 80 | IG45: =IG44/SUM(IU46:IU80)% -> 20 | IH45: =IH44/SUM(IU46:IU80)% -> 0 | II45: =II44/SUM(IU46:IU80)% -> 80 | IJ45: =IJ44/SUM(IU46:IU80)% -> 20 | IK45: =IK44/SUM(IU46:IU80)% -> 0 | IL45: =IL44/SUM(IU46:IU80)% -> 80 | IM45: =IM44/SUM(IU46:IU80)% -> 20 | IN45: =IN44/SUM(IU46:IU80)% -> 0 | IO45: =IO44/SUM(IU46:IU80)% -> 80 | IP45: =IP44/SUM(IU46:IU80)% -> 20 | IQ45: =IQ44/SUM(IU46:IU80)% -> 0 | IR45: =IR44/SUM(IU46:IU80)% -> 80 | IS45: =IS44/SUM(IU46:IU80)% -> 20 | IT45: =IT44/SUM(IU46:IU80)% -> 0
IU46: =IF(ISBLANK(B9),,1) -> 1
B47: ЕСКЕРТУ | IU47: =IF(ISBLANK(B10),,1) -> 1
B48: Высокий | C48: 5-Ф | D48: =E48/100*(SUM(IU46:IU80)) -> 20 | E48: =(C45+F45+I45+L45+O45+R45+U45)/7 -> 100 | IU48: =IF(ISBLANK(B11),,1) -> 1
B49: Средний | C49: 5-Ф | D49: =E49/100*(SUM(IU46:IU80)) -> 0 | E49: =(D45+G45+J45+M45+P45+S45+V45)/7 -> 0 | IU49: =IF(ISBLANK(B12),,1) -> 1
B50: Низкий | C50: 5-Ф | D50: =E50/100*(SUM(IU46:IU80)) -> 0 | E50: =(E45+H45+K45+N45+Q45+T45+W45)/7 -> 0 | IU50: =IF(ISBLANK(B13),,1) -> 1
D51: =SUM(D48:D50) -> 20 | E51: =SUM(E48:E50) -> 100 | IU51: =IF(ISBLANK(B14),,1) -> 1
D52: Развитие речи | F52: Художественная литература | H52: Основы грамоты | J52: Казахский язык | IU52: =IF(ISBLANK(B15),,1) -> 1
B53: Высокий | C53: 5-К | D53: =E53/100*(SUM(IU46:IU80)) -> 15 | E53: =(X45+AA45+AD45+AG45+AJ45+AM45+AP45)/7 -> 75 | F53: =G53/100*(SUM(IU46:IU80)) -> 15 | G53: =(AS45+AV45+AY45+BB45+BE45+BH45+BK45)/7 -> 75 | H53: =I53/100*(SUM(IU46:IU80)) -> 15 | I53: =(BN45+BQ45+BT45+BW45+BZ45+CC45+CF45)/7 -> 75 | J53: =K53/100*(SUM(IU46:IU80)) -> 15 | K53: =(CI45+CL45+CO45+CR45+CU45+CX45+DA45)/7 -> 75 | IU53: =IF(ISBLANK(B16),,1) -> 1
B54: Средний | C54: 5-К | D54: =E54/100*(SUM(IU46:IU80)) -> 5 | E54: =(Y45+AB45+AE45+AH45+AK45+AN45+AQ45)/7 -> 25 | F54: =G54/100*(SUM(IU46:IU80)) -> 5 | G54: =(AT45+AW45+AZ45+BC45+BF45+BI45+BL45)/7 -> 25 | H54: =I54/100*(SUM(IU46:IU80)) -> 5 | I54: =(BO45+BR45+BU45+BX45+CA45+CD45+CG45)/7 -> 25 | J54: =K54/100*(SUM(IU46:IU80)) -> 5 | K54: =(CJ45+CM45+CP45+CS45+CV45+CY45+DB45)/7 -> 25 | IU54: =IF(ISBLANK(B17),,1) -> 1
B55: Низкий | C55: 5-К | D55: =E55/100*(SUM(IU46:IU80)) -> 0 | E55: =(Z45+AC45+AF45+AI45+AL45+AO45+AR45)/7 -> 0 | F55: =G55/100*(SUM(IU46:IU80)) -> 0 | G55: =(AU45+AX45+BA45+BD45+BG45+BJ45+BM45)/7 -> 0 | H55: =I55/100*(SUM(IU46:IU80)) -> 0 | I55: =(BP45+BS45+BV45+BY45+CB45+CE45+CH45)/7 -> 0 | J55: =K55/100*(SUM(IU46:IU80)) -> 0 | K55: =(CK45+CN45+CQ45+CT45+CW45+CZ45+DC45)/7 -> 0 | IU55: =IF(ISBLANK(B18),,1) -> 1
D56: =SUM(D53:D55) -> 20 | E56: =SUM(E53:E55) -> 100 | F56: =SUM(F53:F55) -> 20 | G56: =SUM(G53:G55) -> 100 | H56: =SUM(H53:H55) -> 20 | I56: =SUM(I53:I55) -> 100 | J56: =SUM(J53:J55) -> 20 | K56: =SUM(K53:K55) -> 100 | IU56: =IF(ISBLANK(B19),,1) -> 1
B57: Высокий | C57: 5-П | D57: =E57/100*(SUM(IU46:IU80)) -> 16 | E57: =(DD45+DG45+DJ45+DM45+DP45+DS45+DV45)/7 -> 80 | IU57: =IF(ISBLANK(B20),,1) -> 1
B58: Средний | C58: 5-П | D58: =E58/100*(SUM(IU46:IU80)) -> 4 | E58: =(DE45+DH45+DK45+DN45+DQ45+DT45+DW45)/7 -> 20 | IU58: =IF(ISBLANK(B21),,1) -> 1
B59: Низкий | C59: 5-П | D59: =E59/100*(SUM(IU46:IU80)) -> 0 | E59: =(DF45+DI45+DL45+DO45+DR45+DU45+DX45)/7 -> 0 | IU59: =IF(ISBLANK(B22),,1) -> 1
D60: =SUM(D57:D59) -> 20 | E60: =SUM(E57:E59) -> 100 | IU60: =IF(ISBLANK(B23),,1) -> 1
D61: Рисование | F61: Лепка | H61: Аппликация | J61: Конструирование | L61: Музыка | IU61: =IF(ISBLANK(B24),,1) -> 1
B62: Высокий | C62: 5-Т | D62: =E62/100*(SUM(IU46:IU80)) -> 17 | E62: =(DY45+EB45+EE45+EH45+EK45+EN45+EQ45)/7 -> 85 | F62: =G62/100*(SUM(IU46:IU80)) -> 17 | G62: =(ET45+EW45+EZ45+FC45+FF45+FI45+FL45)/7 -> 85 | H62: =I62/100*(SUM(IU46:IU80)) -> 17 | I62: =(FO45+FR45+FU45+FX45+GA45+GD45+GG45)/7 -> 85 | J62: =K62/100*(SUM(IU46:IU80)) -> 17 | K62: =(GJ45+GM45+GP45+GS45+GV45+GY45+HB45)/7 -> 85 | L62: =M62/100*(SUM(IU46:IU80)) -> 17 | M62: =(HE45+HH45+HK45+HN45+HQ45+HT45+HW45)/7 -> 85 | IU62: =IF(ISBLANK(B25),,1) -> 1
B63: Средний | C63: 5-Т | D63: =E63/100*(SUM(IU46:IU80)) -> 3 | E63: =(DZ45+EC45+EF45+EI45+EL45+EO45+ER45)/7 -> 15 | F63: =G63/100*(SUM(IU46:IU80)) -> 3 | G63: =(EU45+EX45+FA45+FD45+FG45+FJ45+FM45)/7 -> 15 | H63: =I63/100*(SUM(IU46:IU80)) -> 3 | I63: =(FP45+FS45+FV45+FY45+GB45+GE45+GH45)/7 -> 15 | J63: =K63/100*(SUM(IU46:IU80)) -> 3 | K63: =(GK45+GN45+GQ45+GT45+GW45+GZ45+HC45)/7 -> 15 | L63: =M63/100*(SUM(IU46:IU80)) -> 3 | M63: =(HF45+HI45+HL45+HO45+HR45+HU45+HX45)/7 -> 15 | IU63: =IF(ISBLANK(B26),,1) -> 1
B64: Низкий | C64: 5-Т | D64: =E64/100*(SUM(IU46:IU80)) -> 0 | E64: =(EA45+ED45+EG45+EJ45+EM45+EP45+ES45)/7 -> 0 | F64: =G64/100*(SUM(IU46:IU80)) -> 0 | G64: =(EV45+EY45+FB45+FE45+FH45+FK45+FN45)/7 -> 0 | H64: =I64/100*(SUM(IU46:IU80)) -> 0 | I64: =(FQ45+FT45+FW45+FZ45+GC45+GF45+GI45)/7 -> 0 | J64: =K64/100*(SUM(IU46:IU80)) -> 0 | K64: =(GL45+GO45+GR45+GU45+GX45+HA45+HD45)/7 -> 0 | L64: =M64/100*(SUM(IU46:IU80)) -> 0 | M64: =(HG45+HJ45+HM45+HP45+HS45+HV45+HY45)/7 -> 0 | IU64: =IF(ISBLANK(B27),,1) -> 1
D65: =SUM(D62:D64) -> 20 | E65: =SUM(E62:E64) -> 100 | F65: =SUM(F62:F64) -> 20 | G65: =SUM(G62:G64) -> 100 | H65: =SUM(H62:H64) -> 20 | I65: =SUM(I62:I64) -> 100 | J65: =SUM(J62:J64) -> 20 | K65: =SUM(K62:K64) -> 100 | ... M65: =SUM(M62:M64) -> 100 | IU65: =IF(ISBLANK(B28),,1) -> 1
B66: Высокий | C66: 5-С | D66: =E66/100*(SUM(IU46:IU80)) -> 16 | E66: =(HZ45+IC45+IF45+II45+IL45+IO45+IR45)/7 -> 80 | IU66: =IF(ISBLANK(B29),,1) -> 0
B67: Средний | C67: 5-С | D67: =E67/100*(SUM(IU46:IU80)) -> 4 | E67: =(IA45+ID45+IG45+IJ45+IM45+IP45+IS45)/7 -> 20 | IU67: =IF(ISBLANK(B30),,1) -> 0
B68: Низкий | C68: 5-С | D68: =E68/100*(SUM(IU46:IU80)) -> 0 | E68: =(IB45+IE45+IH45+IK45+IN45+IQ45+IT45)/7 -> 0 | IU68: =IF(ISBLANK(B31),,1) -> 0
D69: =SUM(D66:D68) -> 20 | E69: =SUM(E66:E68) -> 100 | IU69: =IF(ISBLANK(B32),,1) -> 0
IU70: =IF(ISBLANK(B33),,1) -> 0
IU71: =IF(ISBLANK(B34),,1) -> 0
IU72: =IF(ISBLANK(B35),,1) -> 0
IU73: =IF(ISBLANK(B36),,1) -> 0
IU74: =IF(ISBLANK(B37),,1) -> 0
IU75: =IF(ISBLANK(B38),,1) -> 0
IU76: =IF(ISBLANK(B39),,1) -> 0
IU77: =IF(ISBLANK(B40),,1) -> 0
IU78: =IF(ISBLANK(B41),,1) -> 0
IU79: =IF(ISBLANK(B42),,1) -> 0
IU80: =IF(ISBLANK(B43),,1) -> 0

Sheet Диаграмма
B1: Сравнительный мониторинг уровня знания и образования предшкольного группы на период 2023-2024 учебного года
B3: Процентный показатель
B4: Уровень | C4: Физическая культура | D4: Развитие речи | E4: Художественная литература | F4: Основы грамоты | G4: Казахский язык | H4: Основы математики | I4: Рисование | J4: Развитие творческих навыков, исследовательской деятельности детей | K4: Аппликация | L4: Конструирование | M4: Музыка | N4: Ознакомление с окружающим миром
B5: Высокий | C5: ='предшкольный класс'!E48 -> 100 | D5: ='предшкольный класс'!E53 -> 75 | E5: ='предшкольный класс'!G53 -> 75 | F5: ='предшкольный класс'!I53 -> 75 | G5: ='предшкольный класс'!K53 -> 75 | H5: ='предшкольный класс'!E57 -> 80 | I5: ='предшкольный класс'!E62 -> 85 | J5: ='предшкольный класс'!G62 -> 85 | K5: ='предшкольный класс'!I62 -> 85 | L5: ='предшкольный класс'!K62 -> 85 | M5: ='предшкольный класс'!M62 -> 85 | N5: ='предшкольный класс'!E66 -> 80
B6: Средний | C6: ='предшкольный класс'!E49 -> 0 | D6: ='предшкольный класс'!E54 -> 25 | E6: ='предшкольный класс'!G54 -> 25 | F6: ='предшкольный класс'!I54 -> 25 | G6: ='предшкольный класс'!K54 -> 25 | H6: ='предшкольный класс'!E58 -> 20 | I6: ='предшкольный класс'!E63 -> 15 | J6: ='предшкольный класс'!G63 -> 15 | K6: ='предшкольный класс'!I63 -> 15 | L6: ='предшкольный класс'!K63 -> 15 | M6: ='предшкольный класс'!M63 -> 15 | N6: ='предшкольный класс'!E67 -> 20
B7: Низкий | C7: ='предшкольный класс'!E50 -> 0 | D7: ='предшкольный класс'!E55 -> 0 | E7: ='предшкольный класс'!G55 -> 0 | F7: ='предшкольный класс'!I55 -> 0 | G7: ='предшкольный класс'!K55 -> 0 | H7: ='предшкольный класс'!E59 -> 0 | I7: ='предшкольный класс'!E64 -> 0 | J7: ='предшкольный класс'!G64 -> 0 | K7: ='предшкольный класс'!I64 -> 0 | L7: ='предшкольный класс'!K64 -> 0 | M7: ='предшкольный класс'!M64 -> 0 | N7: ='предшкольный класс'!E68 -> 0
B10: Количественный показатель
B11: Уровень | C11: Физическая культура | D11: Развитие речи | E11: Художественная литература | F11: Основы грамоты | G11: Казахский язык | H11: Основы математики | I11: Рисование | J11: Развитие творческих навыков, исследовательской деятельности детей | K11: Аппликация | L11: Конструирование | M11: Музыка | N11: Ознакомление с окружающим миром
B12: Высокий | C12: ='предшкольный класс'!D48 -> 20 | D12: ='предшкольный класс'!D53 -> 15 | E12: ='предшкольный класс'!F53 -> 15 | F12: ='предшкольный класс'!H53 -> 15 | G12: ='предшкольный класс'!J53 -> 15 | H12: ='предшкольный класс'!D57 -> 16 | I12: ='предшкольный класс'!D62 -> 17 | J12: ='предшкольный класс'!F62 -> 17 | K12: ='предшкольный класс'!H62 -> 17 | L12: ='предшкольный класс'!J62 -> 17 | M12: ='предшкольный класс'!L62 -> 17 | N12: ='предшкольный класс'!D66 -> 16
B13: Средний | C13: ='предшкольный класс'!D49 -> 0 | D13: ='предшкольный класс'!D54 -> 5 | E13: ='предшкольный класс'!F54 -> 5 | F13: ='предшкольный класс'!H54 -> 5 | G13: ='предшкольный класс'!J54 -> 5 | H13: ='предшкольный класс'!D58 -> 4 | I13: ='предшкольный класс'!D63 -> 3 | J13: ='предшкольный класс'!F63 -> 3 | K13: ='предшкольный класс'!H63 -> 3 | L13: ='предшкольный класс'!J63 -> 3 | M13: ='предшкольный класс'!L63 -> 3 | N13: ='предшкольный класс'!D67 -> 4
B14: Низкий | C14: ='предшкольный класс'!D50 -> 0 | D14: ='предшкольный класс'!D55 -> 0 | E14: ='предшкольный класс'!F55 -> 0 | F14: ='предшкольный класс'!H55 -> 0 | G14: ='предшкольный класс'!J55 -> 0 | H14: ='предшкольный класс'!D59 -> 0 | I14: ='предшкольный класс'!D64 -> 0 | J14: ='предшкольный класс'!F64 -> 0 | K14: ='предшкольный класс'!H64 -> 0 | L14: ='предшкольный класс'!J64 -> 0 | M14: ='предшкольный класс'!L64 -> 0 | N14: ='предшкольный класс'!D68 -> 0
B61: ФИ воспитателя:

Sheet ИКР 1
C2: Индивидуальная карта развития ребенка по результатам мониторинга уровня знания и образовательной сферы в 2023-2024 учебном году подготовительного дошкольного группы
C3: итог
B5: Имя ребенка | C5: ='предшкольный класс'!B9 -> Башурова Полина Артемовна
B6: Физическое развитие
B7: Физическая культура | C7: =CONCATENATE(Деңгей!C9,Деңгей!D9,Деңгей!E9) -> ходит в колонне по одному, по двое, по трое, с перешагиванием через предметы, боком: с поворотом в другую сторону по сигналу | D7: 1-Ф.1
C8: =CONCATENATE(Деңгей!F9,Деңгей!G9,Деңгей!H9) -> бегает с разной скоростью - медленно, быстро, в среднем темпе, непрерывно | D8: 1-Ф.2
C9: =CONCATENATE(Деңгей!I9,Деңгей!J9,Деңгей!K9) -> активно участвует в национальных подвижных играх, играх с элементами соревнований и эстафетных играх, , где демонстрирует физические качества: скорость, силу, выносливость, гибкость, ловкость | D9: 1-Ф.3
C10: =CONCATENATE(Деңгей!L9,Деңгей!M9,Деңгей!N9) -> проявляет активность в спортивных играх и тренировках | D10: 1-Ф.4
C11: =CONCATENATE(Деңгей!O9,Деңгей!P9,Деңгей!Q9) -> выполняет самостоятельно гигиенические процедуры | D11: 1-Ф.5
C12: =CONCATENATE(Деңгей!R9,Деңгей!S9,Деңгей!T9) -> владеет навыками самообслуживания и ухода за одеждой | D12: 1-Ф.6
C13: =CONCATENATE(Деңгей!U9,Деңгей!V9,Деңгей!W9) -> имеет первоначальные представления о здоровом образе жизни | D13: 1-Ф.7
B14: Развитие коммуникативных навыков
B15: Развитие речи | C15: =CONCATENATE(Деңгей!X9,Деңгей!Y9,Деңгей!Z9) -> выполняет звуковой анализ слов | D15: 5-К.1
C16: =CONCATENATE(Деңгей!AA9,Деңгей!AB9,Деңгей!AC9) -> выполняет звуковой анализ слов | D16: 5-К.2
C17: =CONCATENATE(Деңгей!AD9,Деңгей!AE9,Деңгей!AF9) -> произносит имена существительные, связывая их с числительными и прилагательными с существительными | D17: 5-К.3
C18: =CONCATENATE(Деңгей!AG9,Деңгей!AH9,Деңгей!AI9) -> внимательно слушает собеседника, правильно задает вопросы и дает короткие или полные ответы на них | D18: 5-К.4
C19: =CONCATENATE(Деңгей!AJ9,Деңгей!AK9,Деңгей!AL9) -> сочиняет рассказы по наблюдениям и сюжетным картинкам | D19: 5-К.5
C20: =CONCATENATE(Деңгей!AM9,Деңгей!AN9,Деңгей!AO9) -> последовательно пересказывает рассказы | D20: 5-К.6
C21: =CONCATENATE(Деңгей!AP9,Деңгей!AQ9,Деңгей!AR9) -> ведет себя культурно, тактично во время беседы | D21: 5-К.7
B23: Художественная литература | C23: =CONCATENATE(Деңгей!AS9,Деңгей!AT9,Деңгей!AU9) -> различает причинно-следственные связи, литературные жанры | D23: 5-К.8
C24: =CONCATENATE(Деңгей!AV9,Деңгей!AW9,Деңгей!AX9) -> читает стихотворения выразительно, с интонацией | D24: 5-К.9
C25: =CONCATENATE(Деңгей!AY9,Деңгей!AZ9,Деңгей!BA9) -> пересказывает содержание рассказа самостоятельно, сохраняя последовательность сюжета | D25: 5-К.10
C26: =CONCATENATE(Деңгей!BB9,Деңгей!BC9,Деңгей!BD9) -> передает в ролях настроение и характер героя, жесты, интонацию и мимику образа | D26: 5-К.11
C27: =CONCATENATE(Деңгей!BE9,Деңгей!BF9,Деңгей!BG9) -> выполняет свою роль в постановке выразительно, самостоятельно | D27: 5-К.12
C28: =CONCATENATE(Деңгей!BH9,Деңгей!BI9,Деңгей!BJ9) -> делится впечатлениями, информацией из различных источников | D28: 5-К.13
C29: =CONCATENATE(Деңгей!BK9,Деңгей!BL9,Деңгей!BM9) -> выражает свое отношение к происходящему вокруг | D29: 5-К.14
B31: Основы грамоты | C31: =CONCATENATE(Деңгей!BN9,Деңгей!BO9,Деңгей!BP9) -> выполняет звуковой анализ слов: определяет порядок звуков в слове, гласных и согласных | D31: 5-К.15
C32: =CONCATENATE(Деңгей!BQ9,Деңгей!BR9,Деңгей!BS9) -> четко произносит все звуки, различает гласные и согласные | D32: 5-К.16
C33: =CONCATENATE(Деңгей!BT9,Деңгей!BU9,Деңгей!BV9) -> составляет слово на заданный слог | D33: 5-К.17
C34: =CONCATENATE(Деңгей!BW9,Деңгей!BX9,Деңгей!BY9) -> составляет простые предложения с предложенными словами | D34: 5-К.18
C35: =CONCATENATE(Деңгей!BZ9,Деңгей!CA9,Деңгей!CB9) -> правильно держит ручку | D35: 5-К.19
C36: =CONCATENATE(Деңгей!CC9,Деңгей!CD9,Деңгей!CE9) -> рисует различные линии | D36: 5-К.20
C37: =CONCATENATE(Деңгей!CF9,Деңгей!CG9,Деңгей!CH9) -> умеет ориентироваться, различать пространство | D37: 5-К.21
B39: Казахский язык | C39: =CONCATENATE(Деңгей!CI9,Деңгей!CJ9,Деңгей!CK9) -> правильно произносит специфические звуки казахского языка в слове | D39: 5-К.22
C40: =CONCATENATE(Деңгей!CL9,Деңгей!CM9,Деңгей!CN9) -> рассказывает пословицы и поговорки | D40: 5-К.23
C41: =CONCATENATE(Деңгей!CO9,Деңгей!CP9,Деңгей!CQ9) -> понимает и произносит названия продуктов, посуды, мебели, фруктов, | D41: 5-К.24
C42: =CONCATENATE(Деңгей!CR9,Деңгей!CS9,Деңгей!CT9) -> называет слова, обозначающие признаки предметов (цвет, величина), действия с предметами, употребляет их в разговорной речи | D42: 5-К.25
C43: =CONCATENATE(Деңгей!CU9,Деңгей!CV9,Деңгей!CW9) -> называет слова, обозначающие признаки предметов (цвет, величина), действия с предметами, употребляет их в разговорной речи | D43: 5-К.26
C44: =CONCATENATE(Деңгей!CX9,Деңгей!CY9,Деңгей!CZ9) -> употребляет знакомые слова в повседневной жизни | D44: 5-К.27
C45: =CONCATENATE(Деңгей!DA9,Деңгей!DB9,Деңгей!DC9) -> составляет рассказы по образцу педагога | D45: 5-К.28
B46: Развитие познавательных и интеллектуальных навыков
B47: Основы математики | C47: =CONCATENATE(Деңгей!DD9,Деңгей!DE9,Деңгей!DF9) -> знает прямой и обратный счет до 10 | D47: 5-П.1
C48: =CONCATENATE(Деңгей!DG9,Деңгей!DH9,Деңгей!DI9) -> делит и воссоединяет | D48: 5-П.2
C49: =CONCATENATE(Деңгей!DJ9,Деңгей!DK9,Деңгей!DL9) -> знает прямой и обратный счет в пределах 10-ти, различает вопросы "Сколько?", "Который?" ("Какой?") и правильно отвечает на них | D49: 5-П.3
C50: =CONCATENATE(Деңгей!DM9,Деңгей!DN9,Деңгей!DO9) -> располагает предметы в порядке возрастания и убывания | D50: 5-П.4
C51: =CONCATENATE(Деңгей!DP9,Деңгей!DQ9,Деңгей!DR9) -> ориентируется на листе бумаги, называет последовательно дни недели, месяцы по временам года | D51: 5-П.5
C52: =CONCATENATE(Деңгей!DS9,Деңгей!DT9,Деңгей!DU9) -> различает и называет геометрические фигуры (круг, овал, треугольник, квадрат, прямоугольник) | D52: 5-П.6
C53: =CONCATENATE(Деңгей!DV9,Деңгей!DW9,Деңгей!DX9) -> рисует различные линии | D53: 5-П.7
B54: Развитие творческих навыков, исследовательской деятельности детей
B55: Рисование | C55: =CONCATENATE(Деңгей!DY9,Деңгей!DZ9,Деңгей!EA9) -> передает образы через несложные движения и позы | D55: 5-Т.1
C56: =CONCATENATE(Деңгей!EB9,Деңгей!EC9,Деңгей!ED9) -> пользуется красками, красит различными принтами | D56: 5-Т.2
C57: =CONCATENATE(Деңгей!EE9,Деңгей!EF9,Деңгей!EG9) -> получает новые цвета и оттенки (синий, розовый, темно-зеленый) путем смешивания красок | D57: 5-Т.3
C58: =CONCATENATE(Деңгей!EH9,Деңгей!EI9,Деңгей!EJ9) -> выполняет задачи по обоюдному согласию | D58: 5-Т.4
C59: =CONCATENATE(Деңгей!EK9,Деңгей!EL9,Деңгей!EM9) -> рисует элементы казахского орнамента и украшает ими одежду, предметы быта | D59: 5-Т.5
C60: =CONCATENATE(Деңгей!EN9,Деңгей!EO9,Деңгей!EP9) -> изображает сюжетные рисунки | D60: 5-Т.6
C61: =CONCATENATE(Деңгей!EQ9,Деңгей!ER9,Деңгей!ES9) -> соблюдает аккуратность при рисовании, правила безопасного поведения | D61: 5-Т.7
B63: Развитие творческих навыков, исследовательской деятельности детей | C63: =CONCATENATE(Деңгей!ET9,Деңгей!EU9,Деңгей!EV9) -> лепит с натуры и по представлению знакомые предметы разной формы и величины | D63: 5-Т.8
C64: =CONCATENATE(Деңгей!EW9,Деңгей!EX9,Деңгей!EY9) -> лепит фигуры человека и животного | D64: 5-Т.9
C65: =CONCATENATE(Деңгей!EZ9,Деңгей!FA9,Деңгей!FB9) -> использует различные методы лепки | D65: 5-Т.10
C66: =CONCATENATE(Деңгей!FC9,Деңгей!FD9,Деңгей!FE9) -> составляет сюжетные композиции | D66: 5-Т.11
C67: =CONCATENATE(Деңгей!FF9,Деңгей!FG9,Деңгей!FH9) -> лепит разнообразную казахскую посуду, предметы быта, ювелирные изделия | D67: 5-Т.12
C68: =CONCATENATE(Деңгей!FI9,Деңгей!FJ9,Деңгей!FK9) -> владеет навыками коллективной лепки для общей композиции | D68: 5-Т.13
C69: =CONCATENATE(Деңгей!FL9,Деңгей!FM9,Деңгей!FN9) -> аккуратно выполняет работу, соблюдает правила безопасности | D69: 5-Т.14
B71: Аппликация | C71: =CONCATENATE(Деңгей!FO9,Деңгей!FP9,Деңгей!FQ9) -> вырезает ножницами различные геометрические фигуры | D71: 5-Т.15
C72: =CONCATENATE(Деңгей!FR9,Деңгей!FS9,Деңгей!FT9) -> вырезает знакомые или придуманные различные образы, сразу несколько одинаковых форм из бумаги, сложенной гармошкой, и предметы симметричной формы из бумаги, сложенной вдвое | D72: 5-Т.16
C73: =CONCATENATE(Деңгей!FU9,Деңгей!FV9,Деңгей!FW9) -> выбирает и обосновывает приемы работы | D73: 5-Т.17
C74: =CONCATENATE(Деңгей!FX9,Деңгей!FY9,Деңгей!FZ9) -> стремиться понять важность | D74: 5-Т.18
C75: =CONCATENATE(Деңгей!GA9,Деңгей!GB9,Деңгей!GC9) -> выполняет сюжетные композиции как индивидуально, так и в небольших группах | D75: 5-Т.19
C76: =CONCATENATE(Деңгей!GD9,Деңгей!GE9,Деңгей!GF9) -> создает сюжетные композиции, дополняя их модными деталями | D76: 5-Т.20
C77: =CONCATENATE(Деңгей!GG9,Деңгей!GH9,Деңгей!GI9) -> соблюдает правила безопасности труда и личной гигиены | D77: 5-Т.21
B79: Конструирование | C79: =CONCATENATE(Деңгей!GJ9,Деңгей!GK9,Деңгей!GL9) -> строит самостоятельно на предложенную тему | D79: 5-Т.22
C80: =CONCATENATE(Деңгей!GM9,Деңгей!GN9,Деңгей!GO9) -> конструирует из бросового и природного материала | D80: 5-Т.23
C81: =CONCATENATE(Деңгей!GP9,Деңгей!GQ9,Деңгей!GR9) -> анализируя построенное им сооружение, находит эффективные конструктивные решения, применяет их при конструировании | D81: 5-Т.24
C82: =CONCATENATE(Деңгей!GS9,Деңгей!GT9,Деңгей!GU9) -> совместно конструирует необходимую для игры конструкцию, выполняют работу по согласованию, играют с готовой конструкцией | D82: 5-Т.25
C83: =CONCATENATE(Деңгей!GV9,Деңгей!GW9,Деңгей!GX9) -> работает в команде | D83: 5-Т.26
C84: =CONCATENATE(Деңгей!GY9,Деңгей!GZ9,Деңгей!HA9) -> преобразовывает плоскостные бумажные формы в объемные | D84: 5-Т.27
C85: =CONCATENATE(Деңгей!HB9,Деңгей!HC9,Деңгей!HD9) -> соблюдает правила безопасности на рабочем месте | D85: 5-Т.28
B87: Музыка | C87: =CONCATENATE(Деңгей!HE9,Деңгей!HF9,Деңгей!HG9) -> различает простые музыкальные жанры (кюй, песня, танец, марш) | D87: 5-Т.29
C88: =CONCATENATE(Деңгей!HH9,Деңгей!HI9,Деңгей!HJ9) -> исполняет знакомые песни самостоятельно с музыкальным сопровождением и без сопровождения исполняет знакомые песни самостоятельно с музыкальным сопровождением и без сопровождения | D88: 5-Т.30
C89: =CONCATENATE(Деңгей!HK9,Деңгей!HL9,Деңгей!HM9) -> произносит текст песни четко, воспринимает и передает характер музыки | D89: 5-Т.31
C90: =CONCATENATE(Деңгей!HN9,Деңгей!HO9,Деңгей!HP9) -> выделяет отдельные фрагменты произведения | D90: 5-Т.32
C91: =CONCATENATE(Деңгей!HQ9,Деңгей!HR9,Деңгей!HS9) -> играет простые мелодии на музыкальных инструментах | D91: 5-Т.33
C92: =CONCATENATE(Деңгей!HT9,Деңгей!HU9,Деңгей!HV9) -> самостоятельно и творчески исполняет песни различного характера | D92: 5-Т.34
C93: =CONCATENATE(Деңгей!HW9,Деңгей!HX9,Деңгей!HY9) -> выполняет движения в соответствии с характером музыки | D93: 5-Т.35
B94: Формирование социально-эмоциональных навыков
B96: Ознакомление с окружающим миром | C96: =CONCATENATE(Деңгей!HZ9,Деңгей!IA9,Деңгей!IB9) -> верит в свои силы и возможности, понимает важность трудолюбия и ответственности | D96: 5-С.1
C97: =CONCATENATE(Деңгей!IC9,Деңгей!ID9,Деңгей!IE9) -> понимает родственные связи, уважает старших, заботится о младших | D97: 5-С.2
C98: =CONCATENATE(Деңгей!IF9,Деңгей!IG9,Деңгей!IH9) -> говорит осознанно, выражает свое мнение | D98: 5-С.3
C99: =CONCATENATE(Деңгей!II9,Деңгей!IJ9,Деңгей!IK9) -> знает о применении специальных транспортных средств, знает элементарные правила дорожного движения | D99: 5-С.4
C100: =CONCATENATE(Деңгей!IL9,Деңгей!IM9,Деңгей!IN9) -> любит свою Родину, понимает значение живописной природы, достопримечательностей, исторических мест и культурного наследия Казахстана | D100: 5-С.5
C101: =CONCATENATE(Деңгей!IO9,Деңгей!IP9,Деңгей!IQ9) -> наблюдает и понимает причинно-следственные связи между живой и неживой природой, явлениями природы, знает об охране природы, значении солнца и воздуха в жизни человека, животных и растений | D101: 5-С.6
C102: =CONCATENATE(Деңгей!IR9,Деңгей!IS9,Деңгей!IT9) -> понимает и различает что «правильно» или «неправильно», «хорошо» или «плохо» | D102: 5-С.7
C104: ФИ воспитателя:

Sheet ИКР 2
C2: Индивидуальная карта развития ребенка по результатам мониторинга уровня знания и образовательной сферы в 2023-2024 учебном году подготовительного дошкольного группы
C3: итог
B5: Имя ребенка | C5: ='предшкольный класс'!B10 -> Гагарина Мария Николаевна
B6: Физическое развитие
B7: Физическая культура | C7: =CONCATENATE(Деңгей!C10,Деңгей!D10,Деңгей!E10) -> ходит в колонне по одному, по двое, по трое, с перешагиванием через предметы, боком: с поворотом в другую сторону по сигналу | D7: 1-Ф.1
C8: =CONCATENATE(Деңгей!F10,Деңгей!G10,Деңгей!H10) -> бегает с разной скоростью - медленно, быстро, в среднем темпе, непрерывно | D8: 1-Ф.2
C9: =CONCATENATE(Деңгей!I10,Деңгей!J10,Деңгей!K10) -> активно участвует в национальных подвижных играх, играх с элементами соревнований и эстафетных играх, , где демонстрирует физические качества: скорость, силу, выносливость, гибкость, ловкость | D9: 1-Ф.3
C10: =CONCATENATE(Деңгей!L10,Деңгей!M10,Деңгей!N10) -> проявляет активность в спортивных играх и тренировках | D10: 1-Ф.4
C11: =CONCATENATE(Деңгей!O10,Деңгей!P10,Деңгей!Q10) -> выполняет самостоятельно гигиенические процедуры | D11: 1-Ф.5
C12: =CONCATENATE(Деңгей!R10,Деңгей!S10,Деңгей!T10) -> владеет навыками самообслуживания и ухода за одеждой | D12: 1-Ф.6
C13: =CONCATENATE(Деңгей!U10,Деңгей!V10,Деңгей!W10) -> имеет первоначальные представления о здоровом образе жизни | D13: 1-Ф.7
B14: Развитие коммуникативных навыков
B15: Развитие речи | C15: =CONCATENATE(Деңгей!X10,Деңгей!Y10,Деңгей!Z10) -> выполняет звуковой анализ слов | D15: 5-К.1
C16: =CONCATENATE(Деңгей!AA10,Деңгей!AB10,Деңгей!AC10) -> выполняет звуковой анализ слов | D16: 5-К.2
C17: =CONCATENATE(Деңгей!AD10,Деңгей!AE10,Деңгей!AF10) -> произносит имена существительные, связывая их с числительными и прилагательными с существительными | D17: 5-К.3
C18: =CONCATENATE(Деңгей!AG10,Деңгей!AH10,Деңгей!AI10) -> внимательно слушает собеседника, правильно задает вопросы и дает короткие или полные ответы на них | D18: 5-К.4
C19: =CONCATENATE(Деңгей!AJ10,Деңгей!AK10,Деңгей!AL10) -> сочиняет рассказы по наблюдениям и сюжетным картинкам | D19: 5-К.5
C20: =CONCATENATE(Деңгей!AM10,Деңгей!AN10,Деңгей!AO10) -> последовательно пересказывает рассказы | D20: 5-К.6
C21: =CONCATENATE(Деңгей!AP10,Деңгей!AQ10,Деңгей!AR10) -> ведет себя культурно, тактично во время беседы | D21: 5-К.7
B23: Художественная литература | C23: =CONCATENATE(Деңгей!AS10,Деңгей!AT10,Деңгей!AU10) -> различает причинно-следственные связи, литературные жанры | D23: 5-К.8
C24: =CONCATENATE(Деңгей!AV10,Деңгей!AW10,Деңгей!AX10) -> читает стихотворения выразительно, с интонацией | D24: 5-К.9
C25: =CONCATENATE(Деңгей!AY10,Деңгей!AZ10,Деңгей!BA10) -> пересказывает содержание рассказа самостоятельно, сохраняя последовательность сюжета | D25: 5-К.10
C26: =CONCATENATE(Деңгей!BB10,Деңгей!BC10,Деңгей!BD10) -> передает в ролях настроение и характер героя, жесты, интонацию и мимику образа | D26: 5-К.11
C27: =CONCATENATE(Деңгей!BE10,Деңгей!BF10,Деңгей!BG10) -> выполняет свою роль в постановке выразительно, самостоятельно | D27: 5-К.12
C28: =CONCATENATE(Деңгей!BH10,Деңгей!BI10,Деңгей!BJ10) -> делится впечатлениями, информацией из различных источников | D28: 5-К.13
C29: =CONCATENATE(Деңгей!BK10,Деңгей!BL10,Деңгей!BM10) -> выражает свое отношение к происходящему вокруг | D29: 5-К.14
B31: Основы грамоты | C31: =CONCATENATE(Деңгей!BN10,Деңгей!BO10,Деңгей!BP10) -> выполняет звуковой анализ слов: определяет порядок звуков в слове, гласных и согласных | D31: 5-К.15
C32: =CONCATENATE(Деңгей!BQ10,Деңгей!BR10,Деңгей!BS10) -> четко произносит все звуки, различает гласные и согласные | D32: 5-К.16
C33: =CONCATENATE(Деңгей!BT10,Деңгей!BU10,Деңгей!BV10) -> составляет слово на заданный слог | D33: 5-К.17
C34: =CONCATENATE(Деңгей!BW10,Деңгей!BX10,Деңгей!BY10) -> составляет простые предложения с предложенными словами | D34: 5-К.18
C35: =CONCATENATE(Деңгей!BZ10,Деңгей!CA10,Деңгей!CB10) -> правильно держит ручку | D35: 5-К.19
C36: =CONCATENATE(Деңгей!CC10,Деңгей!CD10,Деңгей!CE10) -> рисует различные линии | D36: 5-К.20
C37: =CONCATENATE(Деңгей!CF10,Деңгей!CG10,Деңгей!CH10) -> умеет ориентироваться, различать пространство | D37: 5-К.21
B39: Казахский язык | C39: =CONCATENATE(Деңгей!CI10,Деңгей!CJ10,Деңгей!CK10) -> правильно произносит специфические звуки казахского языка в слове | D39: 5-К.22
C40: =CONCATENATE(Деңгей!CL10,Деңгей!CM10,Деңгей!CN10) -> рассказывает пословицы и поговорки | D40: 5-К.23
C41: =CONCATENATE(Деңгей!CO10,Деңгей!CP10,Деңгей!CQ10) -> понимает и произносит названия продуктов, посуды, мебели, фруктов, | D41: 5-К.24
C42: =CONCATENATE(Деңгей!CR10,Деңгей!CS10,Деңгей!CT10) -> называет слова, обозначающие признаки предметов (цвет, величина), действия с предметами, употребляет их в разговорной речи | D42: 5-К.25
C43: =CONCATENATE(Деңгей!CU10,Деңгей!CV10,Деңгей!CW10) -> называет слова, обозначающие признаки предметов (цвет, величина), действия с предметами, употребляет их в разговорной речи | D43: 5-К.26
C44: =CONCATENATE(Деңгей!CX10,Деңгей!CY10,Деңгей!CZ10) -> употребляет знакомые слова в повседневной жизни | D44: 5-К.27
C45: =CONCATENATE(Деңгей!DA10,Деңгей!DB10,Деңгей!DC10) -> составляет рассказы по образцу педагога | D45: 5-К.28
B46: Развитие познавательных и интеллектуальных навыков
B47: Основы математики | C47: =CONCATENATE(Деңгей!DD10,Деңгей!DE10,Деңгей!DF10) -> знает прямой и обратный счет до 10 | D47: 5-П.1
C48: =CONCATENATE(Деңгей!DG10,Деңгей!DH10,Деңгей!DI10) -> делит и воссоединяет | D48: 5-П.2
C49: =CONCATENATE(Деңгей!DJ10,Деңгей!DK10,Деңгей!DL10) -> знает прямой и обратный счет в пределах 10-ти, различает вопросы "Сколько?", "Который?" ("Какой?") и правильно отвечает на них | D49: 5-П.3
C50: =CONCATENATE(Деңгей!DM10,Деңгей!DN10,Деңгей!DO10) -> располагает предметы в порядке возрастания и убывания | D50: 5-П.4
C51: =CONCATENATE(Деңгей!DP10,Деңгей!DQ10,Деңгей!DR10) -> ориентируется на листе бумаги, называет последовательно дни недели, месяцы по временам года | D51: 5-П.5
C52: =CONCATENATE(Деңгей!DS10,Деңгей!DT10,Деңгей!DU10) -> различает и называет геометрические фигуры (круг, овал, треугольник, квадрат, прямоугольник) | D52: 5-П.6
C53: =CONCATENATE(Деңгей!DV10,Деңгей!DW10,Деңгей!DX10) -> рисует различные линии | D53: 5-П.7
B54: Развитие творческих навыков, исследовательской деятельности детей
B55: Рисование | C55: =CONCATENATE(Деңгей!DY10,Деңгей!DZ10,Деңгей!EA10) -> передает образы через несложные движения и позы | D55: 5-Т.1
C56: =CONCATENATE(Деңгей!EB10,Деңгей!EC10,Деңгей!ED10) -> пользуется красками, красит различными принтами | D56: 5-Т.2
C57: =CONCATENATE(Деңгей!EE10,Деңгей!EF10,Деңгей!EG10) -> получает новые цвета и оттенки (синий, розовый, темно-зеленый) путем смешивания красок | D57: 5-Т.3
C58: =CONCATENATE(Деңгей!EH10,Деңгей!EI10,Деңгей!EJ10) -> выполняет задачи по обоюдному согласию | D58: 5-Т.4
C59: =CONCATENATE(Деңгей!EK10,Деңгей!EL10,Деңгей!EM10) -> рисует элементы казахского орнамента и украшает ими одежду, предметы быта | D59: 5-Т.5
C60: =CONCATENATE(Деңгей!EN10,Деңгей!EO10,Деңгей!EP10) -> изображает сюжетные рисунки | D60: 5-Т.6
C61: =CONCATENATE(Деңгей!EQ10,Деңгей!ER10,Деңгей!ES10) -> соблюдает аккуратность при рисовании, правила безопасного поведения | D61: 5-Т.7
B63: Развитие творческих навыков, исследовательской деятельности детей | C63: =CONCATENATE(Деңгей!ET10,Деңгей!EU10,Деңгей!EV10) -> лепит с натуры и по представлению знакомые предметы разной формы и величины | D63: 5-Т.8
C64: =CONCATENATE(Деңгей!EW10,Деңгей!EX10,Деңгей!EY10) -> лепит фигуры человека и животного | D64: 5-Т.9
C65: =CONCATENATE(Деңгей!EZ10,Деңгей!FA10,Деңгей!FB10) -> использует различные методы лепки | D65: 5-Т.10
C66: =CONCATENATE(Деңгей!FC10,Деңгей!FD10,Деңгей!FE10) -> составляет сюжетные композиции | D66: 5-Т.11
C67: =CONCATENATE(Деңгей!FF10,Деңгей!FG10,Деңгей!FH10) -> лепит разнообразную казахскую посуду, предметы быта, ювелирные изделия | D67: 5-Т.12
C68: =CONCATENATE(Деңгей!FI10,Деңгей!FJ10,Деңгей!FK10) -> владеет навыками коллективной лепки для общей композиции | D68: 5-Т.13
C69: =CONCATENATE(Деңгей!FL10,Деңгей!FM10,Деңгей!FN10) -> аккуратно выполняет работу, соблюдает правила безопасности | D69: 5-Т.14
B71: Аппликация | C71: =CONCATENATE(Деңгей!FO10,Деңгей!FP10,Деңгей!FQ10) -> вырезает ножницами различные геометрические фигуры | D71: 5-Т.15
C72: =CONCATENATE(Деңгей!FR10,Деңгей!FS10,Деңгей!FT10) -> вырезает знакомые или придуманные различные образы, сразу несколько одинаковых форм из бумаги, сложенной гармошкой, и предметы симметричной формы из бумаги, сложенной вдвое | D72: 5-Т.16
C73: =CONCATENATE(Деңгей!FU10,Деңгей!FV10,Деңгей!FW10) -> выбирает и обосновывает приемы работы | D73: 5-Т.17
C74: =CONCATENATE(Деңгей!FX10,Деңгей!FY10,Деңгей!FZ10) -> стремиться понять важность | D74: 5-Т.18
C75: =CONCATENATE(Деңгей!GA10,Деңгей!GB10,Деңгей!GC10) -> выполняет сюжетные композиции как индивидуально, так и в небольших группах | D75: 5-Т.19
C76: =CONCATENATE(Деңгей!GD10,Деңгей!GE10,Деңгей!GF10) -> создает сюжетные композиции, дополняя их модными деталями | D76: 5-Т.20
C77: =CONCATENATE(Деңгей!GG10,Деңгей!GH10,Деңгей!GI10) -> соблюдает правила безопасности труда и личной гигиены | D77: 5-Т.21
B79: Конструирование | C79: =CONCATENATE(Деңгей!GJ10,Деңгей!GK10,Деңгей!GL10) -> строит самостоятельно на предложенную тему | D79: 5-Т.22
C80: =CONCATENATE(Деңгей!GM10,Деңгей!GN10,Деңгей!GO10) -> конструирует из бросового и природного материала | D80: 5-Т.23
C81: =CONCATENATE(Деңгей!GP10,Деңгей!GQ10,Деңгей!GR10) -> анализируя построенное им сооружение, находит эффективные конструктивные решения, применяет их при конструировании | D81: 5-Т.24
C82: =CONCATENATE(Деңгей!GS10,Деңгей!GT10,Деңгей!GU10) -> совместно конструирует необходимую для игры конструкцию, выполняют работу по согласованию, играют с готовой конструкцией | D82: 5-Т.25
C83: =CONCATENATE(Деңгей!GV10,Деңгей!GW10,Деңгей!GX10) -> работает в команде | D83: 5-Т.26
C84: =CONCATENATE(Деңгей!GY10,Деңгей!GZ10,Деңгей!HA10) -> преобразовывает плоскостные бумажные формы в объемные | D84: 5-Т.27
C85: =CONCATENATE(Деңгей!HB10,Деңгей!HC10,Деңгей!HD10) -> соблюдает правила безопасности на рабочем месте | D85: 5-Т.28
B87: Музыка | C87: =CONCATENATE(Деңгей!HE10,Деңгей!HF10,Деңгей!HG10) -> различает простые музыкальные жанры (кюй, песня, танец, марш) | D87: 5-Т.29
C88: =CONCATENATE(Деңгей!HH10,Деңгей!HI10,Деңгей!HJ10) -> исполняет знакомые песни самостоятельно с музыкальным сопровождением и без сопровождения исполняет знакомые песни самостоятельно с музыкальным сопровождением и без сопровождения | D88: 5-Т.30
C89: =CONCATENATE(Деңгей!HK10,Деңгей!HL10,Деңгей!HM10) -> произносит текст песни четко, воспринимает и передает характер музыки | D89: 5-Т.31
C90: =CONCATENATE(Деңгей!HN10,Деңгей!HO10,Деңгей!HP10) -> выделяет отдельные фрагменты произведения | D90: 5-Т.32
C91: =CONCATENATE(Деңгей!HQ10,Деңгей!HR10,Деңгей!HS10) -> играет простые мелодии на музыкальных инструментах | D91: 5-Т.33
C92: =CONCATENATE(Деңгей!HT10,Деңгей!HU10,Деңгей!HV10) -> самостоятельно и творчески исполняет песни различного характера | D92: 5-Т.34
C93: =CONCATENATE(Деңгей!HW10,Деңгей!HX10,Деңгей!HY10) -> выполняет движения в соответствии с характером музыки | D93: 5-Т.35
B94: Формирование социально-эмоциональных навыков
B96: Ознакомление с окружающим миром | C96: =CONCATENATE(Деңгей!HZ10,Деңгей!IA10,Деңгей!IB10) -> верит в свои силы и возможности, понимает важность трудолюбия и ответственности | D96: 5-С.1
C97: =CONCATENATE(Деңгей!IC10,Деңгей!ID10,Деңгей!IE10) -> понимает родственные связи, уважает старших, заботится о младших | D97: 5-С.2
C98: =CONCATENATE(Деңгей!IF10,Деңгей!IG10,Деңгей!IH10) -> говорит осознанно, выражает свое мнение | D98: 5-С.3
C99: =CONCATENATE(Деңгей!II10,Деңгей!IJ10,Деңгей!IK10) -> знает о применении специальных транспортных средств, знает элементарные правила дорожного движения | D99: 5-С.4
C100: =CONCATENATE(Деңгей!IL10,Деңгей!IM10,Деңгей!IN10) -> любит свою Родину, понимает значение живописной природы, достопримечательностей, исторических мест и культурного наследия Казахстана | D100: 5-С.5
C101: =CONCATENATE(Деңгей!IO10,Деңгей!IP10,Деңгей!IQ10) -> наблюдает и понимает причинно-следственные связи между живой и неживой природой, явлениями природы, знает об охране природы, значении солнца и воздуха в жизни человека, животных и растений | D101: 5-С.6
C102: =CONCATENATE(Деңгей!IR10,Деңгей!IS10,Деңгей!IT10) -> понимает и различает что «правильно» или «неправильно», «хорошо» или «плохо» | D102: 5-С.7
C104: ФИ воспитателя:

Sheet ИКР 3
C2: Индивидуальная карта развития ребенка по результатам мониторинга уровня знания и образовательной сферы в 2023-2024 учебном году подготовительного дошкольного группы
C3: итог
B5: Имя ребенка | C5: ='предшкольный класс'!B11 -> Кабылова Виктория Вадимовна
B6: Физическое развитие
B7: Физическая культура | C7: =CONCATENATE(Деңгей!C11,Деңгей!D11,Деңгей!E11) -> ходит в колонне по одному, по двое, по трое, с перешагиванием через предметы, боком: с поворотом в другую сторону по сигналу | D7: 1-Ф.1
C8: =CONCATENATE(Деңгей!F11,Деңгей!G11,Деңгей!H11) -> бегает с разной скоростью - медленно, быстро, в среднем темпе, непрерывно | D8: 1-Ф.2
C9: =CONCATENATE(Деңгей!I11,Деңгей!J11,Деңгей!K11) -> активно участвует в национальных подвижных играх, играх с элементами соревнований и эстафетных играх, , где демонстрирует физические качества: скорость, силу, выносливость, гибкость, ловкость | D9: 1-Ф.3
C10: =CONCATENATE(Деңгей!L11,Деңгей!M11,Деңгей!N11) -> проявляет активность в спортивных играх и тренировках | D10: 1-Ф.4
C11: =CONCATENATE(Деңгей!O11,Деңгей!P11,Деңгей!Q11) -> выполняет самостоятельно гигиенические процедуры | D11: 1-Ф.5
C12: =CONCATENATE(Деңгей!R11,Деңгей!S11,Деңгей!T11) -> владеет навыками самообслуживания и ухода за одеждой | D12: 1-Ф.6
C13: =CONCATENATE(Деңгей!U11,Деңгей!V11,Деңгей!W11) -> имеет первоначальные представления о здоровом образе жизни | D13: 1-Ф.7
B14: Развитие коммуникативных навыков
B15: Развитие речи | C15: =CONCATENATE(Деңгей!X11,Деңгей!Y11,Деңгей!Z11) -> выполняет звуковой анализ слов | D15: 5-К.1
C16: =CONCATENATE(Деңгей!AA11,Деңгей!AB11,Деңгей!AC11) -> выполняет звуковой анализ слов | D16: 5-К.2
C17: =CONCATENATE(Деңгей!AD11,Деңгей!AE11,Деңгей!AF11) -> произносит имена существительные, связывая их с числительными и прилагательными с существительными | D17: 5-К.3
C18: =CONCATENATE(Деңгей!AG11,Деңгей!AH11,Деңгей!AI11) -> внимательно слушает собеседника, правильно задает вопросы и дает короткие или полные ответы на них | D18: 5-К.4
C19: =CONCATENATE(Деңгей!AJ11,Деңгей!AK11,Деңгей!AL11) -> сочиняет рассказы по наблюдениям и сюжетным картинкам | D19: 5-К.5
C20: =CONCATENATE(Деңгей!AM11,Деңгей!AN11,Деңгей!AO11) -> последовательно пересказывает рассказы | D20: 5-К.6
C21: =CONCATENATE(Деңгей!AP11,Деңгей!AQ11,Деңгей!AR11) -> ведет себя культурно, тактично во время беседы | D21: 5-К.7
B23: Художественная литература | C23: =CONCATENATE(Деңгей!AS11,Деңгей!AT11,Деңгей!AU11) -> различает причинно-следственные связи, литературные жанры | D23: 5-К.8
C24: =CONCATENATE(Деңгей!AV11,Деңгей!AW11,Деңгей!AX11) -> читает стихотворения выразительно, с интонацией | D24: 5-К.9
C25: =CONCATENATE(Деңгей!AY11,Деңгей!AZ11,Деңгей!BA11) -> пересказывает содержание рассказа самостоятельно, сохраняя последовательность сюжета | D25: 5-К.10
C26: =CONCATENATE(Деңгей!BB11,Деңгей!BC11,Деңгей!BD11) -> передает в ролях настроение и характер героя, жесты, интонацию и мимику образа | D26: 5-К.11
C27: =CONCATENATE(Деңгей!BE11,Деңгей!BF11,Деңгей!BG11) -> выполняет свою роль в постановке выразительно, самостоятельно | D27: 5-К.12
C28: =CONCATENATE(Деңгей!BH11,Деңгей!BI11,Деңгей!BJ11) -> делится впечатлениями, информацией из различных источников | D28: 5-К.13
C29: =CONCATENATE(Деңгей!BK11,Деңгей!BL11,Деңгей!BM11) -> выражает свое отношение к происходящему вокруг | D29: 5-К.14
B31: Основы грамоты | C31: =CONCATENATE(Деңгей!BN11,Деңгей!BO11,Деңгей!BP11) -> выполняет звуковой анализ слов: определяет порядок звуков в слове, гласных и согласных | D31: 5-К.15
C32: =CONCATENATE(Деңгей!BQ11,Деңгей!BR11,Деңгей!BS11) -> четко произносит все звуки, различает гласные и согласные | D32: 5-К.16
C33: =CONCATENATE(Деңгей!BT11,Деңгей!BU11,Деңгей!BV11) -> составляет слово на заданный слог | D33: 5-К.17
C34: =CONCATENATE(Деңгей!BW11,Деңгей!BX11,Деңгей!BY11) -> составляет простые предложения с предложенными словами | D34: 5-К.18
C35: =CONCATENATE(Деңгей!BZ11,Деңгей!CA11,Деңгей!CB11) -> правильно держит ручку | D35: 5-К.19
C36: =CONCATENATE(Деңгей!CC11,Деңгей!CD11,Деңгей!CE11) -> рисует различные линии | D36: 5-К.20
C37: =CONCATENATE(Деңгей!CF11,Деңгей!CG11,Деңгей!CH11) -> умеет ориентироваться, различать пространство | D37: 5-К.21
B39: Казахский язык | C39: =CONCATENATE(Деңгей!CI11,Деңгей!CJ11,Деңгей!CK11) -> правильно произносит специфические звуки казахского языка в слове | D39: 5-К.22
C40: =CONCATENATE(Деңгей!CL11,Деңгей!CM11,Деңгей!CN11) -> рассказывает пословицы и поговорки | D40: 5-К.23
C41: =CONCATENATE(Деңгей!CO11,Деңгей!CP11,Деңгей!CQ11) -> понимает и произносит названия продуктов, посуды, мебели, фруктов, | D41: 5-К.24
C42: =CONCATENATE(Деңгей!CR11,Деңгей!CS11,Деңгей!CT11) -> называет слова, обозначающие признаки предметов (цвет, величина), действия с предметами, употребляет их в разговорной речи | D42: 5-К.25
C43: =CONCATENATE(Деңгей!CU11,Деңгей!CV11,Деңгей!CW11) -> называет слова, обозначающие признаки предметов (цвет, величина), действия с предметами, употребляет их в разговорной речи | D43: 5-К.26
C44: =CONCATENATE(Деңгей!CX11,Деңгей!CY11,Деңгей!CZ11) -> употребляет знакомые слова в повседневной жизни | D44: 5-К.27
C45: =CONCATENATE(Деңгей!DA11,Деңгей!DB11,Деңгей!DC11) -> составляет рассказы по образцу педагога | D45: 5-К.28
B46: Развитие познавательных и интеллектуальных навыков
B47: Основы математики | C47: =CONCATENATE(Деңгей!DD11,Деңгей!DE11,Деңгей!DF11) -> знает прямой и обратный счет до 10 | D47: 5-П.1
C48: =CONCATENATE(Деңгей!DG11,Деңгей!DH11,Деңгей!DI11) -> делит и воссоединяет | D48: 5-П.2
C49: =CONCATENATE(Деңгей!DJ11,Деңгей!DK11,Деңгей!DL11) -> знает прямой и обратный счет в пределах 10-ти, различает вопросы "Сколько?", "Который?" ("Какой?") и правильно отвечает на них | D49: 5-П.3
C50: =CONCATENATE(Деңгей!DM11,Деңгей!DN11,Деңгей!DO11) -> располагает предметы в порядке возрастания и убывания | D50: 5-П.4
C51: =CONCATENATE(Деңгей!DP11,Деңгей!DQ11,Деңгей!DR11) -> ориентируется на листе бумаги, называет последовательно дни недели, месяцы по временам года | D51: 5-П.5
C52: =CONCATENATE(Деңгей!DS11,Деңгей!DT11,Деңгей!DU11) -> различает и называет геометрические фигуры (круг, овал, треугольник, квадрат, прямоугольник) | D52: 5-П.6
C53: =CONCATENATE(Деңгей!DV11,Деңгей!DW11,Деңгей!DX11) -> рисует различные линии | D53: 5-П.7
B54: Развитие творческих навыков, исследовательской деятельности детей
B55: Рисование | C55: =CONCATENATE(Деңгей!DY11,Деңгей!DZ11,Деңгей!EA11) -> передает образы через несложные движения и позы | D55: 5-Т.1
C56: =CONCATENATE(Деңгей!EB11,Деңгей!EC11,Деңгей!ED11) -> пользуется красками, красит различными принтами | D56: 5-Т.2
C57: =CONCATENATE(Деңгей!EE11,Деңгей!EF11,Деңгей!EG11) -> получает новые цвета и оттенки (синий, розовый, темно-зеленый) путем смешивания красок | D57: 5-Т.3
C58: =CONCATENATE(Деңгей!EH11,Деңгей!EI11,Деңгей!EJ11) -> выполняет задачи по обоюдному согласию | D58: 5-Т.4
C59: =CONCATENATE(Деңгей!EK11,Деңгей!EL11,Деңгей!EM11) -> рисует элементы казахского орнамента и украшает ими одежду, предметы быта | D59: 5-Т.5
C60: =CONCATENATE(Деңгей!EN11,Деңгей!EO11,Деңгей!EP11) -> изображает сюжетные рисунки | D60: 5-Т.6
C61: =CONCATENATE(Деңгей!EQ11,Деңгей!ER11,Деңгей!ES11) -> соблюдает аккуратность при рисовании, правила безопасного поведения | D61: 5-Т.7
B63: Развитие творческих навыков, исследовательской деятельности детей | C63: =CONCATENATE(Деңгей!ET11,Деңгей!EU11,Деңгей!EV11) -> лепит с натуры и по представлению знакомые предметы разной формы и величины | D63: 5-Т.8
C64: =CONCATENATE(Деңгей!EW11,Деңгей!EX11,Деңгей!EY11) -> лепит фигуры человека и животного | D64: 5-Т.9
C65: =CONCATENATE(Деңгей!EZ11,Деңгей!FA11,Деңгей!FB11) -> использует различные методы лепки | D65: 5-Т.10
C66: =CONCATENATE(Деңгей!FC11,Деңгей!FD11,Деңгей!FE11) -> составляет сюжетные композиции | D66: 5-Т.11
C67: =CONCATENATE(Деңгей!FF11,Деңгей!FG11,Деңгей!FH11) -> лепит разнообразную казахскую посуду, предметы быта, ювелирные изделия | D67: 5-Т.12
C68: =CONCATENATE(Деңгей!FI11,Деңгей!FJ11,Деңгей!FK11) -> владеет навыками коллективной лепки для общей композиции | D68: 5-Т.13
C69: =CONCATENATE(Деңгей!FL11,Деңгей!FM11,Деңгей!FN11) -> аккуратно выполняет работу, соблюдает правила безопасности | D69: 5-Т.14
B71: Аппликация | C71: =CONCATENATE(Деңгей!FO11,Деңгей!FP11,Деңгей!FQ11) -> вырезает ножницами различные геометрические фигуры | D71: 5-Т.15
C72: =CONCATENATE(Деңгей!FR11,Деңгей!FS11,Деңгей!FT11) -> вырезает знакомые или придуманные различные образы, сразу несколько одинаковых форм из бумаги, сложенной гармошкой, и предметы симметричной формы из бумаги, сложенной вдвое | D72: 5-Т.16
C73: =CONCATENATE(Деңгей!FU11,Деңгей!FV11,Деңгей!FW11) -> выбирает и обосновывает приемы работы | D73: 5-Т.17
C74: =CONCATENATE(Деңгей!FX11,Деңгей!FY11,Деңгей!FZ11) -> стремиться понять важность | D74: 5-Т.18
C75: =CONCATENATE(Деңгей!GA11,Деңгей!GB11,Деңгей!GC11) -> выполняет сюжетные композиции как индивидуально, так и в небольших группах | D75: 5-Т.19
C76: =CONCATENATE(Деңгей!GD11,Деңгей!GE11,Деңгей!GF11) -> создает сюжетные композиции, дополняя их модными деталями | D76: 5-Т.20
C77: =CONCATENATE(Деңгей!GG11,Деңгей!GH11,Деңгей!GI11) -> соблюдает правила безопасности труда и личной гигиены | D77: 5-Т.21
B79: Конструирование | C79: =CONCATENATE(Деңгей!GJ11,Деңгей!GK11,Деңгей!GL11) -> строит самостоятельно на предложенную тему | D79: 5-Т.22
C80: =CONCATENATE(Деңгей!GM11,Деңгей!GN11,Деңгей!GO11) -> конструирует из бросового и природного материала | D80: 5-Т.23
C81: =CONCATENATE(Деңгей!GP11,Деңгей!GQ11,Деңгей!GR11) -> анализируя построенное им сооружение, находит эффективные конструктивные решения, применяет их при конструировании | D81: 5-Т.24
C82: =CONCATENATE(Деңгей!GS11,Деңгей!GT11,Деңгей!GU11) -> совместно конструирует необходимую для игры конструкцию, выполняют работу по согласованию, играют с готовой конструкцией | D82: 5-Т.25
C83: =CONCATENATE(Деңгей!GV11,Деңгей!GW11,Деңгей!GX11) -> работает в команде | D83: 5-Т.26
C84: =CONCATENATE(Деңгей!GY11,Деңгей!GZ11,Деңгей!HA11) -> преобразовывает плоскостные бумажные формы в объемные | D84: 5-Т.27
C85: =CONCATENATE(Деңгей!HB11,Деңгей!HC11,Деңгей!HD11) -> соблюдает правила безопасности на рабочем месте | D85: 5-Т.28
B87: Музыка | C87: =CONCATENATE(Деңгей!HE11,Деңгей!HF11,Деңгей!HG11) -> различает простые музыкальные жанры (кюй, песня, танец, марш) | D87: 5-Т.29
C88: =CONCATENATE(Деңгей!HH11,Деңгей!HI11,Деңгей!HJ11) -> исполняет знакомые песни самостоятельно с музыкальным сопровождением и без сопровождения исполняет знакомые песни самостоятельно с музыкальным сопровождением и без сопровождения | D88: 5-Т.30
C89: =CONCATENATE(Деңгей!HK11,Деңгей!HL11,Деңгей!HM11) -> произносит текст песни четко, воспринимает и передает характер музыки | D89: 5-Т.31
C90: =CONCATENATE(Деңгей!HN11,Деңгей!HO11,Деңгей!HP11) -> выделяет отдельные фрагменты произведения | D90: 5-Т.32
C91: =CONCATENATE(Деңгей!HQ11,Деңгей!HR11,Деңгей!HS11) -> играет простые мелодии на музыкальных инструментах | D91: 5-Т.33
C92: =CONCATENATE(Деңгей!HT11,Деңгей!HU11,Деңгей!HV11) -> самостоятельно и творчески исполняет песни различного характера | D92: 5-Т.34
C93: =CONCATENATE(Деңгей!HW11,Деңгей!HX11,Деңгей!HY11) -> выполняет движения в соответствии с характером музыки | D93: 5-Т.35
B94: Формирование социально-эмоциональных навыков
B96: Ознакомление с окружающим миром | C96: =CONCATENATE(Деңгей!HZ11,Деңгей!IA11,Деңгей!IB11) -> верит в свои силы и возможности, понимает важность трудолюбия и ответственности | D96: 5-С.1
C97: =CONCATENATE(Деңгей!IC11,Деңгей!ID11,Деңгей!IE11) -> понимает родственные связи, уважает старших, заботится о младших | D97: 5-С.2
C98: =CONCATENATE(Деңгей!IF11,Деңгей!IG11,Деңгей!IH11) -> говорит осознанно, выражает свое мнение | D98: 5-С.3
C99: =CONCATENATE(Деңгей!II11,Деңгей!IJ11,Деңгей!IK11) -> знает о применении специальных транспортных средств, знает элементарные правила дорожного движения | D99: 5-С.4
C100: =CONCATENATE(Деңгей!IL11,Деңгей!IM11,Деңгей!IN11) -> любит свою Родину, понимает значение живописной природы, достопримечательностей, исторических мест и культурного наследия Казахстана | D100: 5-С.5
C101: =CONCATENATE(Деңгей!IO11,Деңгей!IP11,Деңгей!IQ11) -> наблюдает и понимает причинно-следственные связи между живой и неживой природой, явлениями природы, знает об охране природы, значении солнца и воздуха в жизни человека, животных и растений | D101: 5-С.6
C102: =CONCATENATE(Деңгей!IR11,Деңгей!IS11,Деңгей!IT11) -> понимает и различает что «правильно» или «неправильно», «хорошо» или «плохо» | D102: 5-С.7
C104: ФИ воспитателя:

Sheet ИКР 4
C2: Индивидуальная карта развития ребенка по результатам мониторинга уровня знания и образовательной сферы в 2023-2024 учебном году подготовительного дошкольного группы
C3: итог
B5: Имя ребенка | C5: ='предшкольный класс'!B12 -> Коваль Лилия Максимовна
B6: Физическое развитие
B7: Физическая культура | C7: =CONCATENATE(Деңгей!C12,Деңгей!D12,Деңгей!E12) -> ходит в колонне по одному, по двое, по трое, с перешагиванием через предметы, боком: с поворотом в другую сторону по сигналу | D7: 1-Ф.1
C8: =CONCATENATE(Деңгей!F12,Деңгей!G12,Деңгей!H12) -> бегает с разной скоростью - медленно, быстро, в среднем темпе, непрерывно | D8: 1-Ф.2
C9: =CONCATENATE(Деңгей!I12,Деңгей!J12,Деңгей!K12) -> активно участвует в национальных подвижных играх, играх с элементами соревнований и эстафетных играх, , где демонстрирует физические качества: скорость, силу, выносливость, гибкость, ловкость | D9: 1-Ф.3
C10: =CONCATENATE(Деңгей!L12,Деңгей!M12,Деңгей!N12) -> проявляет активность в спортивных играх и тренировках | D10: 1-Ф.4
C11: =CONCATENATE(Деңгей!O12,Деңгей!P12,Деңгей!Q12) -> выполняет самостоятельно гигиенические процедуры | D11: 1-Ф.5
C12: =CONCATENATE(Деңгей!R12,Деңгей!S12,Деңгей!T12) -> владеет навыками самообслуживания и ухода за одеждой | D12: 1-Ф.6
C13: =CONCATENATE(Деңгей!U12,Деңгей!V12,Деңгей!W12) -> имеет первоначальные представления о здоровом образе жизни | D13: 1-Ф.7
B14: Развитие коммуникативных навыков
B15: Развитие речи | C15: =CONCATENATE(Деңгей!X12,Деңгей!Y12,Деңгей!Z12) -> выполняет звуковой анализ слов | D15: 5-К.1
C16: =CONCATENATE(Деңгей!AA12,Деңгей!AB12,Деңгей!AC12) -> выполняет звуковой анализ слов | D16: 5-К.2
C17: =CONCATENATE(Деңгей!AD12,Деңгей!AE12,Деңгей!AF12) -> произносит имена существительные, связывая их с числительными и прилагательными с существительными | D17: 5-К.3
C18: =CONCATENATE(Деңгей!AG12,Деңгей!AH12,Деңгей!AI12) -> внимательно слушает собеседника, правильно задает вопросы и дает короткие или полные ответы на них | D18: 5-К.4
C19: =CONCATENATE(Деңгей!AJ12,Деңгей!AK12,Деңгей!AL12) -> сочиняет рассказы по наблюдениям и сюжетным картинкам | D19: 5-К.5
C20: =CONCATENATE(Деңгей!AM12,Деңгей!AN12,Деңгей!AO12) -> последовательно пересказывает рассказы | D20: 5-К.6
C21: =CONCATENATE(Деңгей!AP12,Деңгей!AQ12,Деңгей!AR12) -> ведет себя культурно, тактично во время беседы | D21: 5-К.7
B23: Художественная литература | C23: =CONCATENATE(Деңгей!AS12,Деңгей!AT12,Деңгей!AU12) -> различает причинно-следственные связи, литературные жанры | D23: 5-К.8
C24: =CONCATENATE(Деңгей!AV12,Деңгей!AW12,Деңгей!AX12) -> читает стихотворения выразительно, с интонацией | D24: 5-К.9
C25: =CONCATENATE(Деңгей!AY12,Деңгей!AZ12,Деңгей!BA12) -> пересказывает содержание рассказа самостоятельно, сохраняя последовательность сюжета | D25: 5-К.10
C26: =CONCATENATE(Деңгей!BB12,Деңгей!BC12,Деңгей!BD12) -> передает в ролях настроение и характер героя, жесты, интонацию и мимику образа | D26: 5-К.11
C27: =CONCATENATE(Деңгей!BE12,Деңгей!BF12,Деңгей!BG12) -> выполняет свою роль в постановке выразительно, самостоятельно | D27: 5-К.12
C28: =CONCATENATE(Деңгей!BH12,Деңгей!BI12,Деңгей!BJ12) -> делится впечатлениями, информацией из различных источников | D28: 5-К.13
C29: =CONCATENATE(Деңгей!BK12,Деңгей!BL12,Деңгей!BM12) -> выражает свое отношение к происходящему вокруг | D29: 5-К.14
B31: Основы грамоты | C31: =CONCATENATE(Деңгей!BN12,Деңгей!BO12,Деңгей!BP12) -> выполняет звуковой анализ слов: определяет порядок звуков в слове, гласных и согласных | D31: 5-К.15
C32: =CONCATENATE(Деңгей!BQ12,Деңгей!BR12,Деңгей!BS12) -> четко произносит все звуки, различает гласные и согласные | D32: 5-К.16
C33: =CONCATENATE(Деңгей!BT12,Деңгей!BU12,Деңгей!BV12) -> составляет слово на заданный слог | D33: 5-К.17
C34: =CONCATENATE(Деңгей!BW12,Деңгей!BX12,Деңгей!BY12) -> составляет простые предложения с предложенными словами | D34: 5-К.18
C35: =CONCATENATE(Деңгей!BZ12,Деңгей!CA12,Деңгей!CB12) -> правильно держит ручку | D35: 5-К.19
C36: =CONCATENATE(Деңгей!CC12,Деңгей!CD12,Деңгей!CE12) -> рисует различные линии | D36: 5-К.20
C37: =CONCATENATE(Деңгей!CF12,Деңгей!CG12,Деңгей!CH12) -> умеет ориентироваться, различать пространство | D37: 5-К.21
B39: Казахский язык | C39: =CONCATENATE(Деңгей!CI12,Деңгей!CJ12,Деңгей!CK12) -> правильно произносит специфические звуки казахского языка в слове | D39: 5-К.22
C40: =CONCATENATE(Деңгей!CL12,Деңгей!CM12,Деңгей!CN12) -> рассказывает пословицы и поговорки | D40: 5-К.23
C41: =CONCATENATE(Деңгей!CO12,Деңгей!CP12,Деңгей!CQ12) -> понимает и произносит названия продуктов, посуды, мебели, фруктов, | D41: 5-К.24
C42: =CONCATENATE(Деңгей!CR12,Деңгей!CS12,Деңгей!CT12) -> называет слова, обозначающие признаки предметов (цвет, величина), действия с предметами, употребляет их в разговорной речи | D42: 5-К.25
C43: =CONCATENATE(Деңгей!CU12,Деңгей!CV12,Деңгей!CW12) -> называет слова, обозначающие признаки предметов (цвет, величина), действия с предметами, употребляет их в разговорной речи | D43: 5-К.26
C44: =CONCATENATE(Деңгей!CX12,Деңгей!CY12,Деңгей!CZ12) -> употребляет знакомые слова в повседневной жизни | D44: 5-К.27
C45: =CONCATENATE(Деңгей!DA12,Деңгей!DB12,Деңгей!DC12) -> составляет рассказы по образцу педагога | D45: 5-К.28
B46: Развитие познавательных и интеллектуальных навыков
B47: Основы математики | C47: =CONCATENATE(Деңгей!DD12,Деңгей!DE12,Деңгей!DF12) -> знает прямой и обратный счет до 10 | D47: 5-П.1
C48: =CONCATENATE(Деңгей!DG12,Деңгей!DH12,Деңгей!DI12) -> делит и воссоединяет | D48: 5-П.2
C49: =CONCATENATE(Деңгей!DJ12,Деңгей!DK12,Деңгей!DL12) -> знает прямой и обратный счет в пределах 10-ти, различает вопросы "Сколько?", "Который?" ("Какой?") и правильно отвечает на них | D49: 5-П.3
C50: =CONCATENATE(Деңгей!DM12,Деңгей!DN12,Деңгей!DO12) -> располагает предметы в порядке возрастания и убывания | D50: 5-П.4
C51: =CONCATENATE(Деңгей!DP12,Деңгей!DQ12,Деңгей!DR12) -> ориентируется на листе бумаги, называет последовательно дни недели, месяцы по временам года | D51: 5-П.5
C52: =CONCATENATE(Деңгей!DS12,Деңгей!DT12,Деңгей!DU12) -> различает и называет геометрические фигуры (круг, овал, треугольник, квадрат, прямоугольник) | D52: 5-П.6
C53: =CONCATENATE(Деңгей!DV12,Деңгей!DW12,Деңгей!DX12) -> рисует различные линии | D53: 5-П.7
B54: Развитие творческих навыков, исследовательской деятельности детей
B55: Рисование | C55: =CONCATENATE(Деңгей!DY12,Деңгей!DZ12,Деңгей!EA12) -> передает образы через несложные движения и позы | D55: 5-Т.1
C56: =CONCATENATE(Деңгей!EB12,Деңгей!EC12,Деңгей!ED12) -> пользуется красками, красит различными принтами | D56: 5-Т.2
C57: =CONCATENATE(Деңгей!EE12,Деңгей!EF12,Деңгей!EG12) -> получает новые цвета и оттенки (синий, розовый, темно-зеленый) путем смешивания красок | D57: 5-Т.3
C58: =CONCATENATE(Деңгей!EH12,Деңгей!EI12,Деңгей!EJ12) -> выполняет задачи по обоюдному согласию | D58: 5-Т.4
C59: =CONCATENATE(Деңгей!EK12,Деңгей!EL12,Деңгей!EM12) -> рисует элементы казахского орнамента и украшает ими одежду, предметы быта | D59: 5-Т.5
C60: =CONCATENATE(Деңгей!EN12,Деңгей!EO12,Деңгей!EP12) -> изображает сюжетные рисунки | D60: 5-Т.6
C61: =CONCATENATE(Деңгей!EQ12,Деңгей!ER12,Деңгей!ES12) -> соблюдает аккуратность при рисовании, правила безопасного поведения | D61: 5-Т.7
B63: Развитие творческих навыков, исследовательской деятельности детей | C63: =CONCATENATE(Деңгей!ET12,Деңгей!EU12,Деңгей!EV12) -> лепит с натуры и по представлению знакомые предметы разной формы и величины | D63: 5-Т.8
C64: =CONCATENATE(Деңгей!EW12,Деңгей!EX12,Деңгей!EY12) -> лепит фигуры человека и животного | D64: 5-Т.9
C65: =CONCATENATE(Деңгей!EZ12,Деңгей!FA12,Деңгей!FB12) -> использует различные методы лепки | D65: 5-Т.10
C66: =CONCATENATE(Деңгей!FC12,Деңгей!FD12,Деңгей!FE12) -> составляет сюжетные композиции | D66: 5-Т.11
C67: =CONCATENATE(Деңгей!FF12,Деңгей!FG12,Деңгей!FH12) -> лепит разнообразную казахскую посуду, предметы быта, ювелирные изделия | D67: 5-Т.12
C68: =CONCATENATE(Деңгей!FI12,Деңгей!FJ12,Деңгей!FK12) -> владеет навыками коллективной лепки для общей композиции | D68: 5-Т.13
C69: =CONCATENATE(Деңгей!FL12,Деңгей!FM12,Деңгей!FN12) -> аккуратно выполняет работу, соблюдает правила безопасности | D69: 5-Т.14
B71: Аппликация | C71: =CONCATENATE(Деңгей!FO12,Деңгей!FP12,Деңгей!FQ12) -> вырезает ножницами различные геометрические фигуры | D71: 5-Т.15
C72: =CONCATENATE(Деңгей!FR12,Деңгей!FS12,Деңгей!FT12) -> вырезает знакомые или придуманные различные образы, сразу несколько одинаковых форм из бумаги, сложенной гармошкой, и предметы симметричной формы из бумаги, сложенной вдвое | D72: 5-Т.16
C73: =CONCATENATE(Деңгей!FU12,Деңгей!FV12,Деңгей!FW12) -> выбирает и обосновывает приемы работы | D73: 5-Т.17
C74: =CONCATENATE(Деңгей!FX12,Деңгей!FY12,Деңгей!FZ12) -> стремиться понять важность | D74: 5-Т.18
C75: =CONCATENATE(Деңгей!GA12,Деңгей!GB12,Деңгей!GC12) -> выполняет сюжетные композиции как индивидуально, так и в небольших группах | D75: 5-Т.19
C76: =CONCATENATE(Деңгей!GD12,Деңгей!GE12,Деңгей!GF12) -> создает сюжетные композиции, дополняя их модными деталями | D76: 5-Т.20
C77: =CONCATENATE(Деңгей!GG12,Деңгей!GH12,Деңгей!GI12) -> соблюдает правила безопасности труда и личной гигиены | D77: 5-Т.21
B79: Конструирование | C79: =CONCATENATE(Деңгей!GJ12,Деңгей!GK12,Деңгей!GL12) -> строит самостоятельно на предложенную тему | D79: 5-Т.22
C80: =CONCATENATE(Деңгей!GM12,Деңгей!GN12,Деңгей!GO12) -> конструирует из бросового и природного материала | D80: 5-Т.23
C81: =CONCATENATE(Деңгей!GP12,Деңгей!GQ12,Деңгей!GR12) -> анализируя построенное им сооружение, находит эффективные конструктивные решения, применяет их при конструировании | D81: 5-Т.24
C82: =CONCATENATE(Деңгей!GS12,Деңгей!GT12,Деңгей!GU12) -> совместно конструирует необходимую для игры конструкцию, выполняют работу по согласованию, играют с готовой конструкцией | D82: 5-Т.25
C83: =CONCATENATE(Деңгей!GV12,Деңгей!GW12,Деңгей!GX12) -> работает в команде | D83: 5-Т.26
C84: =CONCATENATE(Деңгей!GY12,Деңгей!GZ12,Деңгей!HA12) -> преобразовывает плоскостные бумажные формы в объемные | D84: 5-Т.27
C85: =CONCATENATE(Деңгей!HB12,Деңгей!HC12,Деңгей!HD12) -> соблюдает правила безопасности на рабочем месте | D85: 5-Т.28
B87: Музыка | C87: =CONCATENATE(Деңгей!HE12,Деңгей!HF12,Деңгей!HG12) -> различает простые музыкальные жанры (кюй, песня, танец, марш) | D87: 5-Т.29
C88: =CONCATENATE(Деңгей!HH12,Деңгей!HI12,Деңгей!HJ12) -> исполняет знакомые песни самостоятельно с музыкальным сопровождением и без сопровождения исполняет знакомые песни самостоятельно с музыкальным сопровождением и без сопровождения | D88: 5-Т.30
C89: =CONCATENATE(Деңгей!HK12,Деңгей!HL12,Деңгей!HM12) -> произносит текст песни четко, воспринимает и передает характер музыки | D89: 5-Т.31
C90: =CONCATENATE(Деңгей!HN12,Деңгей!HO12,Деңгей!HP12) -> выделяет отдельные фрагменты произведения | D90: 5-Т.32
C91: =CONCATENATE(Деңгей!HQ12,Деңгей!HR12,Деңгей!HS12) -> играет простые мелодии на музыкальных инструментах | D91: 5-Т.33
C92: =CONCATENATE(Деңгей!HT12,Деңгей!HU12,Деңгей!HV12) -> самостоятельно и творчески исполняет песни различного характера | D92: 5-Т.34
C93: =CONCATENATE(Деңгей!HW12,Деңгей!HX12,Деңгей!HY12) -> выполняет движения в соответствии с характером музыки | D93: 5-Т.35
B94: Формирование социально-эмоциональных навыков
B96: Ознакомление с окружающим миром | C96: =CONCATENATE(Деңгей!HZ12,Деңгей!IA12,Деңгей!IB12) -> верит в свои силы и возможности, понимает важность трудолюбия и ответственности | D96: 5-С.1
C97: =CONCATENATE(Деңгей!IC12,Деңгей!ID12,Деңгей!IE12) -> понимает родственные связи, уважает старших, заботится о младших | D97: 5-С.2
C98: =CONCATENATE(Деңгей!IF12,Деңгей!IG12,Деңгей!IH12) -> говорит осознанно, выражает свое мнение | D98: 5-С.3
C99: =CONCATENATE(Деңгей!II12,Деңгей!IJ12,Деңгей!IK12) -> знает о применении специальных транспортных средств, знает элементарные правила дорожного движения | D99: 5-С.4
C100: =CONCATENATE(Деңгей!IL12,Деңгей!IM12,Деңгей!IN12) -> любит свою Родину, понимает значение живописной природы, достопримечательностей, исторических мест и культурного наследия Казахстана | D100: 5-С.5
C101: =CONCATENATE(Деңгей!IO12,Деңгей!IP12,Деңгей!IQ12) -> наблюдает и понимает причинно-следственные связи между живой и неживой природой, явлениями природы, знает об охране природы, значении солнца и воздуха в жизни человека, животных и растений | D101: 5-С.6
C102: =CONCATENATE(Деңгей!IR12,Деңгей!IS12,Деңгей!IT12) -> понимает и различает что «правильно» или «неправильно», «хорошо» или «плохо» | D102: 5-С.7
C104: ФИ воспитателя:

Sheet ИКР 5
C2: Индивидуальная карта развития ребенка по результатам мониторинга уровня знания и образовательной сферы в 2023-2024 учебном году подготовительного дошкольного группы
C3: итог
B5: Имя ребенка | C5: ='предшкольный класс'!B13 -> Калинина Вероника Евгеньевна
B6: Физическое развитие
B7: Физическая культура | C7: =CONCATENATE(Деңгей!C13,Деңгей!D13,Деңгей!E13) -> ходит в колонне по одному, по двое, по трое, с перешагиванием через предметы, боком: с поворотом в другую сторону по сигналу | D7: 1-Ф.1
C8: =CONCATENATE(Деңгей!F13,Деңгей!G13,Деңгей!H13) -> бегает с разной скоростью - медленно, быстро, в среднем темпе, непрерывно | D8: 1-Ф.2
C9: =CONCATENATE(Деңгей!I13,Деңгей!J13,Деңгей!K13) -> активно участвует в национальных подвижных играх, играх с элементами соревнований и эстафетных играх, , где демонстрирует физические качества: скорость, силу, выносливость, гибкость, ловкость | D9: 1-Ф.3
C10: =CONCATENATE(Деңгей!L13,Деңгей!M13,Деңгей!N13) -> проявляет активность в спортивных играх и тренировках | D10: 1-Ф.4
C11: =CONCATENATE(Деңгей!O13,Деңгей!P13,Деңгей!Q13) -> выполняет самостоятельно гигиенические процедуры | D11: 1-Ф.5
C12: =CONCATENATE(Деңгей!R13,Деңгей!S13,Деңгей!T13) -> владеет навыками самообслуживания и ухода за одеждой | D12: 1-Ф.6
C13: =CONCATENATE(Деңгей!U13,Деңгей!V13,Деңгей!W13) -> имеет первоначальные представления о здоровом образе жизни | D13: 1-Ф.7
B14: Развитие коммуникативных навыков
B15: Развитие речи | C15: =CONCATENATE(Деңгей!X13,Деңгей!Y13,Деңгей!Z13) -> выполняет звуковой анализ слов | D15: 5-К.1
C16: =CONCATENATE(Деңгей!AA13,Деңгей!AB13,Деңгей!AC13) -> выполняет звуковой анализ слов | D16: 5-К.2
C17: =CONCATENATE(Деңгей!AD13,Деңгей!AE13,Деңгей!AF13) -> произносит имена существительные, связывая их с числительными и прилагательными с существительными | D17: 5-К.3
C18: =CONCATENATE(Деңгей!AG13,Деңгей!AH13,Деңгей!AI13) -> внимательно слушает собеседника, правильно задает вопросы и дает короткие или полные ответы на них | D18: 5-К.4
C19: =CONCATENATE(Деңгей!AJ13,Деңгей!AK13,Деңгей!AL13) -> сочиняет рассказы по наблюдениям и сюжетным картинкам | D19: 5-К.5
C20: =CONCATENATE(Деңгей!AM13,Деңгей!AN13,Деңгей!AO13) -> последовательно пересказывает рассказы | D20: 5-К.6
C21: =CONCATENATE(Деңгей!AP13,Деңгей!AQ13,Деңгей!AR13) -> ведет себя культурно, тактично во время беседы | D21: 5-К.7
B23: Художественная литература | C23: =CONCATENATE(Деңгей!AS13,Деңгей!AT13,Деңгей!AU13) -> различает причинно-следственные связи, литературные жанры | D23: 5-К.8
C24: =CONCATENATE(Деңгей!AV13,Деңгей!AW13,Деңгей!AX13) -> читает стихотворения выразительно, с интонацией | D24: 5-К.9
C25: =CONCATENATE(Деңгей!AY13,Деңгей!AZ13,Деңгей!BA13) -> пересказывает содержание рассказа самостоятельно, сохраняя последовательность сюжета | D25: 5-К.10
C26: =CONCATENATE(Деңгей!BB13,Деңгей!BC13,Деңгей!BD13) -> передает в ролях настроение и характер героя, жесты, интонацию и мимику образа | D26: 5-К.11
C27: =CONCATENATE(Деңгей!BE13,Деңгей!BF13,Деңгей!BG13) -> выполняет свою роль в постановке выразительно, самостоятельно | D27: 5-К.12
C28: =CONCATENATE(Деңгей!BH13,Деңгей!BI13,Деңгей!BJ13) -> делится впечатлениями, информацией из различных источников | D28: 5-К.13
C29: =CONCATENATE(Деңгей!BK13,Деңгей!BL13,Деңгей!BM13) -> выражает свое отношение к происходящему вокруг | D29: 5-К.14
B31: Основы грамоты | C31: =CONCATENATE(Деңгей!BN13,Деңгей!BO13,Деңгей!BP13) -> выполняет звуковой анализ слов: определяет порядок звуков в слове, гласных и согласных | D31: 5-К.15
C32: =CONCATENATE(Деңгей!BQ13,Деңгей!BR13,Деңгей!BS13) -> четко произносит все звуки, различает гласные и согласные | D32: 5-К.16
C33: =CONCATENATE(Деңгей!BT13,Деңгей!BU13,Деңгей!BV13) -> составляет слово на заданный слог | D33: 5-К.17
C34: =CONCATENATE(Деңгей!BW13,Деңгей!BX13,Деңгей!BY13) -> составляет простые предложения с предложенными словами | D34: 5-К.18
C35: =CONCATENATE(Деңгей!BZ13,Деңгей!CA13,Деңгей!CB13) -> правильно держит ручку | D35: 5-К.19
C36: =CONCATENATE(Деңгей!CC13,Деңгей!CD13,Деңгей!CE13) -> рисует различные линии | D36: 5-К.20
C37: =CONCATENATE(Деңгей!CF13,Деңгей!CG13,Деңгей!CH13) -> умеет ориентироваться, различать пространство | D37: 5-К.21
B39: Казахский язык | C39: =CONCATENATE(Деңгей!CI13,Деңгей!CJ13,Деңгей!CK13) -> правильно произносит специфические звуки казахского языка в слове | D39: 5-К.22
C40: =CONCATENATE(Деңгей!CL13,Деңгей!CM13,Деңгей!CN13) -> рассказывает пословицы и поговорки | D40: 5-К.23
C41: =CONCATENATE(Деңгей!CO13,Деңгей!CP13,Деңгей!CQ13) -> понимает и произносит названия продуктов, посуды, мебели, фруктов, | D41: 5-К.24
C42: =CONCATENATE(Деңгей!CR13,Деңгей!CS13,Деңгей!CT13) -> называет слова, обозначающие признаки предметов (цвет, величина), действия с предметами, употребляет их в разговорной речи | D42: 5-К.25
C43: =CONCATENATE(Деңгей!CU13,Деңгей!CV13,Деңгей!CW13) -> называет слова, обозначающие признаки предметов (цвет, величина), действия с предметами, употребляет их в разговорной речи | D43: 5-К.26
C44: =CONCATENATE(Деңгей!CX13,Деңгей!CY13,Деңгей!CZ13) -> употребляет знакомые слова в повседневной жизни | D44: 5-К.27
C45: =CONCATENATE(Деңгей!DA13,Деңгей!DB13,Деңгей!DC13) -> составляет рассказы по образцу педагога | D45: 5-К.28
B46: Развитие познавательных и интеллектуальных навыков
B47: Основы математики | C47: =CONCATENATE(Деңгей!DD13,Деңгей!DE13,Деңгей!DF13) -> знает прямой и обратный счет до 10 | D47: 5-П.1
C48: =CONCATENATE(Деңгей!DG13,Деңгей!DH13,Деңгей!DI13) -> делит и воссоединяет | D48: 5-П.2
C49: =CONCATENATE(Деңгей!DJ13,Деңгей!DK13,Деңгей!DL13) -> знает прямой и обратный счет в пределах 10-ти, различает вопросы "Сколько?", "Который?" ("Какой?") и правильно отвечает на них | D49: 5-П.3
C50: =CONCATENATE(Деңгей!DM13,Деңгей!DN13,Деңгей!DO13) -> располагает предметы в порядке возрастания и убывания | D50: 5-П.4
C51: =CONCATENATE(Деңгей!DP13,Деңгей!DQ13,Деңгей!DR13) -> ориентируется на листе бумаги, называет последовательно дни недели, месяцы по временам года | D51: 5-П.5
C52: =CONCATENATE(Деңгей!DS13,Деңгей!DT13,Деңгей!DU13) -> различает и называет геометрические фигуры (круг, овал, треугольник, квадрат, прямоугольник) | D52: 5-П.6
C53: =CONCATENATE(Деңгей!DV13,Деңгей!DW13,Деңгей!DX13) -> рисует различные линии | D53: 5-П.7
B54: Развитие творческих навыков, исследовательской деятельности детей
B55: Рисование | C55: =CONCATENATE(Деңгей!DY13,Деңгей!DZ13,Деңгей!EA13) -> передает образы через несложные движения и позы | D55: 5-Т.1
C56: =CONCATENATE(Деңгей!EB13,Деңгей!EC13,Деңгей!ED13) -> пользуется красками, красит различными принтами | D56: 5-Т.2
C57: =CONCATENATE(Деңгей!EE13,Деңгей!EF13,Деңгей!EG13) -> получает новые цвета и оттенки (синий, розовый, темно-зеленый) путем смешивания красок | D57: 5-Т.3
C58: =CONCATENATE(Деңгей!EH13,Деңгей!EI13,Деңгей!EJ13) -> выполняет задачи по обоюдному согласию | D58: 5-Т.4
C59: =CONCATENATE(Деңгей!EK13,Деңгей!EL13,Деңгей!EM13) -> рисует элементы казахского орнамента и украшает ими одежду, предметы быта | D59: 5-Т.5
C60: =CONCATENATE(Деңгей!EN13,Деңгей!EO13,Деңгей!EP13) -> изображает сюжетные рисунки | D60: 5-Т.6
C61: =CONCATENATE(Деңгей!EQ13,Деңгей!ER13,Деңгей!ES13) -> соблюдает аккуратность при рисовании, правила безопасного поведения | D61: 5-Т.7
B63: Развитие творческих навыков, исследовательской деятельности детей | C63: =CONCATENATE(Деңгей!ET13,Деңгей!EU13,Деңгей!EV13) -> лепит с натуры и по представлению знакомые предметы разной формы и величины | D63: 5-Т.8
C64: =CONCATENATE(Деңгей!EW13,Деңгей!EX13,Деңгей!EY13) -> лепит фигуры человека и животного | D64: 5-Т.9
C65: =CONCATENATE(Деңгей!EZ13,Деңгей!FA13,Деңгей!FB13) -> использует различные методы лепки | D65: 5-Т.10
C66: =CONCATENATE(Деңгей!FC13,Деңгей!FD13,Деңгей!FE13) -> составляет сюжетные композиции | D66: 5-Т.11
C67: =CONCATENATE(Деңгей!FF13,Деңгей!FG13,Деңгей!FH13) -> лепит разнообразную казахскую посуду, предметы быта, ювелирные изделия | D67: 5-Т.12
C68: =CONCATENATE(Деңгей!FI13,Деңгей!FJ13,Деңгей!FK13) -> владеет навыками коллективной лепки для общей композиции | D68: 5-Т.13
C69: =CONCATENATE(Деңгей!FL13,Деңгей!FM13,Деңгей!FN13) -> аккуратно выполняет работу, соблюдает правила безопасности | D69: 5-Т.14
B71: Аппликация | C71: =CONCATENATE(Деңгей!FO13,Деңгей!FP13,Деңгей!FQ13) -> вырезает ножницами различные геометрические фигуры | D71: 5-Т.15
C72: =CONCATENATE(Деңгей!FR13,Деңгей!FS13,Деңгей!FT13) -> вырезает знакомые или придуманные различные образы, сразу несколько одинаковых форм из бумаги, сложенной гармошкой, и предметы симметричной формы из бумаги, сложенной вдвое | D72: 5-Т.16
C73: =CONCATENATE(Деңгей!FU13,Деңгей!FV13,Деңгей!FW13) -> выбирает и обосновывает приемы работы | D73: 5-Т.17
C74: =CONCATENATE(Деңгей!FX13,Деңгей!FY13,Деңгей!FZ13) -> стремиться понять важность | D74: 5-Т.18
C75: =CONCATENATE(Деңгей!GA13,Деңгей!GB13,Деңгей!GC13) -> выполняет сюжетные композиции как индивидуально, так и в небольших группах | D75: 5-Т.19
C76: =CONCATENATE(Деңгей!GD13,Деңгей!GE13,Деңгей!GF13) -> создает сюжетные композиции, дополняя их модными деталями | D76: 5-Т.20
C77: =CONCATENATE(Деңгей!GG13,Деңгей!GH13,Деңгей!GI13) -> соблюдает правила безопасности труда и личной гигиены | D77: 5-Т.21
B79: Конструирование | C79: =CONCATENATE(Деңгей!GJ13,Деңгей!GK13,Деңгей!GL13) -> строит самостоятельно на предложенную тему | D79: 5-Т.22
C80: =CONCATENATE(Деңгей!GM13,Деңгей!GN13,Деңгей!GO13) -> конструирует из бросового и природного материала | D80: 5-Т.23
C81: =CONCATENATE(Деңгей!GP13,Деңгей!GQ13,Деңгей!GR13) -> анализируя построенное им сооружение, находит эффективные конструктивные решения, применяет их при конструировании | D81: 5-Т.24
C82: =CONCATENATE(Деңгей!GS13,Деңгей!GT13,Деңгей!GU13) -> совместно конструирует необходимую для игры конструкцию, выполняют работу по согласованию, играют с готовой конструкцией | D82: 5-Т.25
C83: =CONCATENATE(Деңгей!GV13,Деңгей!GW13,Деңгей!GX13) -> работает в команде | D83: 5-Т.26
C84: =CONCATENATE(Деңгей!GY13,Деңгей!GZ13,Деңгей!HA13) -> преобразовывает плоскостные бумажные формы в объемные | D84: 5-Т.27
C85: =CONCATENATE(Деңгей!HB13,Деңгей!HC13,Деңгей!HD13) -> соблюдает правила безопасности на рабочем месте | D85: 5-Т.28
B87: Музыка | C87: =CONCATENATE(Деңгей!HE13,Деңгей!HF13,Деңгей!HG13) -> различает простые музыкальные жанры (кюй, песня, танец, марш) | D87: 5-Т.29
C88: =CONCATENATE(Деңгей!HH13,Деңгей!HI13,Деңгей!HJ13) -> исполняет знакомые песни самостоятельно с музыкальным сопровождением и без сопровождения исполняет знакомые песни самостоятельно с музыкальным сопровождением и без сопровождения | D88: 5-Т.30
C89: =CONCATENATE(Деңгей!HK13,Деңгей!HL13,Деңгей!HM13) -> произносит текст песни четко, воспринимает и передает характер музыки | D89: 5-Т.31
C90: =CONCATENATE(Деңгей!HN13,Деңгей!HO13,Деңгей!HP13) -> выделяет отдельные фрагменты произведения | D90: 5-Т.32
C91: =CONCATENATE(Деңгей!HQ13,Деңгей!HR13,Деңгей!HS13) -> играет простые мелодии на музыкальных инструментах | D91: 5-Т.33
C92: =CONCATENATE(Деңгей!HT13,Деңгей!HU13,Деңгей!HV13) -> самостоятельно и творчески исполняет песни различного характера | D92: 5-Т.34
C93: =CONCATENATE(Деңгей!HW13,Деңгей!HX13,Деңгей!HY13) -> выполняет движения в соответствии с характером музыки | D93: 5-Т.35
B94: Формирование социально-эмоциональных навыков
B96: Ознакомление с окружающим миром | C96: =CONCATENATE(Деңгей!HZ13,Деңгей!IA13,Деңгей!IB13) -> верит в свои силы и возможности, понимает важность трудолюбия и ответственности | D96: 5-С.1
C97: =CONCATENATE(Деңгей!IC13,Деңгей!ID13,Деңгей!IE13) -> понимает родственные связи, уважает старших, заботится о младших | D97: 5-С.2
C98: =CONCATENATE(Деңгей!IF13,Деңгей!IG13,Деңгей!IH13) -> говорит осознанно, выражает свое мнение | D98: 5-С.3
C99: =CONCATENATE(Деңгей!II13,Деңгей!IJ13,Деңгей!IK13) -> знает о применении специальных транспортных средств, знает элементарные правила дорожного движения | D99: 5-С.4
C100: =CONCATENATE(Деңгей!IL13,Деңгей!IM13,Деңгей!IN13) -> любит свою Родину, понимает значение живописной природы, достопримечательностей, исторических мест и культурного наследия Казахстана | D100: 5-С.5
C101: =CONCATENATE(Деңгей!IO13,Деңгей!IP13,Деңгей!IQ13) -> наблюдает и понимает причинно-следственные связи между живой и неживой природой, явлениями природы, знает об охране природы, значении солнца и воздуха в жизни человека, животных и растений | D101: 5-С.6
C102: =CONCATENATE(Деңгей!IR13,Деңгей!IS13,Деңгей!IT13) -> понимает и различает что «правильно» или «неправильно», «хорошо» или «плохо» | D102: 5-С.7
C104: ФИ воспитателя:

Sheet ИКР 6
C2: Индивидуальная карта развития ребенка по результатам мониторинга уровня знания и образовательной сферы в 2023-2024 учебном году подготовительного дошкольного группы
C3: итог
B5: Имя ребенка | C5: ='предшкольный класс'!B14 -> Каруно Анна Сергеевна
B6: Физическое развитие
B7: Физическая культура | C7: =CONCATENATE(Деңгей!C14,Деңгей!D14,Деңгей!E14) -> ходит в колонне по одному, по двое, по трое, с перешагиванием через предметы, боком: с поворотом в другую сторону по сигналу | D7: 1-Ф.1
C8: =CONCATENATE(Деңгей!F14,Деңгей!G14,Деңгей!H14) -> бегает с разной скоростью - медленно, быстро, в среднем темпе, непрерывно | D8: 1-Ф.2
C9: =CONCATENATE(Деңгей!I14,Деңгей!J14,Деңгей!K14) -> активно участвует в национальных подвижных играх, играх с элементами соревнований и эстафетных играх, , где демонстрирует физические качества: скорость, силу, выносливость, гибкость, ловкость | D9: 1-Ф.3
C10: =CONCATENATE(Деңгей!L14,Деңгей!M14,Деңгей!N14) -> проявляет активность в спортивных играх и тренировках | D10: 1-Ф.4
C11: =CONCATENATE(Деңгей!O14,Деңгей!P14,Деңгей!Q14) -> выполняет самостоятельно гигиенические процедуры | D11: 1-Ф.5
C12: =CONCATENATE(Деңгей!R14,Деңгей!S14,Деңгей!T14) -> владеет навыками самообслуживания и ухода за одеждой | D12: 1-Ф.6
C13: =CONCATENATE(Деңгей!U14,Деңгей!V14,Деңгей!W14) -> имеет первоначальные представления о здоровом образе жизни | D13: 1-Ф.7
B14: Развитие коммуникативных навыков
B15: Развитие речи | C15: =CONCATENATE(Деңгей!X14,Деңгей!Y14,Деңгей!Z14) -> выполняет звуковой анализ слов | D15: 5-К.1
C16: =CONCATENATE(Деңгей!AA14,Деңгей!AB14,Деңгей!AC14) -> выполняет звуковой анализ слов | D16: 5-К.2
C17: =CONCATENATE(Деңгей!AD14,Деңгей!AE14,Деңгей!AF14) -> произносит имена существительные, связывая их с числительными и прилагательными с существительными | D17: 5-К.3
C18: =CONCATENATE(Деңгей!AG14,Деңгей!AH14,Деңгей!AI14) -> внимательно слушает собеседника, правильно задает вопросы и дает короткие или полные ответы на них | D18: 5-К.4
C19: =CONCATENATE(Деңгей!AJ14,Деңгей!AK14,Деңгей!AL14) -> сочиняет рассказы по наблюдениям и сюжетным картинкам | D19: 5-К.5
C20: =CONCATENATE(Деңгей!AM14,Деңгей!AN14,Деңгей!AO14) -> последовательно пересказывает рассказы | D20: 5-К.6
C21: =CONCATENATE(Деңгей!AP14,Деңгей!AQ14,Деңгей!AR14) -> ведет себя культурно, тактично во время беседы | D21: 5-К.7
B23: Художественная литература | C23: =CONCATENATE(Деңгей!AS14,Деңгей!AT14,Деңгей!AU14) -> различает причинно-следственные связи, литературные жанры | D23: 5-К.8
C24: =CONCATENATE(Деңгей!AV14,Деңгей!AW14,Деңгей!AX14) -> читает стихотворения выразительно, с интонацией | D24: 5-К.9
C25: =CONCATENATE(Деңгей!AY14,Деңгей!AZ14,Деңгей!BA14) -> пересказывает содержание рассказа самостоятельно, сохраняя последовательность сюжета | D25: 5-К.10
C26: =CONCATENATE(Деңгей!BB14,Деңгей!BC14,Деңгей!BD14) -> передает в ролях настроение и характер героя, жесты, интонацию и мимику образа | D26: 5-К.11
C27: =CONCATENATE(Деңгей!BE14,Деңгей!BF14,Деңгей!BG14) -> выполняет свою роль в постановке выразительно, самостоятельно | D27: 5-К.12
C28: =CONCATENATE(Деңгей!BH14,Деңгей!BI14,Деңгей!BJ14) -> делится впечатлениями, информацией из различных источников | D28: 5-К.13
C29: =CONCATENATE(Деңгей!BK14,Деңгей!BL14,Деңгей!BM14) -> выражает свое отношение к происходящему вокруг | D29: 5-К.14
B31: Основы грамоты | C31: =CONCATENATE(Деңгей!BN14,Деңгей!BO14,Деңгей!BP14) -> выполняет звуковой анализ слов: определяет порядок звуков в слове, гласных и согласных | D31: 5-К.15
C32: =CONCATENATE(Деңгей!BQ14,Деңгей!BR14,Деңгей!BS14) -> четко произносит все звуки, различает гласные и согласные | D32: 5-К.16
C33: =CONCATENATE(Деңгей!BT14,Деңгей!BU14,Деңгей!BV14) -> составляет слово на заданный слог | D33: 5-К.17
C34: =CONCATENATE(Деңгей!BW14,Деңгей!BX14,Деңгей!BY14) -> составляет простые предложения с предложенными словами | D34: 5-К.18
C35: =CONCATENATE(Деңгей!BZ14,Деңгей!CA14,Деңгей!CB14) -> правильно держит ручку | D35: 5-К.19
C36: =CONCATENATE(Деңгей!CC14,Деңгей!CD14,Деңгей!CE14) -> рисует различные линии | D36: 5-К.20
C37: =CONCATENATE(Деңгей!CF14,Деңгей!CG14,Деңгей!CH14) -> умеет ориентироваться, различать пространство | D37: 5-К.21
B39: Казахский язык | C39: =CONCATENATE(Деңгей!CI14,Деңгей!CJ14,Деңгей!CK14) -> правильно произносит специфические звуки казахского языка в слове | D39: 5-К.22
C40: =CONCATENATE(Деңгей!CL14,Деңгей!CM14,Деңгей!CN14) -> рассказывает пословицы и поговорки | D40: 5-К.23
C41: =CONCATENATE(Деңгей!CO14,Деңгей!CP14,Деңгей!CQ14) -> понимает и произносит названия продуктов, посуды, мебели, фруктов, | D41: 5-К.24
C42: =CONCATENATE(Деңгей!CR14,Деңгей!CS14,Деңгей!CT14) -> называет слова, обозначающие признаки предметов (цвет, величина), действия с предметами, употребляет их в разговорной речи | D42: 5-К.25
C43: =CONCATENATE(Деңгей!CU14,Деңгей!CV14,Деңгей!CW14) -> называет слова, обозначающие признаки предметов (цвет, величина), действия с предметами, употребляет их в разговорной речи | D43: 5-К.26
C44: =CONCATENATE(Деңгей!CX14,Деңгей!CY14,Деңгей!CZ14) -> употребляет знакомые слова в повседневной жизни | D44: 5-К.27
C45: =CONCATENATE(Деңгей!DA14,Деңгей!DB14,Деңгей!DC14) -> составляет рассказы по образцу педагога | D45: 5-К.28
B46: Развитие познавательных и интеллектуальных навыков
B47: Основы математики | C47: =CONCATENATE(Деңгей!DD14,Деңгей!DE14,Деңгей!DF14) -> знает прямой и обратный счет до 10 | D47: 5-П.1
C48: =CONCATENATE(Деңгей!DG14,Деңгей!DH14,Деңгей!DI14) -> делит и воссоединяет | D48: 5-П.2
C49: =CONCATENATE(Деңгей!DJ14,Деңгей!DK14,Деңгей!DL14) -> знает прямой и обратный счет в пределах 10-ти, различает вопросы "Сколько?", "Который?" ("Какой?") и правильно отвечает на них | D49: 5-П.3
C50: =CONCATENATE(Деңгей!DM14,Деңгей!DN14,Деңгей!DO14) -> располагает предметы в порядке возрастания и убывания | D50: 5-П.4
C51: =CONCATENATE(Деңгей!DP14,Деңгей!DQ14,Деңгей!DR14) -> ориентируется на листе бумаги, называет последовательно дни недели, месяцы по временам года | D51: 5-П.5
C52: =CONCATENATE(Деңгей!DS14,Деңгей!DT14,Деңгей!DU14) -> различает и называет геометрические фигуры (круг, овал, треугольник, квадрат, прямоугольник) | D52: 5-П.6
C53: =CONCATENATE(Деңгей!DV14,Деңгей!DW14,Деңгей!DX14) -> рисует различные линии | D53: 5-П.7
B54: Развитие творческих навыков, исследовательской деятельности детей
B55: Рисование | C55: =CONCATENATE(Деңгей!DY14,Деңгей!DZ14,Деңгей!EA14) -> передает образы через несложные движения и позы | D55: 5-Т.1
C56: =CONCATENATE(Деңгей!EB14,Деңгей!EC14,Деңгей!ED14) -> пользуется красками, красит различными принтами | D56: 5-Т.2
C57: =CONCATENATE(Деңгей!EE14,Деңгей!EF14,Деңгей!EG14) -> получает новые цвета и оттенки (синий, розовый, темно-зеленый) путем смешивания красок | D57: 5-Т.3
C58: =CONCATENATE(Деңгей!EH14,Деңгей!EI14,Деңгей!EJ14) -> выполняет задачи по обоюдному согласию | D58: 5-Т.4
C59: =CONCATENATE(Деңгей!EK14,Деңгей!EL14,Деңгей!EM14) -> рисует элементы казахского орнамента и украшает ими одежду, предметы быта | D59: 5-Т.5
C60: =CONCATENATE(Деңгей!EN14,Деңгей!EO14,Деңгей!EP14) -> изображает сюжетные рисунки | D60: 5-Т.6
C61: =CONCATENATE(Деңгей!EQ14,Деңгей!ER14,Деңгей!ES14) -> соблюдает аккуратность при рисовании, правила безопасного поведения | D61: 5-Т.7
B63: Развитие творческих навыков, исследовательской деятельности детей | C63: =CONCATENATE(Деңгей!ET14,Деңгей!EU14,Деңгей!EV14) -> лепит с натуры и по представлению знакомые предметы разной формы и величины | D63: 5-Т.8
C64: =CONCATENATE(Деңгей!EW14,Деңгей!EX14,Деңгей!EY14) -> лепит фигуры человека и животного | D64: 5-Т.9
C65: =CONCATENATE(Деңгей!EZ14,Деңгей!FA14,Деңгей!FB14) -> использует различные методы лепки | D65: 5-Т.10
C66: =CONCATENATE(Деңгей!FC14,Деңгей!FD14,Деңгей!FE14) -> составляет сюжетные композиции | D66: 5-Т.11
C67: =CONCATENATE(Деңгей!FF14,Деңгей!FG14,Деңгей!FH14) -> лепит разнообразную казахскую посуду, предметы быта, ювелирные изделия | D67: 5-Т.12
C68: =CONCATENATE(Деңгей!FI14,Деңгей!FJ14,Деңгей!FK14) -> владеет навыками коллективной лепки для общей композиции | D68: 5-Т.13
C69: =CONCATENATE(Деңгей!FL14,Деңгей!FM14,Деңгей!FN14) -> аккуратно выполняет работу, соблюдает правила безопасности | D69: 5-Т.14
B71: Аппликация | C71: =CONCATENATE(Деңгей!FO14,Деңгей!FP14,Деңгей!FQ14) -> вырезает ножницами различные геометрические фигуры | D71: 5-Т.15
C72: =CONCATENATE(Деңгей!FR14,Деңгей!FS14,Деңгей!FT14) -> вырезает знакомые или придуманные различные образы, сразу несколько одинаковых форм из бумаги, сложенной гармошкой, и предметы симметричной формы из бумаги, сложенной вдвое | D72: 5-Т.16
C73: =CONCATENATE(Деңгей!FU14,Деңгей!FV14,Деңгей!FW14) -> выбирает и обосновывает приемы работы | D73: 5-Т.17
C74: =CONCATENATE(Деңгей!FX14,Деңгей!FY14,Деңгей!FZ14) -> стремиться понять важность | D74: 5-Т.18
C75: =CONCATENATE(Деңгей!GA14,Деңгей!GB14,Деңгей!GC14) -> выполняет сюжетные композиции как индивидуально, так и в небольших группах | D75: 5-Т.19
C76: =CONCATENATE(Деңгей!GD14,Деңгей!GE14,Деңгей!GF14) -> создает сюжетные композиции, дополняя их модными деталями | D76: 5-Т.20
C77: =CONCATENATE(Деңгей!GG14,Деңгей!GH14,Деңгей!GI14) -> соблюдает правила безопасности труда и личной гигиены | D77: 5-Т.21
B79: Конструирование | C79: =CONCATENATE(Деңгей!GJ14,Деңгей!GK14,Деңгей!GL14) -> строит самостоятельно на предложенную тему | D79: 5-Т.22
C80: =CONCATENATE(Деңгей!GM14,Деңгей!GN14,Деңгей!GO14) -> конструирует из бросового и природного материала | D80: 5-Т.23
C81: =CONCATENATE(Деңгей!GP14,Деңгей!GQ14,Деңгей!GR14) -> анализируя построенное им сооружение, находит эффективные конструктивные решения, применяет их при конструировании | D81: 5-Т.24
C82: =CONCATENATE(Деңгей!GS14,Деңгей!GT14,Деңгей!GU14) -> совместно конструирует необходимую для игры конструкцию, выполняют работу по согласованию, играют с готовой конструкцией | D82: 5-Т.25
C83: =CONCATENATE(Деңгей!GV14,Деңгей!GW14,Деңгей!GX14) -> работает в команде | D83: 5-Т.26
C84: =CONCATENATE(Деңгей!GY14,Деңгей!GZ14,Деңгей!HA14) -> преобразовывает плоскостные бумажные формы в объемные | D84: 5-Т.27
C85: =CONCATENATE(Деңгей!HB14,Деңгей!HC14,Деңгей!HD14) -> соблюдает правила безопасности на рабочем месте | D85: 5-Т.28
B87: Музыка | C87: =CONCATENATE(Деңгей!HE14,Деңгей!HF14,Деңгей!HG14) -> различает простые музыкальные жанры (кюй, песня, танец, марш) | D87: 5-Т.29
C88: =CONCATENATE(Деңгей!HH14,Деңгей!HI14,Деңгей!HJ14) -> исполняет знакомые песни самостоятельно с музыкальным сопровождением и без сопровождения исполняет знакомые песни самостоятельно с музыкальным сопровождением и без сопровождения | D88: 5-Т.30
C89: =CONCATENATE(Деңгей!HK14,Деңгей!HL14,Деңгей!HM14) -> произносит текст песни четко, воспринимает и передает характер музыки | D89: 5-Т.31
C90: =CONCATENATE(Деңгей!HN14,Деңгей!HO14,Деңгей!HP14) -> выделяет отдельные фрагменты произведения | D90: 5-Т.32
C91: =CONCATENATE(Деңгей!HQ14,Деңгей!HR14,Деңгей!HS14) -> играет простые мелодии на музыкальных инструментах | D91: 5-Т.33
C92: =CONCATENATE(Деңгей!HT14,Деңгей!HU14,Деңгей!HV14) -> самостоятельно и творчески исполняет песни различного характера | D92: 5-Т.34
C93: =CONCATENATE(Деңгей!HW14,Деңгей!HX14,Деңгей!HY14) -> выполняет движения в соответствии с характером музыки | D93: 5-Т.35
B94: Формирование социально-эмоциональных навыков
B96: Ознакомление с окружающим миром | C96: =CONCATENATE(Деңгей!HZ14,Деңгей!IA14,Деңгей!IB14) -> верит в свои силы и возможности, понимает важность трудолюбия и ответственности | D96: 5-С.1
C97: =CONCATENATE(Деңгей!IC14,Деңгей!ID14,Деңгей!IE14) -> понимает родственные связи, уважает старших, заботится о младших | D97: 5-С.2
C98: =CONCATENATE(Деңгей!IF14,Деңгей!IG14,Деңгей!IH14) -> говорит осознанно, выражает свое мнение | D98: 5-С.3
C99: =CONCATENATE(Деңгей!II14,Деңгей!IJ14,Деңгей!IK14) -> знает о применении специальных транспортных средств, знает элементарные правила дорожного движения | D99: 5-С.4
C100: =CONCATENATE(Деңгей!IL14,Деңгей!IM14,Деңгей!IN14) -> любит свою Родину, понимает значение живописной природы, достопримечательностей, исторических мест и культурного наследия Казахстана | D100: 5-С.5
C101: =CONCATENATE(Деңгей!IO14,Деңгей!IP14,Деңгей!IQ14) -> наблюдает и понимает причинно-следственные связи между живой и неживой природой, явлениями природы, знает об охране природы, значении солнца и воздуха в жизни человека, животных и растений | D101: 5-С.6
C102: =CONCATENATE(Деңгей!IR14,Деңгей!IS14,Деңгей!IT14) -> понимает и различает что «правильно» или «неправильно», «хорошо» или «плохо» | D102: 5-С.7
C104: ФИ воспитателя:

Sheet ИКР 7
C2: Индивидуальная карта развития ребенка по результатам мониторинга уровня знания и образовательной сферы в 2023-2024 учебном году подготовительного дошкольного группы
C3: итог
B5: Имя ребенка | C5: ='предшкольный класс'!B15 -> Касымова Севара Рустамовна
B6: Физическое развитие
B7: Физическая культура | C7: =CONCATENATE(Деңгей!C15,Деңгей!D15,Деңгей!E15) -> ходит в колонне по одному, по двое, по трое, с перешагиванием через предметы, боком: с поворотом в другую сторону по сигналу | D7: 1-Ф.1
C8: =CONCATENATE(Деңгей!F15,Деңгей!G15,Деңгей!H15) -> бегает с разной скоростью - медленно, быстро, в среднем темпе, непрерывно | D8: 1-Ф.2
C9: =CONCATENATE(Деңгей!I15,Деңгей!J15,Деңгей!K15) -> активно участвует в национальных подвижных играх, играх с элементами соревнований и эстафетных играх, , где демонстрирует физические качества: скорость, силу, выносливость, гибкость, ловкость | D9: 1-Ф.3
C10: =CONCATENATE(Деңгей!L15,Деңгей!M15,Деңгей!N15) -> проявляет активность в спортивных играх и тренировках | D10: 1-Ф.4
C11: =CONCATENATE(Деңгей!O15,Деңгей!P15,Деңгей!Q15) -> выполняет самостоятельно гигиенические процедуры | D11: 1-Ф.5
C12: =CONCATENATE(Деңгей!R15,Деңгей!S15,Деңгей!T15) -> владеет навыками самообслуживания и ухода за одеждой | D12: 1-Ф.6
C13: =CONCATENATE(Деңгей!U15,Деңгей!V15,Деңгей!W15) -> имеет первоначальные представления о здоровом образе жизни | D13: 1-Ф.7
B14: Развитие коммуникативных навыков
B15: Развитие речи | C15: =CONCATENATE(Деңгей!X15,Деңгей!Y15,Деңгей!Z15) -> выполняет звуковой анализ слов | D15: 5-К.1
C16: =CONCATENATE(Деңгей!AA15,Деңгей!AB15,Деңгей!AC15) -> выполняет звуковой анализ слов | D16: 5-К.2
C17: =CONCATENATE(Деңгей!AD15,Деңгей!AE15,Деңгей!AF15) -> произносит имена существительные, связывая их с числительными и прилагательными с существительными | D17: 5-К.3
C18: =CONCATENATE(Деңгей!AG15,Деңгей!AH15,Деңгей!AI15) -> внимательно слушает собеседника, правильно задает вопросы и дает короткие или полные ответы на них | D18: 5-К.4
C19: =CONCATENATE(Деңгей!AJ15,Деңгей!AK15,Деңгей!AL15) -> сочиняет рассказы по наблюдениям и сюжетным картинкам | D19: 5-К.5
C20: =CONCATENATE(Деңгей!AM15,Деңгей!AN15,Деңгей!AO15) -> последовательно пересказывает рассказы | D20: 5-К.6
C21: =CONCATENATE(Деңгей!AP15,Деңгей!AQ15,Деңгей!AR15) -> ведет себя культурно, тактично во время беседы | D21: 5-К.7
B23: Художественная литература | C23: =CONCATENATE(Деңгей!AS15,Деңгей!AT15,Деңгей!AU15) -> различает причинно-следственные связи, литературные жанры | D23: 5-К.8
C24: =CONCATENATE(Деңгей!AV15,Деңгей!AW15,Деңгей!AX15) -> читает стихотворения выразительно, с интонацией | D24: 5-К.9
C25: =CONCATENATE(Деңгей!AY15,Деңгей!AZ15,Деңгей!BA15) -> пересказывает содержание рассказа самостоятельно, сохраняя последовательность сюжета | D25: 5-К.10
C26: =CONCATENATE(Деңгей!BB15,Деңгей!BC15,Деңгей!BD15) -> передает в ролях настроение и характер героя, жесты, интонацию и мимику образа | D26: 5-К.11
C27: =CONCATENATE(Деңгей!BE15,Деңгей!BF15,Деңгей!BG15) -> выполняет свою роль в постановке выразительно, самостоятельно | D27: 5-К.12
C28: =CONCATENATE(Деңгей!BH15,Деңгей!BI15,Деңгей!BJ15) -> делится впечатлениями, информацией из различных источников | D28: 5-К.13
C29: =CONCATENATE(Деңгей!BK15,Деңгей!BL15,Деңгей!BM15) -> выражает свое отношение к происходящему вокруг | D29: 5-К.14
B31: Основы грамоты | C31: =CONCATENATE(Деңгей!BN15,Деңгей!BO15,Деңгей!BP15) -> выполняет звуковой анализ слов: определяет порядок звуков в слове, гласных и согласных | D31: 5-К.15
C32: =CONCATENATE(Деңгей!BQ15,Деңгей!BR15,Деңгей!BS15) -> четко произносит все звуки, различает гласные и согласные | D32: 5-К.16
C33: =CONCATENATE(Деңгей!BT15,Деңгей!BU15,Деңгей!BV15) -> составляет слово на заданный слог | D33: 5-К.17
C34: =CONCATENATE(Деңгей!BW15,Деңгей!BX15,Деңгей!BY15) -> составляет простые предложения с предложенными словами | D34: 5-К.18
C35: =CONCATENATE(Деңгей!BZ15,Деңгей!CA15,Деңгей!CB15) -> правильно держит ручку | D35: 5-К.19
C36: =CONCATENATE(Деңгей!CC15,Деңгей!CD15,Деңгей!CE15) -> рисует различные линии | D36: 5-К.20
C37: =CONCATENATE(Деңгей!CF15,Деңгей!CG15,Деңгей!CH15) -> умеет ориентироваться, различать пространство | D37: 5-К.21
B39: Казахский язык | C39: =CONCATENATE(Деңгей!CI15,Деңгей!CJ15,Деңгей!CK15) -> правильно произносит специфические звуки казахского языка в слове | D39: 5-К.22
C40: =CONCATENATE(Деңгей!CL15,Деңгей!CM15,Деңгей!CN15) -> рассказывает пословицы и поговорки | D40: 5-К.23
C41: =CONCATENATE(Деңгей!CO15,Деңгей!CP15,Деңгей!CQ15) -> понимает и произносит названия продуктов, посуды, мебели, фруктов, | D41: 5-К.24
C42: =CONCATENATE(Деңгей!CR15,Деңгей!CS15,Деңгей!CT15) -> называет слова, обозначающие признаки предметов (цвет, величина), действия с предметами, употребляет их в разговорной речи | D42: 5-К.25
C43: =CONCATENATE(Деңгей!CU15,Деңгей!CV15,Деңгей!CW15) -> называет слова, обозначающие признаки предметов (цвет, величина), действия с предметами, употребляет их в разговорной речи | D43: 5-К.26
C44: =CONCATENATE(Деңгей!CX15,Деңгей!CY15,Деңгей!CZ15) -> употребляет знакомые слова в повседневной жизни | D44: 5-К.27
C45: =CONCATENATE(Деңгей!DA15,Деңгей!DB15,Деңгей!DC15) -> составляет рассказы по образцу педагога | D45: 5-К.28
B46: Развитие познавательных и интеллектуальных навыков
B47: Основы математики | C47: =CONCATENATE(Деңгей!DD15,Деңгей!DE15,Деңгей!DF15) -> знает прямой и обратный счет до 10 | D47: 5-П.1
C48: =CONCATENATE(Деңгей!DG15,Деңгей!DH15,Деңгей!DI15) -> делит и воссоединяет | D48: 5-П.2
C49: =CONCATENATE(Деңгей!DJ15,Деңгей!DK15,Деңгей!DL15) -> знает прямой и обратный счет в пределах 10-ти, различает вопросы "Сколько?", "Который?" ("Какой?") и правильно отвечает на них | D49: 5-П.3
C50: =CONCATENATE(Деңгей!DM15,Деңгей!DN15,Деңгей!DO15) -> располагает предметы в порядке возрастания и убывания | D50: 5-П.4
C51: =CONCATENATE(Деңгей!DP15,Деңгей!DQ15,Деңгей!DR15) -> ориентируется на листе бумаги, называет последовательно дни недели, месяцы по временам года | D51: 5-П.5
C52: =CONCATENATE(Деңгей!DS15,Деңгей!DT15,Деңгей!DU15) -> различает и называет геометрические фигуры (круг, овал, треугольник, квадрат, прямоугольник) | D52: 5-П.6
C53: =CONCATENATE(Деңгей!DV15,Деңгей!DW15,Деңгей!DX15) -> рисует различные линии | D53: 5-П.7
B54: Развитие творческих навыков, исследовательской деятельности детей
B55: Рисование | C55: =CONCATENATE(Деңгей!DY15,Деңгей!DZ15,Деңгей!EA15) -> передает образы через несложные движения и позы | D55: 5-Т.1
C56: =CONCATENATE(Деңгей!EB15,Деңгей!EC15,Деңгей!ED15) -> пользуется красками, красит различными принтами | D56: 5-Т.2
C57: =CONCATENATE(Деңгей!EE15,Деңгей!EF15,Деңгей!EG15) -> получает новые цвета и оттенки (синий, розовый, темно-зеленый) путем смешивания красок | D57: 5-Т.3
C58: =CONCATENATE(Деңгей!EH15,Деңгей!EI15,Деңгей!EJ15) -> выполняет задачи по обоюдному согласию | D58: 5-Т.4
C59: =CONCATENATE(Деңгей!EK15,Деңгей!EL15,Деңгей!EM15) -> рисует элементы казахского орнамента и украшает ими одежду, предметы быта | D59: 5-Т.5
C60: =CONCATENATE(Деңгей!EN15,Деңгей!EO15,Деңгей!EP15) -> изображает сюжетные рисунки | D60: 5-Т.6
C61: =CONCATENATE(Деңгей!EQ15,Деңгей!ER15,Деңгей!ES15) -> соблюдает аккуратность при рисовании, правила безопасного поведения | D61: 5-Т.7
B63: Развитие творческих навыков, исследовательской деятельности детей | C63: =CONCATENATE(Деңгей!ET15,Деңгей!EU15,Деңгей!EV15) -> лепит с натуры и по представлению знакомые предметы разной формы и величины | D63: 5-Т.8
C64: =CONCATENATE(Деңгей!EW15,Деңгей!EX15,Деңгей!EY15) -> лепит фигуры человека и животного | D64: 5-Т.9
C65: =CONCATENATE(Деңгей!EZ15,Деңгей!FA15,Деңгей!FB15) -> использует различные методы лепки | D65: 5-Т.10
C66: =CONCATENATE(Деңгей!FC15,Деңгей!FD15,Деңгей!FE15) -> составляет сюжетные композиции | D66: 5-Т.11
C67: =CONCATENATE(Деңгей!FF15,Деңгей!FG15,Деңгей!FH15) -> лепит разнообразную казахскую посуду, предметы быта, ювелирные изделия | D67: 5-Т.12
C68: =CONCATENATE(Деңгей!FI15,Деңгей!FJ15,Деңгей!FK15) -> владеет навыками коллективной лепки для общей композиции | D68: 5-Т.13
C69: =CONCATENATE(Деңгей!FL15,Деңгей!FM15,Деңгей!FN15) -> аккуратно выполняет работу, соблюдает правила безопасности | D69: 5-Т.14
B71: Аппликация | C71: =CONCATENATE(Деңгей!FO15,Деңгей!FP15,Деңгей!FQ15) -> вырезает ножницами различные геометрические фигуры | D71: 5-Т.15
C72: =CONCATENATE(Деңгей!FR15,Деңгей!FS15,Деңгей!FT15) -> вырезает знакомые или придуманные различные образы, сразу несколько одинаковых форм из бумаги, сложенной гармошкой, и предметы симметричной формы из бумаги, сложенной вдвое | D72: 5-Т.16
C73: =CONCATENATE(Деңгей!FU15,Деңгей!FV15,Деңгей!FW15) -> выбирает и обосновывает приемы работы | D73: 5-Т.17
C74: =CONCATENATE(Деңгей!FX15,Деңгей!FY15,Деңгей!FZ15) -> стремиться понять важность | D74: 5-Т.18
C75: =CONCATENATE(Деңгей!GA15,Деңгей!GB15,Деңгей!GC15) -> выполняет сюжетные композиции как индивидуально, так и в небольших группах | D75: 5-Т.19
C76: =CONCATENATE(Деңгей!GD15,Деңгей!GE15,Деңгей!GF15) -> создает сюжетные композиции, дополняя их модными деталями | D76: 5-Т.20
C77: =CONCATENATE(Деңгей!GG15,Деңгей!GH15,Деңгей!GI15) -> соблюдает правила безопасности труда и личной гигиены | D77: 5-Т.21
B79: Конструирование | C79: =CONCATENATE(Деңгей!GJ15,Деңгей!GK15,Деңгей!GL15) -> строит самостоятельно на предложенную тему | D79: 5-Т.22
C80: =CONCATENATE(Деңгей!GM15,Деңгей!GN15,Деңгей!GO15) -> конструирует из бросового и природного материала | D80: 5-Т.23
C81: =CONCATENATE(Деңгей!GP15,Деңгей!GQ15,Деңгей!GR15) -> анализируя построенное им сооружение, находит эффективные конструктивные решения, применяет их при конструировании | D81: 5-Т.24
C82: =CONCATENATE(Деңгей!GS15,Деңгей!GT15,Деңгей!GU15) -> совместно конструирует необходимую для игры конструкцию, выполняют работу по согласованию, играют с готовой конструкцией | D82: 5-Т.25
C83: =CONCATENATE(Деңгей!GV15,Деңгей!GW15,Деңгей!GX15) -> работает в команде | D83: 5-Т.26
C84: =CONCATENATE(Деңгей!GY15,Деңгей!GZ15,Деңгей!HA15) -> преобразовывает плоскостные бумажные формы в объемные | D84: 5-Т.27
C85: =CONCATENATE(Деңгей!HB15,Деңгей!HC15,Деңгей!HD15) -> соблюдает правила безопасности на рабочем месте | D85: 5-Т.28
B87: Музыка | C87: =CONCATENATE(Деңгей!HE15,Деңгей!HF15,Деңгей!HG15) -> различает простые музыкальные жанры (кюй, песня, танец, марш) | D87: 5-Т.29
C88: =CONCATENATE(Деңгей!HH15,Деңгей!HI15,Деңгей!HJ15) -> исполняет знакомые песни самостоятельно с музыкальным сопровождением и без сопровождения исполняет знакомые песни самостоятельно с музыкальным сопровождением и без сопровождения | D88: 5-Т.30
C89: =CONCATENATE(Деңгей!HK15,Деңгей!HL15,Деңгей!HM15) -> произносит текст песни четко, воспринимает и передает характер музыки | D89: 5-Т.31
C90: =CONCATENATE(Деңгей!HN15,Деңгей!HO15,Деңгей!HP15) -> выделяет отдельные фрагменты произведения | D90: 5-Т.32
C91: =CONCATENATE(Деңгей!HQ15,Деңгей!HR15,Деңгей!HS15) -> играет простые мелодии на музыкальных инструментах | D91: 5-Т.33
C92: =CONCATENATE(Деңгей!HT15,Деңгей!HU15,Деңгей!HV15) -> самостоятельно и творчески исполняет песни различного характера | D92: 5-Т.34
C93: =CONCATENATE(Деңгей!HW15,Деңгей!HX15,Деңгей!HY15) -> выполняет движения в соответствии с характером музыки | D93: 5-Т.35
B94: Формирование социально-эмоциональных навыков
B96: Ознакомление с окружающим миром | C96: =CONCATENATE(Деңгей!HZ15,Деңгей!IA15,Деңгей!IB15) -> верит в свои силы и возможности, понимает важность трудолюбия и ответственности | D96: 5-С.1
C97: =CONCATENATE(Деңгей!IC15,Деңгей!ID15,Деңгей!IE15) -> понимает родственные связи, уважает старших, заботится о младших | D97: 5-С.2
C98: =CONCATENATE(Деңгей!IF15,Деңгей!IG15,Деңгей!IH15) -> говорит осознанно, выражает свое мнение | D98: 5-С.3
C99: =CONCATENATE(Деңгей!II15,Деңгей!IJ15,Деңгей!IK15) -> знает о применении специальных транспортных средств, знает элементарные правила дорожного движения | D99: 5-С.4
C100: =CONCATENATE(Деңгей!IL15,Деңгей!IM15,Деңгей!IN15) -> любит свою Родину, понимает значение живописной природы, достопримечательностей, исторических мест и культурного наследия Казахстана | D100: 5-С.5
C101: =CONCATENATE(Деңгей!IO15,Деңгей!IP15,Деңгей!IQ15) -> наблюдает и понимает причинно-следственные связи между живой и неживой природой, явлениями природы, знает об охране природы, значении солнца и воздуха в жизни человека, животных и растений | D101: 5-С.6
C102: =CONCATENATE(Деңгей!IR15,Деңгей!IS15,Деңгей!IT15) -> понимает и различает что «правильно» или «неправильно», «хорошо» или «плохо» | D102: 5-С.7
C104: ФИ воспитателя:

Sheet ИКР 8
C2: Индивидуальная карта развития ребенка по результатам мониторинга уровня знания и образовательной сферы в 2023-2024 учебном году подготовительного дошкольного группы
C3: итог
B5: Имя ребенка | C5: ='предшкольный класс'!B16 -> Кисиль Дарина Александровна
B6: Физическое развитие
B7: Физическая культура | C7: =CONCATENATE(Деңгей!C16,Деңгей!D16,Деңгей!E16) -> ходит в колонне по одному, по двое, по трое, с перешагиванием через предметы, боком: с поворотом в другую сторону по сигналу | D7: 1-Ф.1
C8: =CONCATENATE(Деңгей!F16,Деңгей!G16,Деңгей!H16) -> бегает с разной скоростью - медленно, быстро, в среднем темпе, непрерывно | D8: 1-Ф.2
C9: =CONCATENATE(Деңгей!I16,Деңгей!J16,Деңгей!K16) -> активно участвует в национальных подвижных играх, играх с элементами соревнований и эстафетных играх, , где демонстрирует физические качества: скорость, силу, выносливость, гибкость, ловкость | D9: 1-Ф.3
C10: =CONCATENATE(Деңгей!L16,Деңгей!M16,Деңгей!N16) -> проявляет активность в спортивных играх и тренировках | D10: 1-Ф.4
C11: =CONCATENATE(Деңгей!O16,Деңгей!P16,Деңгей!Q16) -> выполняет самостоятельно гигиенические процедуры | D11: 1-Ф.5
C12: =CONCATENATE(Деңгей!R16,Деңгей!S16,Деңгей!T16) -> владеет навыками самообслуживания и ухода за одеждой | D12: 1-Ф.6
C13: =CONCATENATE(Деңгей!U16,Деңгей!V16,Деңгей!W16) -> имеет первоначальные представления о здоровом образе жизни | D13: 1-Ф.7
B14: Развитие коммуникативных навыков
B15: Развитие речи | C15: =CONCATENATE(Деңгей!X16,Деңгей!Y16,Деңгей!Z16) -> выполняет звуковой анализ слов | D15: 5-К.1
C16: =CONCATENATE(Деңгей!AA16,Деңгей!AB16,Деңгей!AC16) -> выполняет звуковой анализ слов | D16: 5-К.2
C17: =CONCATENATE(Деңгей!AD16,Деңгей!AE16,Деңгей!AF16) -> произносит имена существительные, связывая их с числительными и прилагательными с существительными | D17: 5-К.3
C18: =CONCATENATE(Деңгей!AG16,Деңгей!AH16,Деңгей!AI16) -> внимательно слушает собеседника, правильно задает вопросы и дает короткие или полные ответы на них | D18: 5-К.4
C19: =CONCATENATE(Деңгей!AJ16,Деңгей!AK16,Деңгей!AL16) -> сочиняет рассказы по наблюдениям и сюжетным картинкам | D19: 5-К.5
C20: =CONCATENATE(Деңгей!AM16,Деңгей!AN16,Деңгей!AO16) -> последовательно пересказывает рассказы | D20: 5-К.6
C21: =CONCATENATE(Деңгей!AP16,Деңгей!AQ16,Деңгей!AR16) -> ведет себя культурно, тактично во время беседы | D21: 5-К.7
B23: Художественная литература | C23: =CONCATENATE(Деңгей!AS16,Деңгей!AT16,Деңгей!AU16) -> различает причинно-следственные связи, литературные жанры | D23: 5-К.8
C24: =CONCATENATE(Деңгей!AV16,Деңгей!AW16,Деңгей!AX16) -> читает стихотворения выразительно, с интонацией | D24: 5-К.9
C25: =CONCATENATE(Деңгей!AY16,Деңгей!AZ16,Деңгей!BA16) -> пересказывает содержание рассказа самостоятельно, сохраняя последовательность сюжета | D25: 5-К.10
C26: =CONCATENATE(Деңгей!BB16,Деңгей!BC16,Деңгей!BD16) -> передает в ролях настроение и характер героя, жесты, интонацию и мимику образа | D26: 5-К.11
C27: =CONCATENATE(Деңгей!BE16,Деңгей!BF16,Деңгей!BG16) -> выполняет свою роль в постановке выразительно, самостоятельно | D27: 5-К.12
C28: =CONCATENATE(Деңгей!BH16,Деңгей!BI16,Деңгей!BJ16) -> делится впечатлениями, информацией из различных источников | D28: 5-К.13
C29: =CONCATENATE(Деңгей!BK16,Деңгей!BL16,Деңгей!BM16) -> выражает свое отношение к происходящему вокруг | D29: 5-К.14
B31: Основы грамоты | C31: =CONCATENATE(Деңгей!BN16,Деңгей!BO16,Деңгей!BP16) -> выполняет звуковой анализ слов: определяет порядок звуков в слове, гласных и согласных | D31: 5-К.15
C32: =CONCATENATE(Деңгей!BQ16,Деңгей!BR16,Деңгей!BS16) -> четко произносит все звуки, различает гласные и согласные | D32: 5-К.16
C33: =CONCATENATE(Деңгей!BT16,Деңгей!BU16,Деңгей!BV16) -> составляет слово на заданный слог | D33: 5-К.17
C34: =CONCATENATE(Деңгей!BW16,Деңгей!BX16,Деңгей!BY16) -> составляет простые предложения с предложенными словами | D34: 5-К.18
C35: =CONCATENATE(Деңгей!BZ16,Деңгей!CA16,Деңгей!CB16) -> правильно держит ручку | D35: 5-К.19
C36: =CONCATENATE(Деңгей!CC16,Деңгей!CD16,Деңгей!CE16) -> рисует различные линии | D36: 5-К.20
C37: =CONCATENATE(Деңгей!CF16,Деңгей!CG16,Деңгей!CH16) -> умеет ориентироваться, различать пространство | D37: 5-К.21
B39: Казахский язык | C39: =CONCATENATE(Деңгей!CI16,Деңгей!CJ16,Деңгей!CK16) -> правильно произносит специфические звуки казахского языка в слове | D39: 5-К.22
C40: =CONCATENATE(Деңгей!CL16,Деңгей!CM16,Деңгей!CN16) -> рассказывает пословицы и поговорки | D40: 5-К.23
C41: =CONCATENATE(Деңгей!CO16,Деңгей!CP16,Деңгей!CQ16) -> понимает и произносит названия продуктов, посуды, мебели, фруктов, | D41: 5-К.24
C42: =CONCATENATE(Деңгей!CR16,Деңгей!CS16,Деңгей!CT16) -> называет слова, обозначающие признаки предметов (цвет, величина), действия с предметами, употребляет их в разговорной речи | D42: 5-К.25
C43: =CONCATENATE(Деңгей!CU16,Деңгей!CV16,Деңгей!CW16) -> называет слова, обозначающие признаки предметов (цвет, величина), действия с предметами, употребляет их в разговорной речи | D43: 5-К.26
C44: =CONCATENATE(Деңгей!CX16,Деңгей!CY16,Деңгей!CZ16) -> употребляет знакомые слова в повседневной жизни | D44: 5-К.27
C45: =CONCATENATE(Деңгей!DA16,Деңгей!DB16,Деңгей!DC16) -> составляет рассказы по образцу педагога | D45: 5-К.28
B46: Развитие познавательных и интеллектуальных навыков
B47: Основы математики | C47: =CONCATENATE(Деңгей!DD16,Деңгей!DE16,Деңгей!DF16) -> знает прямой и обратный счет до 10 | D47: 5-П.1
C48: =CONCATENATE(Деңгей!DG16,Деңгей!DH16,Деңгей!DI16) -> делит и воссоединяет | D48: 5-П.2
C49: =CONCATENATE(Деңгей!DJ16,Деңгей!DK16,Деңгей!DL16) -> знает прямой и обратный счет в пределах 10-ти, различает вопросы "Сколько?", "Который?" ("Какой?") и правильно отвечает на них | D49: 5-П.3
C50: =CONCATENATE(Деңгей!DM16,Деңгей!DN16,Деңгей!DO16) -> располагает предметы в порядке возрастания и убывания | D50: 5-П.4
C51: =CONCATENATE(Деңгей!DP16,Деңгей!DQ16,Деңгей!DR16) -> ориентируется на листе бумаги, называет последовательно дни недели, месяцы по временам года | D51: 5-П.5
C52: =CONCATENATE(Деңгей!DS16,Деңгей!DT16,Деңгей!DU16) -> различает и называет геометрические фигуры (круг, овал, треугольник, квадрат, прямоугольник) | D52: 5-П.6
C53: =CONCATENATE(Деңгей!DV16,Деңгей!DW16,Деңгей!DX16) -> рисует различные линии | D53: 5-П.7
B54: Развитие творческих навыков, исследовательской деятельности детей
B55: Рисование | C55: =CONCATENATE(Деңгей!DY16,Деңгей!DZ16,Деңгей!EA16) -> передает образы через несложные движения и позы | D55: 5-Т.1
C56: =CONCATENATE(Деңгей!EB16,Деңгей!EC16,Деңгей!ED16) -> пользуется красками, красит различными принтами | D56: 5-Т.2
C57: =CONCATENATE(Деңгей!EE16,Деңгей!EF16,Деңгей!EG16) -> получает новые цвета и оттенки (синий, розовый, темно-зеленый) путем смешивания красок | D57: 5-Т.3
C58: =CONCATENATE(Деңгей!EH16,Деңгей!EI16,Деңгей!EJ16) -> выполняет задачи по обоюдному согласию | D58: 5-Т.4
C59: =CONCATENATE(Деңгей!EK16,Деңгей!EL16,Деңгей!EM16) -> рисует элементы казахского орнамента и украшает ими одежду, предметы быта | D59: 5-Т.5
C60: =CONCATENATE(Деңгей!EN16,Деңгей!EO16,Деңгей!EP16) -> изображает сюжетные рисунки | D60: 5-Т.6
C61: =CONCATENATE(Деңгей!EQ16,Деңгей!ER16,Деңгей!ES16) -> соблюдает аккуратность при рисовании, правила безопасного поведения | D61: 5-Т.7
B63: Развитие творческих навыков, исследовательской деятельности детей | C63: =CONCATENATE(Деңгей!ET16,Деңгей!EU16,Деңгей!EV16) -> лепит с натуры и по представлению знакомые предметы разной формы и величины | D63: 5-Т.8
C64: =CONCATENATE(Деңгей!EW16,Деңгей!EX16,Деңгей!EY16) -> лепит фигуры человека и животного | D64: 5-Т.9
C65: =CONCATENATE(Деңгей!EZ16,Деңгей!FA16,Деңгей!FB16) -> использует различные методы лепки | D65: 5-Т.10
C66: =CONCATENATE(Деңгей!FC16,Деңгей!FD16,Деңгей!FE16) -> составляет сюжетные композиции | D66: 5-Т.11
C67: =CONCATENATE(Деңгей!FF16,Деңгей!FG16,Деңгей!FH16) -> лепит разнообразную казахскую посуду, предметы быта, ювелирные изделия | D67: 5-Т.12
C68: =CONCATENATE(Деңгей!FI16,Деңгей!FJ16,Деңгей!FK16) -> владеет навыками коллективной лепки для общей композиции | D68: 5-Т.13
C69: =CONCATENATE(Деңгей!FL16,Деңгей!FM16,Деңгей!FN16) -> аккуратно выполняет работу, соблюдает правила безопасности | D69: 5-Т.14
B71: Аппликация | C71: =CONCATENATE(Деңгей!FO16,Деңгей!FP16,Деңгей!FQ16) -> вырезает ножницами различные геометрические фигуры | D71: 5-Т.15
C72: =CONCATENATE(Деңгей!FR16,Деңгей!FS16,Деңгей!FT16) -> вырезает знакомые или придуманные различные образы, сразу несколько одинаковых форм из бумаги, сложенной гармошкой, и предметы симметричной формы из бумаги, сложенной вдвое | D72: 5-Т.16
C73: =CONCATENATE(Деңгей!FU16,Деңгей!FV16,Деңгей!FW16) -> выбирает и обосновывает приемы работы | D73: 5-Т.17
C74: =CONCATENATE(Деңгей!FX16,Деңгей!FY16,Деңгей!FZ16) -> стремиться понять важность | D74: 5-Т.18
C75: =CONCATENATE(Деңгей!GA16,Деңгей!GB16,Деңгей!GC16) -> выполняет сюжетные композиции как индивидуально, так и в небольших группах | D75: 5-Т.19
C76: =CONCATENATE(Деңгей!GD16,Деңгей!GE16,Деңгей!GF16) -> создает сюжетные композиции, дополняя их модными деталями | D76: 5-Т.20
C77: =CONCATENATE(Деңгей!GG16,Деңгей!GH16,Деңгей!GI16) -> соблюдает правила безопасности труда и личной гигиены | D77: 5-Т.21
B79: Конструирование | C79: =CONCATENATE(Деңгей!GJ16,Деңгей!GK16,Деңгей!GL16) -> строит самостоятельно на предложенную тему | D79: 5-Т.22
C80: =CONCATENATE(Деңгей!GM16,Деңгей!GN16,Деңгей!GO16) -> конструирует из бросового и природного материала | D80: 5-Т.23
C81: =CONCATENATE(Деңгей!GP16,Деңгей!GQ16,Деңгей!GR16) -> анализируя построенное им сооружение, находит эффективные конструктивные решения, применяет их при конструировании | D81: 5-Т.24
C82: =CONCATENATE(Деңгей!GS16,Деңгей!GT16,Деңгей!GU16) -> совместно конструирует необходимую для игры конструкцию, выполняют работу по согласованию, играют с готовой конструкцией | D82: 5-Т.25
C83: =CONCATENATE(Деңгей!GV16,Деңгей!GW16,Деңгей!GX16) -> работает в команде | D83: 5-Т.26
C84: =CONCATENATE(Деңгей!GY16,Деңгей!GZ16,Деңгей!HA16) -> преобразовывает плоскостные бумажные формы в объемные | D84: 5-Т.27
C85: =CONCATENATE(Деңгей!HB16,Деңгей!HC16,Деңгей!HD16) -> соблюдает правила безопасности на рабочем месте | D85: 5-Т.28
B87: Музыка | C87: =CONCATENATE(Деңгей!HE16,Деңгей!HF16,Деңгей!HG16) -> различает простые музыкальные жанры (кюй, песня, танец, марш) | D87: 5-Т.29
C88: =CONCATENATE(Деңгей!HH16,Деңгей!HI16,Деңгей!HJ16) -> исполняет знакомые песни самостоятельно с музыкальным сопровождением и без сопровождения исполняет знакомые песни самостоятельно с музыкальным сопровождением и без сопровождения | D88: 5-Т.30
C89: =CONCATENATE(Деңгей!HK16,Деңгей!HL16,Деңгей!HM16) -> произносит текст песни четко, воспринимает и передает характер музыки | D89: 5-Т.31
C90: =CONCATENATE(Деңгей!HN16,Деңгей!HO16,Деңгей!HP16) -> выделяет отдельные фрагменты произведения | D90: 5-Т.32
C91: =CONCATENATE(Деңгей!HQ16,Деңгей!HR16,Деңгей!HS16) -> играет простые мелодии на музыкальных инструментах | D91: 5-Т.33
C92: =CONCATENATE(Деңгей!HT16,Деңгей!HU16,Деңгей!HV16) -> самостоятельно и творчески исполняет песни различного характера | D92: 5-Т.34
C93: =CONCATENATE(Деңгей!HW16,Деңгей!HX16,Деңгей!HY16) -> выполняет движения в соответствии с характером музыки | D93: 5-Т.35
B94: Формирование социально-эмоциональных навыков
B96: Ознакомление с окружающим миром | C96: =CONCATENATE(Деңгей!HZ16,Деңгей!IA16,Деңгей!IB16) -> верит в свои силы и возможности, понимает важность трудолюбия и ответственности | D96: 5-С.1
C97: =CONCATENATE(Деңгей!IC16,Деңгей!ID16,Деңгей!IE16) -> понимает родственные связи, уважает старших, заботится о младших | D97: 5-С.2
C98: =CONCATENATE(Деңгей!IF16,Деңгей!IG16,Деңгей!IH16) -> говорит осознанно, выражает свое мнение | D98: 5-С.3
C99: =CONCATENATE(Деңгей!II16,Деңгей!IJ16,Деңгей!IK16) -> знает о применении специальных транспортных средств, знает элементарные правила дорожного движения | D99: 5-С.4
C100: =CONCATENATE(Деңгей!IL16,Деңгей!IM16,Деңгей!IN16) -> любит свою Родину, понимает значение живописной природы, достопримечательностей, исторических мест и культурного наследия Казахстана | D100: 5-С.5
C101: =CONCATENATE(Деңгей!IO16,Деңгей!IP16,Деңгей!IQ16) -> наблюдает и понимает причинно-следственные связи между живой и неживой природой, явлениями природы, знает об охране природы, значении солнца и воздуха в жизни человека, животных и растений | D101: 5-С.6
C102: =CONCATENATE(Деңгей!IR16,Деңгей!IS16,Деңгей!IT16) -> понимает и различает что «правильно» или «неправильно», «хорошо» или «плохо» | D102: 5-С.7
C104: ФИ воспитателя:

Sheet ИКР 9
C2: Индивидуальная карта развития ребенка по результатам мониторинга уровня знания и образовательной сферы в 2023-2024 учебном году подготовительного дошкольного группы
C3: итог
B5: Имя ребенка | C5: ='предшкольный класс'!B17 -> Мамаева Полина Дмитриевна
B6: Физическое развитие
B7: Физическая культура | C7: =CONCATENATE(Деңгей!C17,Деңгей!D17,Деңгей!E17) -> ходит в колонне по одному, по двое, по трое, с перешагиванием через предметы, боком: с поворотом в другую сторону по сигналу | D7: 1-Ф.1
C8: =CONCATENATE(Деңгей!F17,Деңгей!G17,Деңгей!H17) -> бегает с разной скоростью - медленно, быстро, в среднем темпе, непрерывно | D8: 1-Ф.2
C9: =CONCATENATE(Деңгей!I17,Деңгей!J17,Деңгей!K17) -> активно участвует в национальных подвижных играх, играх с элементами соревнований и эстафетных играх, , где демонстрирует физические качества: скорость, силу, выносливость, гибкость, ловкость | D9: 1-Ф.3
C10: =CONCATENATE(Деңгей!L17,Деңгей!M17,Деңгей!N17) -> проявляет активность в спортивных играх и тренировках | D10: 1-Ф.4
C11: =CONCATENATE(Деңгей!O17,Деңгей!P17,Деңгей!Q17) -> выполняет самостоятельно гигиенические процедуры | D11: 1-Ф.5
C12: =CONCATENATE(Деңгей!R17,Деңгей!S17,Деңгей!T17) -> владеет навыками самообслуживания и ухода за одеждой | D12: 1-Ф.6
C13: =CONCATENATE(Деңгей!U17,Деңгей!V17,Деңгей!W17) -> имеет первоначальные представления о здоровом образе жизни | D13: 1-Ф.7
B14: Развитие коммуникативных навыков
B15: Развитие речи | C15: =CONCATENATE(Деңгей!X17,Деңгей!Y17,Деңгей!Z17) -> старается выполнять звуковой анализ слов | D15: 5-К.1
C16: =CONCATENATE(Деңгей!AA17,Деңгей!AB17,Деңгей!AC17) -> старается выполнять звуковой анализ слов | D16: 5-К.2
C17: =CONCATENATE(Деңгей!AD17,Деңгей!AE17,Деңгей!AF17) -> произносит частично имена существительные, связывая их с числительными и прилагательными с существительными | D17: 5-К.3
C18: =CONCATENATE(Деңгей!AG17,Деңгей!AH17,Деңгей!AI17) -> слушает собеседника, задает вопросы, но не отвечает на них | D18: 5-К.4
C19: =CONCATENATE(Деңгей!AJ17,Деңгей!AK17,Деңгей!AL17) -> сочиняет рассказы частично по наблюдениям и сюжетным картинкам | D19: 5-К.5
C20: =CONCATENATE(Деңгей!AM17,Деңгей!AN17,Деңгей!AO17) -> последовательно пересказывает рассказычастично | D20: 5-К.6
C21: =CONCATENATE(Деңгей!AP17,Деңгей!AQ17,Деңгей!AR17) -> старается вести себя культурно, тактично во время беседы | D21: 5-К.7
B23: Художественная литература | C23: =CONCATENATE(Деңгей!AS17,Деңгей!AT17,Деңгей!AU17) -> различает частично причинно-следственные связи, литературные жанры | D23: 5-К.8
C24: =CONCATENATE(Деңгей!AV17,Деңгей!AW17,Деңгей!AX17) -> старается читать выразительно, с интонацией | D24: 5-К.9
C25: =CONCATENATE(Деңгей!AY17,Деңгей!AZ17,Деңгей!BA17) -> пересказывает рассказ при помощи взрослого | D25: 5-К.10
C26: =CONCATENATE(Деңгей!BB17,Деңгей!BC17,Деңгей!BD17) -> старается передать настроение, характер героя, жесты, интонацию и мимику образа | D26: 5-К.11
C27: =CONCATENATE(Деңгей!BE17,Деңгей!BF17,Деңгей!BG17) -> выполняет свою роль в постановке выразительно, самостоятельно | D27: 5-К.12
C28: =CONCATENATE(Деңгей!BH17,Деңгей!BI17,Деңгей!BJ17) -> делится впечатлениями частично, информацией из различных источников | D28: 5-К.13
C29: =CONCATENATE(Деңгей!BK17,Деңгей!BL17,Деңгей!BM17) -> выражает свое отношение частично | D29: 5-К.14
B31: Основы грамоты | C31: =CONCATENATE(Деңгей!BN17,Деңгей!BO17,Деңгей!BP17) -> определяет порядок звуков в слове частично | D31: 5-К.15
C32: =CONCATENATE(Деңгей!BQ17,Деңгей!BR17,Деңгей!BS17) -> четко произносит все звуки, различает некоторые из них | D32: 5-К.16
C33: =CONCATENATE(Деңгей!BT17,Деңгей!BU17,Деңгей!BV17) -> пытается составить слово на заданный слог | D33: 5-К.17
C34: =CONCATENATE(Деңгей!BW17,Деңгей!BX17,Деңгей!BY17) -> составляет простые предложения частично | D34: 5-К.18
C35: =CONCATENATE(Деңгей!BZ17,Деңгей!CA17,Деңгей!CB17) -> старается правильно держать ручку | D35: 5-К.19
C36: =CONCATENATE(Деңгей!CC17,Деңгей!CD17,Деңгей!CE17) -> рисует различные линии частично | D36: 5-К.20
C37: =CONCATENATE(Деңгей!CF17,Деңгей!CG17,Деңгей!CH17) -> частично ориентируется, различает пространство | D37: 5-К.21
B39: Казахский язык | C39: =CONCATENATE(Деңгей!CI17,Деңгей!CJ17,Деңгей!CK17) -> пытается произносить правильно специфические звуки казахского языка в слове | D39: 5-К.22
C40: =CONCATENATE(Деңгей!CL17,Деңгей!CM17,Деңгей!CN17) -> пытается рассказывать пословицы и поговорки | D40: 5-К.23
C41: =CONCATENATE(Деңгей!CO17,Деңгей!CP17,Деңгей!CQ17) -> нает,пытается называть название продуктов, посуды, мебели, фруктов, | D41: 5-К.24
C42: =CONCATENATE(Деңгей!CR17,Деңгей!CS17,Деңгей!CT17) -> знает,пытается называть , обозначающие признаки предметов (цвет, величина), действия с предметами, употребляет их в разговорной речи | D42: 5-К.25
C43: =CONCATENATE(Деңгей!CU17,Деңгей!CV17,Деңгей!CW17) -> старается называть и употреблять, обозначающие признаки предметов (цвет, величина), действия с предметами, их в разговорной речи | D43: 5-К.26
C44: =CONCATENATE(Деңгей!CX17,Деңгей!CY17,Деңгей!CZ17) -> старается употреблять знакомые слова в повседневной жизни | D44: 5-К.27
C45: =CONCATENATE(Деңгей!DA17,Деңгей!DB17,Деңгей!DC17) -> старается составить рассказы по образцу педагога | D45: 5-К.28
B46: Развитие познавательных и интеллектуальных навыков
B47: Основы математики | C47: =CONCATENATE(Деңгей!DD17,Деңгей!DE17,Деңгей!DF17) -> знает прямой и обратный счет до 10 | D47: 5-П.1
C48: =CONCATENATE(Деңгей!DG17,Деңгей!DH17,Деңгей!DI17) -> делит и воссоединяет | D48: 5-П.2
C49: =CONCATENATE(Деңгей!DJ17,Деңгей!DK17,Деңгей!DL17) -> знает прямой и обратный счет в пределах 10-ти, различает вопросы "Сколько?", "Который?" ("Какой?") и правильно отвечает на них | D49: 5-П.3
C50: =CONCATENATE(Деңгей!DM17,Деңгей!DN17,Деңгей!DO17) -> располагает предметы в порядке возрастания и убывания | D50: 5-П.4
C51: =CONCATENATE(Деңгей!DP17,Деңгей!DQ17,Деңгей!DR17) -> ориентируется на листе бумаги, называет последовательно дни недели, месяцы по временам года | D51: 5-П.5
C52: =CONCATENATE(Деңгей!DS17,Деңгей!DT17,Деңгей!DU17) -> различает и называет геометрические фигуры (круг, овал, треугольник, квадрат, прямоугольник) | D52: 5-П.6
C53: =CONCATENATE(Деңгей!DV17,Деңгей!DW17,Деңгей!DX17) -> рисует различные линии | D53: 5-П.7
B54: Развитие творческих навыков, исследовательской деятельности детей
B55: Рисование | C55: =CONCATENATE(Деңгей!DY17,Деңгей!DZ17,Деңгей!EA17) -> передает образы через несложные движения и позы | D55: 5-Т.1
C56: =CONCATENATE(Деңгей!EB17,Деңгей!EC17,Деңгей!ED17) -> пользуется красками, красит различными принтами | D56: 5-Т.2
C57: =CONCATENATE(Деңгей!EE17,Деңгей!EF17,Деңгей!EG17) -> получает новые цвета и оттенки (синий, розовый, темно-зеленый) путем смешивания красок | D57: 5-Т.3
C58: =CONCATENATE(Деңгей!EH17,Деңгей!EI17,Деңгей!EJ17) -> выполняет задачи по обоюдному согласию | D58: 5-Т.4
C59: =CONCATENATE(Деңгей!EK17,Деңгей!EL17,Деңгей!EM17) -> рисует элементы казахского орнамента и украшает ими одежду, предметы быта | D59: 5-Т.5
C60: =CONCATENATE(Деңгей!EN17,Деңгей!EO17,Деңгей!EP17) -> изображает сюжетные рисунки | D60: 5-Т.6
C61: =CONCATENATE(Деңгей!EQ17,Деңгей!ER17,Деңгей!ES17) -> соблюдает аккуратность при рисовании, правила безопасного поведения | D61: 5-Т.7
B63: Развитие творческих навыков, исследовательской деятельности детей | C63: =CONCATENATE(Деңгей!ET17,Деңгей!EU17,Деңгей!EV17) -> лепит с натуры и по представлению знакомые предметы разной формы и величины | D63: 5-Т.8
C64: =CONCATENATE(Деңгей!EW17,Деңгей!EX17,Деңгей!EY17) -> лепит фигуры человека и животного | D64: 5-Т.9
C65: =CONCATENATE(Деңгей!EZ17,Деңгей!FA17,Деңгей!FB17) -> использует различные методы лепки | D65: 5-Т.10
C66: =CONCATENATE(Деңгей!FC17,Деңгей!FD17,Деңгей!FE17) -> составляет сюжетные композиции | D66: 5-Т.11
C67: =CONCATENATE(Деңгей!FF17,Деңгей!FG17,Деңгей!FH17) -> лепит разнообразную казахскую посуду, предметы быта, ювелирные изделия | D67: 5-Т.12
C68: =CONCATENATE(Деңгей!FI17,Деңгей!FJ17,Деңгей!FK17) -> владеет навыками коллективной лепки для общей композиции | D68: 5-Т.13
C69: =CONCATENATE(Деңгей!FL17,Деңгей!FM17,Деңгей!FN17) -> аккуратно выполняет работу, соблюдает правила безопасности | D69: 5-Т.14
B71: Аппликация | C71: =CONCATENATE(Деңгей!FO17,Деңгей!FP17,Деңгей!FQ17) -> вырезает ножницами различные геометрические фигуры | D71: 5-Т.15
C72: =CONCATENATE(Деңгей!FR17,Деңгей!FS17,Деңгей!FT17) -> вырезает знакомые или придуманные различные образы, сразу несколько одинаковых форм из бумаги, сложенной гармошкой, и предметы симметричной формы из бумаги, сложенной вдвое | D72: 5-Т.16
C73: =CONCATENATE(Деңгей!FU17,Деңгей!FV17,Деңгей!FW17) -> выбирает и обосновывает приемы работы | D73: 5-Т.17
C74: =CONCATENATE(Деңгей!FX17,Деңгей!FY17,Деңгей!FZ17) -> стремиться понять важность | D74: 5-Т.18
C75: =CONCATENATE(Деңгей!GA17,Деңгей!GB17,Деңгей!GC17) -> выполняет сюжетные композиции как индивидуально, так и в небольших группах | D75: 5-Т.19
C76: =CONCATENATE(Деңгей!GD17,Деңгей!GE17,Деңгей!GF17) -> создает сюжетные композиции, дополняя их модными деталями | D76: 5-Т.20
C77: =CONCATENATE(Деңгей!GG17,Деңгей!GH17,Деңгей!GI17) -> соблюдает правила безопасности труда и личной гигиены | D77: 5-Т.21
B79: Конструирование | C79: =CONCATENATE(Деңгей!GJ17,Деңгей!GK17,Деңгей!GL17) -> строит самостоятельно на предложенную тему | D79: 5-Т.22
C80: =CONCATENATE(Деңгей!GM17,Деңгей!GN17,Деңгей!GO17) -> конструирует из бросового и природного материала | D80: 5-Т.23
C81: =CONCATENATE(Деңгей!GP17,Деңгей!GQ17,Деңгей!GR17) -> анализируя построенное им сооружение, находит эффективные конструктивные решения, применяет их при конструировании | D81: 5-Т.24
C82: =CONCATENATE(Деңгей!GS17,Деңгей!GT17,Деңгей!GU17) -> совместно конструирует необходимую для игры конструкцию, выполняют работу по согласованию, играют с готовой конструкцией | D82: 5-Т.25
C83: =CONCATENATE(Деңгей!GV17,Деңгей!GW17,Деңгей!GX17) -> работает в команде | D83: 5-Т.26
C84: =CONCATENATE(Деңгей!GY17,Деңгей!GZ17,Деңгей!HA17) -> преобразовывает плоскостные бумажные формы в объемные | D84: 5-Т.27
C85: =CONCATENATE(Деңгей!HB17,Деңгей!HC17,Деңгей!HD17) -> соблюдает правила безопасности на рабочем месте | D85: 5-Т.28
B87: Музыка | C87: =CONCATENATE(Деңгей!HE17,Деңгей!HF17,Деңгей!HG17) -> различает простые музыкальные жанры (кюй, песня, танец, марш) | D87: 5-Т.29
C88: =CONCATENATE(Деңгей!HH17,Деңгей!HI17,Деңгей!HJ17) -> исполняет знакомые песни самостоятельно с музыкальным сопровождением и без сопровождения исполняет знакомые песни самостоятельно с музыкальным сопровождением и без сопровождения | D88: 5-Т.30
C89: =CONCATENATE(Деңгей!HK17,Деңгей!HL17,Деңгей!HM17) -> произносит текст песни четко, воспринимает и передает характер музыки | D89: 5-Т.31
C90: =CONCATENATE(Деңгей!HN17,Деңгей!HO17,Деңгей!HP17) -> выделяет отдельные фрагменты произведения | D90: 5-Т.32
C91: =CONCATENATE(Деңгей!HQ17,Деңгей!HR17,Деңгей!HS17) -> играет простые мелодии на музыкальных инструментах | D91: 5-Т.33
C92: =CONCATENATE(Деңгей!HT17,Деңгей!HU17,Деңгей!HV17) -> самостоятельно и творчески исполняет песни различного характера | D92: 5-Т.34
C93: =CONCATENATE(Деңгей!HW17,Деңгей!HX17,Деңгей!HY17) -> выполняет движения в соответствии с характером музыки | D93: 5-Т.35
B94: Формирование социально-эмоциональных навыков
B96: Ознакомление с окружающим миром | C96: =CONCATENATE(Деңгей!HZ17,Деңгей!IA17,Деңгей!IB17) -> верит в свои силы и возможности, понимает важность трудолюбия и ответственности | D96: 5-С.1
C97: =CONCATENATE(Деңгей!IC17,Деңгей!ID17,Деңгей!IE17) -> понимает родственные связи, уважает старших, заботится о младших | D97: 5-С.2
C98: =CONCATENATE(Деңгей!IF17,Деңгей!IG17,Деңгей!IH17) -> говорит осознанно, выражает свое мнение | D98: 5-С.3
C99: =CONCATENATE(Деңгей!II17,Деңгей!IJ17,Деңгей!IK17) -> знает о применении специальных транспортных средств, знает элементарные правила дорожного движения | D99: 5-С.4
C100: =CONCATENATE(Деңгей!IL17,Деңгей!IM17,Деңгей!IN17) -> любит свою Родину, понимает значение живописной природы, достопримечательностей, исторических мест и культурного наследия Казахстана | D100: 5-С.5
C101: =CONCATENATE(Деңгей!IO17,Деңгей!IP17,Деңгей!IQ17) -> наблюдает и понимает причинно-следственные связи между живой и неживой природой, явлениями природы, знает об охране природы, значении солнца и воздуха в жизни человека, животных и растений | D101: 5-С.6
C102: =CONCATENATE(Деңгей!IR17,Деңгей!IS17,Деңгей!IT17) -> понимает и различает что «правильно» или «неправильно», «хорошо» или «плохо» | D102: 5-С.7
C104: ФИ воспитателя:

Sheet ИКР 10
C2: Индивидуальная карта развития ребенка по результатам мониторинга уровня знания и образовательной сферы в 2023-2024 учебном году подготовительного дошкольного группы
C3: итог
B5: Имя ребенка | C5: ='предшкольный класс'!B18 -> Маратова Венера Талгатовна
B6: Физическое развитие
B7: Физическая культура | C7: =CONCATENATE(Деңгей!C18,Деңгей!D18,Деңгей!E18) -> ходит в колонне по одному, по двое, по трое, с перешагиванием через предметы, боком: с поворотом в другую сторону по сигналу | D7: 1-Ф.1
C8: =CONCATENATE(Деңгей!F18,Деңгей!G18,Деңгей!H18) -> бегает с разной скоростью - медленно, быстро, в среднем темпе, непрерывно | D8: 1-Ф.2
C9: =CONCATENATE(Деңгей!I18,Деңгей!J18,Деңгей!K18) -> активно участвует в национальных подвижных играх, играх с элементами соревнований и эстафетных играх, , где демонстрирует физические качества: скорость, силу, выносливость, гибкость, ловкость | D9: 1-Ф.3
C10: =CONCATENATE(Деңгей!L18,Деңгей!M18,Деңгей!N18) -> проявляет активность в спортивных играх и тренировках | D10: 1-Ф.4
C11: =CONCATENATE(Деңгей!O18,Деңгей!P18,Деңгей!Q18) -> выполняет самостоятельно гигиенические процедуры | D11: 1-Ф.5
C12: =CONCATENATE(Деңгей!R18,Деңгей!S18,Деңгей!T18) -> владеет навыками самообслуживания и ухода за одеждой | D12: 1-Ф.6
C13: =CONCATENATE(Деңгей!U18,Деңгей!V18,Деңгей!W18) -> имеет первоначальные представления о здоровом образе жизни | D13: 1-Ф.7
B14: Развитие коммуникативных навыков
B15: Развитие речи | C15: =CONCATENATE(Деңгей!X18,Деңгей!Y18,Деңгей!Z18) -> старается выполнять звуковой анализ слов | D15: 5-К.1
C16: =CONCATENATE(Деңгей!AA18,Деңгей!AB18,Деңгей!AC18) -> старается выполнять звуковой анализ слов | D16: 5-К.2
C17: =CONCATENATE(Деңгей!AD18,Деңгей!AE18,Деңгей!AF18) -> произносит частично имена существительные, связывая их с числительными и прилагательными с существительными | D17: 5-К.3
C18: =CONCATENATE(Деңгей!AG18,Деңгей!AH18,Деңгей!AI18) -> слушает собеседника, задает вопросы, но не отвечает на них | D18: 5-К.4
C19: =CONCATENATE(Деңгей!AJ18,Деңгей!AK18,Деңгей!AL18) -> сочиняет рассказы частично по наблюдениям и сюжетным картинкам | D19: 5-К.5
C20: =CONCATENATE(Деңгей!AM18,Деңгей!AN18,Деңгей!AO18) -> последовательно пересказывает рассказычастично | D20: 5-К.6
C21: =CONCATENATE(Деңгей!AP18,Деңгей!AQ18,Деңгей!AR18) -> старается вести себя культурно, тактично во время беседы | D21: 5-К.7
B23: Художественная литература | C23: =CONCATENATE(Деңгей!AS18,Деңгей!AT18,Деңгей!AU18) -> различает частично причинно-следственные связи, литературные жанры | D23: 5-К.8
C24: =CONCATENATE(Деңгей!AV18,Деңгей!AW18,Деңгей!AX18) -> старается читать выразительно, с интонацией | D24: 5-К.9
C25: =CONCATENATE(Деңгей!AY18,Деңгей!AZ18,Деңгей!BA18) -> пересказывает рассказ при помощи взрослого | D25: 5-К.10
C26: =CONCATENATE(Деңгей!BB18,Деңгей!BC18,Деңгей!BD18) -> старается передать настроение, характер героя, жесты, интонацию и мимику образа | D26: 5-К.11
C27: =CONCATENATE(Деңгей!BE18,Деңгей!BF18,Деңгей!BG18) -> выполняет свою роль в постановке выразительно, самостоятельно | D27: 5-К.12
C28: =CONCATENATE(Деңгей!BH18,Деңгей!BI18,Деңгей!BJ18) -> делится впечатлениями частично, информацией из различных источников | D28: 5-К.13
C29: =CONCATENATE(Деңгей!BK18,Деңгей!BL18,Деңгей!BM18) -> выражает свое отношение частично | D29: 5-К.14
B31: Основы грамоты | C31: =CONCATENATE(Деңгей!BN18,Деңгей!BO18,Деңгей!BP18) -> определяет порядок звуков в слове частично | D31: 5-К.15
C32: =CONCATENATE(Деңгей!BQ18,Деңгей!BR18,Деңгей!BS18) -> четко произносит все звуки, различает некоторые из них | D32: 5-К.16
C33: =CONCATENATE(Деңгей!BT18,Деңгей!BU18,Деңгей!BV18) -> пытается составить слово на заданный слог | D33: 5-К.17
C34: =CONCATENATE(Деңгей!BW18,Деңгей!BX18,Деңгей!BY18) -> составляет простые предложения частично | D34: 5-К.18
C35: =CONCATENATE(Деңгей!BZ18,Деңгей!CA18,Деңгей!CB18) -> старается правильно держать ручку | D35: 5-К.19
C36: =CONCATENATE(Деңгей!CC18,Деңгей!CD18,Деңгей!CE18) -> рисует различные линии частично | D36: 5-К.20
C37: =CONCATENATE(Деңгей!CF18,Деңгей!CG18,Деңгей!CH18) -> частично ориентируется, различает пространство | D37: 5-К.21
B39: Казахский язык | C39: =CONCATENATE(Деңгей!CI18,Деңгей!CJ18,Деңгей!CK18) -> пытается произносить правильно специфические звуки казахского языка в слове | D39: 5-К.22
C40: =CONCATENATE(Деңгей!CL18,Деңгей!CM18,Деңгей!CN18) -> пытается рассказывать пословицы и поговорки | D40: 5-К.23
C41: =CONCATENATE(Деңгей!CO18,Деңгей!CP18,Деңгей!CQ18) -> нает,пытается называть название продуктов, посуды, мебели, фруктов, | D41: 5-К.24
C42: =CONCATENATE(Деңгей!CR18,Деңгей!CS18,Деңгей!CT18) -> знает,пытается называть , обозначающие признаки предметов (цвет, величина), действия с предметами, употребляет их в разговорной речи | D42: 5-К.25
C43: =CONCATENATE(Деңгей!CU18,Деңгей!CV18,Деңгей!CW18) -> старается называть и употреблять, обозначающие признаки предметов (цвет, величина), действия с предметами, их в разговорной речи | D43: 5-К.26
C44: =CONCATENATE(Деңгей!CX18,Деңгей!CY18,Деңгей!CZ18) -> старается употреблять знакомые слова в повседневной жизни | D44: 5-К.27
C45: =CONCATENATE(Деңгей!DA18,Деңгей!DB18,Деңгей!DC18) -> старается составить рассказы по образцу педагога | D45: 5-К.28
B46: Развитие познавательных и интеллектуальных навыков
B47: Основы математики | C47: =CONCATENATE(Деңгей!DD18,Деңгей!DE18,Деңгей!DF18) -> старается считать в пределах 10 | D47: 5-П.1
C48: =CONCATENATE(Деңгей!DG18,Деңгей!DH18,Деңгей!DI18) -> старается делить и воссоединить | D48: 5-П.2
C49: =CONCATENATE(Деңгей!DJ18,Деңгей!DK18,Деңгей!DL18) -> пытается сравнивать предметы по различным признакам | D49: 5-П.3
C50: =CONCATENATE(Деңгей!DM18,Деңгей!DN18,Деңгей!DO18) -> пытается расположить предметы в порядке возрастания и убывания | D50: 5-П.4
C51: =CONCATENATE(Деңгей!DP18,Деңгей!DQ18,Деңгей!DR18) -> ориентируется на листе бумаги, но не называет последовательно дни недели, месяцы по временам года | D51: 5-П.5
C52: =CONCATENATE(Деңгей!DS18,Деңгей!DT18,Деңгей!DU18) -> частично различает и называет геометрические фигуры | D52: 5-П.6
C53: =CONCATENATE(Деңгей!DV18,Деңгей!DW18,Деңгей!DX18) -> частично рисует различные линии | D53: 5-П.7
B54: Развитие творческих навыков, исследовательской деятельности детей
B55: Рисование | C55: =CONCATENATE(Деңгей!DY18,Деңгей!DZ18,Деңгей!EA18) -> передает образы через несложные движения и позы | D55: 5-Т.1
C56: =CONCATENATE(Деңгей!EB18,Деңгей!EC18,Деңгей!ED18) -> пользуется красками, красит различными принтами | D56: 5-Т.2
C57: =CONCATENATE(Деңгей!EE18,Деңгей!EF18,Деңгей!EG18) -> получает новые цвета и оттенки (синий, розовый, темно-зеленый) путем смешивания красок | D57: 5-Т.3
C58: =CONCATENATE(Деңгей!EH18,Деңгей!EI18,Деңгей!EJ18) -> выполняет задачи по обоюдному согласию | D58: 5-Т.4
C59: =CONCATENATE(Деңгей!EK18,Деңгей!EL18,Деңгей!EM18) -> рисует элементы казахского орнамента и украшает ими одежду, предметы быта | D59: 5-Т.5
C60: =CONCATENATE(Деңгей!EN18,Деңгей!EO18,Деңгей!EP18) -> изображает сюжетные рисунки | D60: 5-Т.6
C61: =CONCATENATE(Деңгей!EQ18,Деңгей!ER18,Деңгей!ES18) -> соблюдает аккуратность при рисовании, правила безопасного поведения | D61: 5-Т.7
B63: Развитие творческих навыков, исследовательской деятельности детей | C63: =CONCATENATE(Деңгей!ET18,Деңгей!EU18,Деңгей!EV18) -> лепит с натуры и по представлению знакомые предметы разной формы и величины | D63: 5-Т.8
C64: =CONCATENATE(Деңгей!EW18,Деңгей!EX18,Деңгей!EY18) -> лепит фигуры человека и животного | D64: 5-Т.9
C65: =CONCATENATE(Деңгей!EZ18,Деңгей!FA18,Деңгей!FB18) -> использует различные методы лепки | D65: 5-Т.10
C66: =CONCATENATE(Деңгей!FC18,Деңгей!FD18,Деңгей!FE18) -> составляет сюжетные композиции | D66: 5-Т.11
C67: =CONCATENATE(Деңгей!FF18,Деңгей!FG18,Деңгей!FH18) -> лепит разнообразную казахскую посуду, предметы быта, ювелирные изделия | D67: 5-Т.12
C68: =CONCATENATE(Деңгей!FI18,Деңгей!FJ18,Деңгей!FK18) -> владеет навыками коллективной лепки для общей композиции | D68: 5-Т.13
C69: =CONCATENATE(Деңгей!FL18,Деңгей!FM18,Деңгей!FN18) -> аккуратно выполняет работу, соблюдает правила безопасности | D69: 5-Т.14
B71: Аппликация | C71: =CONCATENATE(Деңгей!FO18,Деңгей!FP18,Деңгей!FQ18) -> вырезает ножницами различные геометрические фигуры | D71: 5-Т.15
C72: =CONCATENATE(Деңгей!FR18,Деңгей!FS18,Деңгей!FT18) -> вырезает знакомые или придуманные различные образы, сразу несколько одинаковых форм из бумаги, сложенной гармошкой, и предметы симметричной формы из бумаги, сложенной вдвое | D72: 5-Т.16
C73: =CONCATENATE(Деңгей!FU18,Деңгей!FV18,Деңгей!FW18) -> выбирает и обосновывает приемы работы | D73: 5-Т.17
C74: =CONCATENATE(Деңгей!FX18,Деңгей!FY18,Деңгей!FZ18) -> стремиться понять важность | D74: 5-Т.18
C75: =CONCATENATE(Деңгей!GA18,Деңгей!GB18,Деңгей!GC18) -> выполняет сюжетные композиции как индивидуально, так и в небольших группах | D75: 5-Т.19
C76: =CONCATENATE(Деңгей!GD18,Деңгей!GE18,Деңгей!GF18) -> создает сюжетные композиции, дополняя их модными деталями | D76: 5-Т.20
C77: =CONCATENATE(Деңгей!GG18,Деңгей!GH18,Деңгей!GI18) -> соблюдает правила безопасности труда и личной гигиены | D77: 5-Т.21
B79: Конструирование | C79: =CONCATENATE(Деңгей!GJ18,Деңгей!GK18,Деңгей!GL18) -> строит самостоятельно на предложенную тему | D79: 5-Т.22
C80: =CONCATENATE(Деңгей!GM18,Деңгей!GN18,Деңгей!GO18) -> конструирует из бросового и природного материала | D80: 5-Т.23
C81: =CONCATENATE(Деңгей!GP18,Деңгей!GQ18,Деңгей!GR18) -> анализируя построенное им сооружение, находит эффективные конструктивные решения, применяет их при конструировании | D81: 5-Т.24
C82: =CONCATENATE(Деңгей!GS18,Деңгей!GT18,Деңгей!GU18) -> совместно конструирует необходимую для игры конструкцию, выполняют работу по согласованию, играют с готовой конструкцией | D82: 5-Т.25
C83: =CONCATENATE(Деңгей!GV18,Деңгей!GW18,Деңгей!GX18) -> работает в команде | D83: 5-Т.26
C84: =CONCATENATE(Деңгей!GY18,Деңгей!GZ18,Деңгей!HA18) -> преобразовывает плоскостные бумажные формы в объемные | D84: 5-Т.27
C85: =CONCATENATE(Деңгей!HB18,Деңгей!HC18,Деңгей!HD18) -> соблюдает правила безопасности на рабочем месте | D85: 5-Т.28
B87: Музыка | C87: =CONCATENATE(Деңгей!HE18,Деңгей!HF18,Деңгей!HG18) -> различает простые музыкальные жанры (кюй, песня, танец, марш) | D87: 5-Т.29
C88: =CONCATENATE(Деңгей!HH18,Деңгей!HI18,Деңгей!HJ18) -> исполняет знакомые песни самостоятельно с музыкальным сопровождением и без сопровождения исполняет знакомые песни самостоятельно с музыкальным сопровождением и без сопровождения | D88: 5-Т.30
C89: =CONCATENATE(Деңгей!HK18,Деңгей!HL18,Деңгей!HM18) -> произносит текст песни четко, воспринимает и передает характер музыки | D89: 5-Т.31
C90: =CONCATENATE(Деңгей!HN18,Деңгей!HO18,Деңгей!HP18) -> выделяет отдельные фрагменты произведения | D90: 5-Т.32
C91: =CONCATENATE(Деңгей!HQ18,Деңгей!HR18,Деңгей!HS18) -> играет простые мелодии на музыкальных инструментах | D91: 5-Т.33
C92: =CONCATENATE(Деңгей!HT18,Деңгей!HU18,Деңгей!HV18) -> самостоятельно и творчески исполняет песни различного характера | D92: 5-Т.34
C93: =CONCATENATE(Деңгей!HW18,Деңгей!HX18,Деңгей!HY18) -> выполняет движения в соответствии с характером музыки | D93: 5-Т.35
B94: Формирование социально-эмоциональных навыков
B96: Ознакомление с окружающим миром | C96: =CONCATENATE(Деңгей!HZ18,Деңгей!IA18,Деңгей!IB18) -> нет уверенности в своих возможностях, понимает важность трудолюбия и ответственности | D96: 5-С.1
C97: =CONCATENATE(Деңгей!IC18,Деңгей!ID18,Деңгей!IE18) -> частично понимает родственные связи, уважает старших, заботится о младших | D97: 5-С.2
C98: =CONCATENATE(Деңгей!IF18,Деңгей!IG18,Деңгей!IH18) -> передает частичное понимание, высказывает свое мнение | D98: 5-С.3
C99: =CONCATENATE(Деңгей!II18,Деңгей!IJ18,Деңгей!IK18) -> частично знает о применении специальных транспортных средств, знает элементарные правила дорожного движения | D99: 5-С.4
C100: =CONCATENATE(Деңгей!IL18,Деңгей!IM18,Деңгей!IN18) -> любит свою Родину, понимает значение живописной природы, достопримечательностей, исторических мест и культурного наследия Казахстана | D100: 5-С.5
C101: =CONCATENATE(Деңгей!IO18,Деңгей!IP18,Деңгей!IQ18) -> наблюдает и частично понимает причинно-следственные связи между живой и неживой природой, явлениями природы, знает об охране природы, значении солнца и воздуха в жизни человека, животных и растений | D101: 5-С.6
C102: =CONCATENATE(Деңгей!IR18,Деңгей!IS18,Деңгей!IT18) -> понимает и различает частично что «правильно» или «неправильно», «хорошо» или «плохо»: | D102: 5-С.7
C104: ФИ воспитателя:

Sheet ИКР 11
C2: Индивидуальная карта развития ребенка по результатам мониторинга уровня знания и образовательной сферы в 2023-2024 учебном году подготовительного дошкольного группы
C3: итог
B5: Имя ребенка | C5: ='предшкольный класс'!B19 -> Новикова Екатерина Денисовна
B6: Физическое развитие
B7: Физическая культура | C7: =CONCATENATE(Деңгей!C19,Деңгей!D19,Деңгей!E19) -> ходит в колонне по одному, по двое, по трое, с перешагиванием через предметы, боком: с поворотом в другую сторону по сигналу | D7: 1-Ф.1
C8: =CONCATENATE(Деңгей!F19,Деңгей!G19,Деңгей!H19) -> бегает с разной скоростью - медленно, быстро, в среднем темпе, непрерывно | D8: 1-Ф.2
C9: =CONCATENATE(Деңгей!I19,Деңгей!J19,Деңгей!K19) -> активно участвует в национальных подвижных играх, играх с элементами соревнований и эстафетных играх, , где демонстрирует физические качества: скорость, силу, выносливость, гибкость, ловкость | D9: 1-Ф.3
C10: =CONCATENATE(Деңгей!L19,Деңгей!M19,Деңгей!N19) -> проявляет активность в спортивных играх и тренировках | D10: 1-Ф.4
C11: =CONCATENATE(Деңгей!O19,Деңгей!P19,Деңгей!Q19) -> выполняет самостоятельно гигиенические процедуры | D11: 1-Ф.5
C12: =CONCATENATE(Деңгей!R19,Деңгей!S19,Деңгей!T19) -> владеет навыками самообслуживания и ухода за одеждой | D12: 1-Ф.6
C13: =CONCATENATE(Деңгей!U19,Деңгей!V19,Деңгей!W19) -> имеет первоначальные представления о здоровом образе жизни | D13: 1-Ф.7
B14: Развитие коммуникативных навыков
B15: Развитие речи | C15: =CONCATENATE(Деңгей!X19,Деңгей!Y19,Деңгей!Z19) -> старается выполнять звуковой анализ слов | D15: 5-К.1
C16: =CONCATENATE(Деңгей!AA19,Деңгей!AB19,Деңгей!AC19) -> старается выполнять звуковой анализ слов | D16: 5-К.2
C17: =CONCATENATE(Деңгей!AD19,Деңгей!AE19,Деңгей!AF19) -> произносит частично имена существительные, связывая их с числительными и прилагательными с существительными | D17: 5-К.3
C18: =CONCATENATE(Деңгей!AG19,Деңгей!AH19,Деңгей!AI19) -> слушает собеседника, задает вопросы, но не отвечает на них | D18: 5-К.4
C19: =CONCATENATE(Деңгей!AJ19,Деңгей!AK19,Деңгей!AL19) -> сочиняет рассказы частично по наблюдениям и сюжетным картинкам | D19: 5-К.5
C20: =CONCATENATE(Деңгей!AM19,Деңгей!AN19,Деңгей!AO19) -> последовательно пересказывает рассказычастично | D20: 5-К.6
C21: =CONCATENATE(Деңгей!AP19,Деңгей!AQ19,Деңгей!AR19) -> старается вести себя культурно, тактично во время беседы | D21: 5-К.7
B23: Художественная литература | C23: =CONCATENATE(Деңгей!AS19,Деңгей!AT19,Деңгей!AU19) -> различает частично причинно-следственные связи, литературные жанры | D23: 5-К.8
C24: =CONCATENATE(Деңгей!AV19,Деңгей!AW19,Деңгей!AX19) -> старается читать выразительно, с интонацией | D24: 5-К.9
C25: =CONCATENATE(Деңгей!AY19,Деңгей!AZ19,Деңгей!BA19) -> пересказывает рассказ при помощи взрослого | D25: 5-К.10
C26: =CONCATENATE(Деңгей!BB19,Деңгей!BC19,Деңгей!BD19) -> старается передать настроение, характер героя, жесты, интонацию и мимику образа | D26: 5-К.11
C27: =CONCATENATE(Деңгей!BE19,Деңгей!BF19,Деңгей!BG19) -> выполняет свою роль в постановке выразительно, самостоятельно | D27: 5-К.12
C28: =CONCATENATE(Деңгей!BH19,Деңгей!BI19,Деңгей!BJ19) -> делится впечатлениями частично, информацией из различных источников | D28: 5-К.13
C29: =CONCATENATE(Деңгей!BK19,Деңгей!BL19,Деңгей!BM19) -> выражает свое отношение частично | D29: 5-К.14
B31: Основы грамоты | C31: =CONCATENATE(Деңгей!BN19,Деңгей!BO19,Деңгей!BP19) -> определяет порядок звуков в слове частично | D31: 5-К.15
C32: =CONCATENATE(Деңгей!BQ19,Деңгей!BR19,Деңгей!BS19) -> четко произносит все звуки, различает некоторые из них | D32: 5-К.16
C33: =CONCATENATE(Деңгей!BT19,Деңгей!BU19,Деңгей!BV19) -> пытается составить слово на заданный слог | D33: 5-К.17
C34: =CONCATENATE(Деңгей!BW19,Деңгей!BX19,Деңгей!BY19) -> составляет простые предложения частично | D34: 5-К.18
C35: =CONCATENATE(Деңгей!BZ19,Деңгей!CA19,Деңгей!CB19) -> старается правильно держать ручку | D35: 5-К.19
C36: =CONCATENATE(Деңгей!CC19,Деңгей!CD19,Деңгей!CE19) -> рисует различные линии частично | D36: 5-К.20
C37: =CONCATENATE(Деңгей!CF19,Деңгей!CG19,Деңгей!CH19) -> частично ориентируется, различает пространство | D37: 5-К.21
B39: Казахский язык | C39: =CONCATENATE(Деңгей!CI19,Деңгей!CJ19,Деңгей!CK19) -> пытается произносить правильно специфические звуки казахского языка в слове | D39: 5-К.22
C40: =CONCATENATE(Деңгей!CL19,Деңгей!CM19,Деңгей!CN19) -> пытается рассказывать пословицы и поговорки | D40: 5-К.23
C41: =CONCATENATE(Деңгей!CO19,Деңгей!CP19,Деңгей!CQ19) -> нает,пытается называть название продуктов, посуды, мебели, фруктов, | D41: 5-К.24
C42: =CONCATENATE(Деңгей!CR19,Деңгей!CS19,Деңгей!CT19) -> знает,пытается называть , обозначающие признаки предметов (цвет, величина), действия с предметами, употребляет их в разговорной речи | D42: 5-К.25
C43: =CONCATENATE(Деңгей!CU19,Деңгей!CV19,Деңгей!CW19) -> старается называть и употреблять, обозначающие признаки предметов (цвет, величина), действия с предметами, их в разговорной речи | D43: 5-К.26
C44: =CONCATENATE(Деңгей!CX19,Деңгей!CY19,Деңгей!CZ19) -> старается употреблять знакомые слова в повседневной жизни | D44: 5-К.27
C45: =CONCATENATE(Деңгей!DA19,Деңгей!DB19,Деңгей!DC19) -> старается составить рассказы по образцу педагога | D45: 5-К.28
B46: Развитие познавательных и интеллектуальных навыков
B47: Основы математики | C47: =CONCATENATE(Деңгей!DD19,Деңгей!DE19,Деңгей!DF19) -> старается считать в пределах 10 | D47: 5-П.1
C48: =CONCATENATE(Деңгей!DG19,Деңгей!DH19,Деңгей!DI19) -> старается делить и воссоединить | D48: 5-П.2
C49: =CONCATENATE(Деңгей!DJ19,Деңгей!DK19,Деңгей!DL19) -> пытается сравнивать предметы по различным признакам | D49: 5-П.3
C50: =CONCATENATE(Деңгей!DM19,Деңгей!DN19,Деңгей!DO19) -> пытается расположить предметы в порядке возрастания и убывания | D50: 5-П.4
C51: =CONCATENATE(Деңгей!DP19,Деңгей!DQ19,Деңгей!DR19) -> ориентируется на листе бумаги, но не называет последовательно дни недели, месяцы по временам года | D51: 5-П.5
C52: =CONCATENATE(Деңгей!DS19,Деңгей!DT19,Деңгей!DU19) -> частично различает и называет геометрические фигуры | D52: 5-П.6
C53: =CONCATENATE(Деңгей!DV19,Деңгей!DW19,Деңгей!DX19) -> частично рисует различные линии | D53: 5-П.7
B54: Развитие творческих навыков, исследовательской деятельности детей
B55: Рисование | C55: =CONCATENATE(Деңгей!DY19,Деңгей!DZ19,Деңгей!EA19) -> передает образы через несложные движения и позы частично | D55: 5-Т.1
C56: =CONCATENATE(Деңгей!EB19,Деңгей!EC19,Деңгей!ED19) -> пользуется красками частично, красит различными принтами | D56: 5-Т.2
C57: =CONCATENATE(Деңгей!EE19,Деңгей!EF19,Деңгей!EG19) -> старается получать новые цвета и оттенки через смешивание красок | D57: 5-Т.3
C58: =CONCATENATE(Деңгей!EH19,Деңгей!EI19,Деңгей!EJ19) -> выполняет задачи по обоюдному согласию частично | D58: 5-Т.4
C59: =CONCATENATE(Деңгей!EK19,Деңгей!EL19,Деңгей!EM19) -> рисует элементы казахского орнамента и частично может украшать ими одежду, предметы быта | D59: 5-Т.5
C60: =CONCATENATE(Деңгей!EN19,Деңгей!EO19,Деңгей!EP19) -> изображает сюжетные рисунки частично | D60: 5-Т.6
C61: =CONCATENATE(Деңгей!EQ19,Деңгей!ER19,Деңгей!ES19) -> старается соблюдать аккуратность при рисовании, правила безопасного поведения | D61: 5-Т.7
B63: Развитие творческих навыков, исследовательской деятельности детей | C63: =CONCATENATE(Деңгей!ET19,Деңгей!EU19,Деңгей!EV19) -> лепит с натуры частично и по представлению знакомые предметы разной формы и величины | D63: 5-Т.8
C64: =CONCATENATE(Деңгей!EW19,Деңгей!EX19,Деңгей!EY19) -> лепит фигуры человека и животного частично | D64: 5-Т.9
C65: =CONCATENATE(Деңгей!EZ19,Деңгей!FA19,Деңгей!FB19) -> старается использовать различные методы лепки | D65: 5-Т.10
C66: =CONCATENATE(Деңгей!FC19,Деңгей!FD19,Деңгей!FE19) -> составляет сюжетные композиции частично | D66: 5-Т.11
C67: =CONCATENATE(Деңгей!FF19,Деңгей!FG19,Деңгей!FH19) -> старается лепить и украшать разнообразную казахскую посуду, предметы быта, ювелирные изделия | D67: 5-Т.12
C68: =CONCATENATE(Деңгей!FI19,Деңгей!FJ19,Деңгей!FK19) -> владеет навыками частично коллективной лепки для общей композиции | D68: 5-Т.13
C69: =CONCATENATE(Деңгей!FL19,Деңгей!FM19,Деңгей!FN19) -> пытается аккуратно выполнять работу, соблюдать правила безопасности | D69: 5-Т.14
B71: Аппликация | C71: =CONCATENATE(Деңгей!FO19,Деңгей!FP19,Деңгей!FQ19) -> пытается вырезать ножницами различные геометрические фигуры | D71: 5-Т.15
C72: =CONCATENATE(Деңгей!FR19,Деңгей!FS19,Деңгей!FT19) -> пытается вырезить знакомые или придуманные различные образы, сразу несколько одинаковых форм из бумаги, сложенной гармошкой, и предметы симметричной формы из бумаги, сложенной вдвое | D72: 5-Т.16
C73: =CONCATENATE(Деңгей!FU19,Деңгей!FV19,Деңгей!FW19) -> выбирает и обосновывает приемы работы частично | D73: 5-Т.17
C74: =CONCATENATE(Деңгей!FX19,Деңгей!FY19,Деңгей!FZ19) -> составляет образ из нескольких частей частично | D74: 5-Т.18
C75: =CONCATENATE(Деңгей!GA19,Деңгей!GB19,Деңгей!GC19) -> выполняет сюжетные композиции индивидуально, не проявляет интерес к небольшим группам | D75: 5-Т.19
C76: =CONCATENATE(Деңгей!GD19,Деңгей!GE19,Деңгей!GF19) -> создает сюжетные композиции, но не дополняет их модными деталями | D76: 5-Т.20
C77: =CONCATENATE(Деңгей!GG19,Деңгей!GH19,Деңгей!GI19) -> соблюдает правила безопасности труда и личной гигиены частично | D77: 5-Т.21
B79: Конструирование | C79: =CONCATENATE(Деңгей!GJ19,Деңгей!GK19,Деңгей!GL19) -> строит при помощи взрослого на предложенную тему | D79: 5-Т.22
C80: =CONCATENATE(Деңгей!GM19,Деңгей!GN19,Деңгей!GO19) -> конструирует из бросового и природного материала частично | D80: 5-Т.23
C81: =CONCATENATE(Деңгей!GP19,Деңгей!GQ19,Деңгей!GR19) -> анализируя построенное им сооружение, находит эффективные конструктивные решения,частично применяет их при конструировании | D81: 5-Т.24
C82: =CONCATENATE(Деңгей!GS19,Деңгей!GT19,Деңгей!GU19) -> пытается совместно конструирует необходимую для игры конструкцию, выполняют работу по согласованию, играют с готовой конструкцией | D82: 5-Т.25
C83: =CONCATENATE(Деңгей!GV19,Деңгей!GW19,Деңгей!GX19) -> старается работать совместно в команде | D83: 5-Т.26
C84: =CONCATENATE(Деңгей!GY19,Деңгей!GZ19,Деңгей!HA19) -> старается преобразовывать плоскостные бумажные формы в объемные | D84: 5-Т.27
C85: =CONCATENATE(Деңгей!HB19,Деңгей!HC19,Деңгей!HD19) -> старается соблюдать правила безопасности на рабочем месте | D85: 5-Т.28
B87: Музыка | C87: =CONCATENATE(Деңгей!HE19,Деңгей!HF19,Деңгей!HG19) -> пытается различать простые музыкальные жанры (кюй, песня, танец, марш) | D87: 5-Т.29
C88: =CONCATENATE(Деңгей!HH19,Деңгей!HI19,Деңгей!HJ19) -> исполняет частично знакомые песни самостоятельно с музыкальным сопровождением и без сопровождения | D88: 5-Т.30
C89: =CONCATENATE(Деңгей!HK19,Деңгей!HL19,Деңгей!HM19) -> старается произносить текст песни четко, воспринимает и передает характер музыки | D89: 5-Т.31
C90: =CONCATENATE(Деңгей!HN19,Деңгей!HO19,Деңгей!HP19) -> старается выделять отдельные фрагменты произведения | D90: 5-Т.32
C91: =CONCATENATE(Деңгей!HQ19,Деңгей!HR19,Деңгей!HS19) -> играет простые мелодии на музыкальных инструментах с интересом | D91: 5-Т.33
C92: =CONCATENATE(Деңгей!HT19,Деңгей!HU19,Деңгей!HV19) -> исполняет песни различного характера при помощи взрослого | D92: 5-Т.34
C93: =CONCATENATE(Деңгей!HW19,Деңгей!HX19,Деңгей!HY19) -> старается выполняет движения в соответствии с характером музыки | D93: 5-Т.35
B94: Формирование социально-эмоциональных навыков
B96: Ознакомление с окружающим миром | C96: =CONCATENATE(Деңгей!HZ19,Деңгей!IA19,Деңгей!IB19) -> нет уверенности в своих возможностях, понимает важность трудолюбия и ответственности | D96: 5-С.1
C97: =CONCATENATE(Деңгей!IC19,Деңгей!ID19,Деңгей!IE19) -> частично понимает родственные связи, уважает старших, заботится о младших | D97: 5-С.2
C98: =CONCATENATE(Деңгей!IF19,Деңгей!IG19,Деңгей!IH19) -> передает частичное понимание, высказывает свое мнение | D98: 5-С.3
C99: =CONCATENATE(Деңгей!II19,Деңгей!IJ19,Деңгей!IK19) -> частично знает о применении специальных транспортных средств, знает элементарные правила дорожного движения | D99: 5-С.4
C100: =CONCATENATE(Деңгей!IL19,Деңгей!IM19,Деңгей!IN19) -> любит свою Родину, понимает значение живописной природы, достопримечательностей, исторических мест и культурного наследия Казахстана | D100: 5-С.5
C101: =CONCATENATE(Деңгей!IO19,Деңгей!IP19,Деңгей!IQ19) -> наблюдает и частично понимает причинно-следственные связи между живой и неживой природой, явлениями природы, знает об охране природы, значении солнца и воздуха в жизни человека, животных и растений | D101: 5-С.6
C102: =CONCATENATE(Деңгей!IR19,Деңгей!IS19,Деңгей!IT19) -> понимает и различает частично что «правильно» или «неправильно», «хорошо» или «плохо»: | D102: 5-С.7
C104: ФИ воспитателя:

Sheet ИКР 12
C2: Индивидуальная карта развития ребенка по результатам мониторинга уровня знания и образовательной сферы в 2023-2024 учебном году подготовительного дошкольного группы
C3: итог
B5: Имя ребенка | C5: ='предшкольный класс'!B20 -> Плужникова Арина Александровна
B6: Физическое развитие
B7: Физическая культура | C7: =CONCATENATE(Деңгей!C20,Деңгей!D20,Деңгей!E20) -> ходит в колонне по одному, по двое, по трое, с перешагиванием через предметы, боком: с поворотом в другую сторону по сигналу | D7: 1-Ф.1
C8: =CONCATENATE(Деңгей!F20,Деңгей!G20,Деңгей!H20) -> бегает с разной скоростью - медленно, быстро, в среднем темпе, непрерывно | D8: 1-Ф.2
C9: =CONCATENATE(Деңгей!I20,Деңгей!J20,Деңгей!K20) -> активно участвует в национальных подвижных играх, играх с элементами соревнований и эстафетных играх, , где демонстрирует физические качества: скорость, силу, выносливость, гибкость, ловкость | D9: 1-Ф.3
C10: =CONCATENATE(Деңгей!L20,Деңгей!M20,Деңгей!N20) -> проявляет активность в спортивных играх и тренировках | D10: 1-Ф.4
C11: =CONCATENATE(Деңгей!O20,Деңгей!P20,Деңгей!Q20) -> выполняет самостоятельно гигиенические процедуры | D11: 1-Ф.5
C12: =CONCATENATE(Деңгей!R20,Деңгей!S20,Деңгей!T20) -> владеет навыками самообслуживания и ухода за одеждой | D12: 1-Ф.6
C13: =CONCATENATE(Деңгей!U20,Деңгей!V20,Деңгей!W20) -> имеет первоначальные представления о здоровом образе жизни | D13: 1-Ф.7
B14: Развитие коммуникативных навыков
B15: Развитие речи | C15: =CONCATENATE(Деңгей!X20,Деңгей!Y20,Деңгей!Z20) -> выполняет звуковой анализ слов | D15: 5-К.1
C16: =CONCATENATE(Деңгей!AA20,Деңгей!AB20,Деңгей!AC20) -> выполняет звуковой анализ слов | D16: 5-К.2
C17: =CONCATENATE(Деңгей!AD20,Деңгей!AE20,Деңгей!AF20) -> произносит имена существительные, связывая их с числительными и прилагательными с существительными | D17: 5-К.3
C18: =CONCATENATE(Деңгей!AG20,Деңгей!AH20,Деңгей!AI20) -> внимательно слушает собеседника, правильно задает вопросы и дает короткие или полные ответы на них | D18: 5-К.4
C19: =CONCATENATE(Деңгей!AJ20,Деңгей!AK20,Деңгей!AL20) -> сочиняет рассказы по наблюдениям и сюжетным картинкам | D19: 5-К.5
C20: =CONCATENATE(Деңгей!AM20,Деңгей!AN20,Деңгей!AO20) -> последовательно пересказывает рассказы | D20: 5-К.6
C21: =CONCATENATE(Деңгей!AP20,Деңгей!AQ20,Деңгей!AR20) -> ведет себя культурно, тактично во время беседы | D21: 5-К.7
B23: Художественная литература | C23: =CONCATENATE(Деңгей!AS20,Деңгей!AT20,Деңгей!AU20) -> различает причинно-следственные связи, литературные жанры | D23: 5-К.8
C24: =CONCATENATE(Деңгей!AV20,Деңгей!AW20,Деңгей!AX20) -> читает стихотворения выразительно, с интонацией | D24: 5-К.9
C25: =CONCATENATE(Деңгей!AY20,Деңгей!AZ20,Деңгей!BA20) -> пересказывает содержание рассказа самостоятельно, сохраняя последовательность сюжета | D25: 5-К.10
C26: =CONCATENATE(Деңгей!BB20,Деңгей!BC20,Деңгей!BD20) -> передает в ролях настроение и характер героя, жесты, интонацию и мимику образа | D26: 5-К.11
C27: =CONCATENATE(Деңгей!BE20,Деңгей!BF20,Деңгей!BG20) -> выполняет свою роль в постановке выразительно, самостоятельно | D27: 5-К.12
C28: =CONCATENATE(Деңгей!BH20,Деңгей!BI20,Деңгей!BJ20) -> делится впечатлениями, информацией из различных источников | D28: 5-К.13
C29: =CONCATENATE(Деңгей!BK20,Деңгей!BL20,Деңгей!BM20) -> выражает свое отношение к происходящему вокруг | D29: 5-К.14
B31: Основы грамоты | C31: =CONCATENATE(Деңгей!BN20,Деңгей!BO20,Деңгей!BP20) -> выполняет звуковой анализ слов: определяет порядок звуков в слове, гласных и согласных | D31: 5-К.15
C32: =CONCATENATE(Деңгей!BQ20,Деңгей!BR20,Деңгей!BS20) -> четко произносит все звуки, различает гласные и согласные | D32: 5-К.16
C33: =CONCATENATE(Деңгей!BT20,Деңгей!BU20,Деңгей!BV20) -> составляет слово на заданный слог | D33: 5-К.17
C34: =CONCATENATE(Деңгей!BW20,Деңгей!BX20,Деңгей!BY20) -> составляет простые предложения с предложенными словами | D34: 5-К.18
C35: =CONCATENATE(Деңгей!BZ20,Деңгей!CA20,Деңгей!CB20) -> правильно держит ручку | D35: 5-К.19
C36: =CONCATENATE(Деңгей!CC20,Деңгей!CD20,Деңгей!CE20) -> рисует различные линии | D36: 5-К.20
C37: =CONCATENATE(Деңгей!CF20,Деңгей!CG20,Деңгей!CH20) -> умеет ориентироваться, различать пространство | D37: 5-К.21
B39: Казахский язык | C39: =CONCATENATE(Деңгей!CI20,Деңгей!CJ20,Деңгей!CK20) -> правильно произносит специфические звуки казахского языка в слове | D39: 5-К.22
C40: =CONCATENATE(Деңгей!CL20,Деңгей!CM20,Деңгей!CN20) -> рассказывает пословицы и поговорки | D40: 5-К.23
C41: =CONCATENATE(Деңгей!CO20,Деңгей!CP20,Деңгей!CQ20) -> понимает и произносит названия продуктов, посуды, мебели, фруктов, | D41: 5-К.24
C42: =CONCATENATE(Деңгей!CR20,Деңгей!CS20,Деңгей!CT20) -> называет слова, обозначающие признаки предметов (цвет, величина), действия с предметами, употребляет их в разговорной речи | D42: 5-К.25
C43: =CONCATENATE(Деңгей!CU20,Деңгей!CV20,Деңгей!CW20) -> называет слова, обозначающие признаки предметов (цвет, величина), действия с предметами, употребляет их в разговорной речи | D43: 5-К.26
C44: =CONCATENATE(Деңгей!CX20,Деңгей!CY20,Деңгей!CZ20) -> употребляет знакомые слова в повседневной жизни | D44: 5-К.27
C45: =CONCATENATE(Деңгей!DA20,Деңгей!DB20,Деңгей!DC20) -> составляет рассказы по образцу педагога | D45: 5-К.28
B46: Развитие познавательных и интеллектуальных навыков
B47: Основы математики | C47: =CONCATENATE(Деңгей!DD20,Деңгей!DE20,Деңгей!DF20) -> знает прямой и обратный счет до 10 | D47: 5-П.1
C48: =CONCATENATE(Деңгей!DG20,Деңгей!DH20,Деңгей!DI20) -> делит и воссоединяет | D48: 5-П.2
C49: =CONCATENATE(Деңгей!DJ20,Деңгей!DK20,Деңгей!DL20) -> знает прямой и обратный счет в пределах 10-ти, различает вопросы "Сколько?", "Который?" ("Какой?") и правильно отвечает на них | D49: 5-П.3
C50: =CONCATENATE(Деңгей!DM20,Деңгей!DN20,Деңгей!DO20) -> располагает предметы в порядке возрастания и убывания | D50: 5-П.4
C51: =CONCATENATE(Деңгей!DP20,Деңгей!DQ20,Деңгей!DR20) -> ориентируется на листе бумаги, называет последовательно дни недели, месяцы по временам года | D51: 5-П.5
C52: =CONCATENATE(Деңгей!DS20,Деңгей!DT20,Деңгей!DU20) -> различает и называет геометрические фигуры (круг, овал, треугольник, квадрат, прямоугольник) | D52: 5-П.6
C53: =CONCATENATE(Деңгей!DV20,Деңгей!DW20,Деңгей!DX20) -> рисует различные линии | D53: 5-П.7
B54: Развитие творческих навыков, исследовательской деятельности детей
