Workbook

Sheet предшкольный класс
B1: Лист наблюдения для предшкольной группы (дети 5 -ти лет )
A2: Учебный год: ____________ Группа: _____________ Период: ______________ Сроки проведения:______________ | O2: итог | IR2: Приложение 1
A4: № | B4: ФИО ребенка | C4: Физическое развитие | X4: Развитие коммуникативных навыков | DD4: Развитие познавательных и интеллектуальных навыков | DY4: Развитие творческих навыков, исследовательской деятельности детей | HZ4: Формирование социально-эмоциональных навыков
C5: Физическая культура | X5: Развитие речи | AS5: Художественная литература | BN5: Основы грамоты | CI5: Казахский язык | DD5: Основы математики | DY5: Рисование | ET5: Лепка | FO5: Аппликация | GJ5: Конструирование | HE5: Музыка | HZ5: Ознакомление с окружающим миром
C6: 5-Ф.1 | F6: 5-Ф.2 | I6: 5-Ф.3 | L6: 5-Ф.4 | O6: 5-Ф.5 | R6: 5-Ф.6 | U6: 5-Ф.7 | X6: 5-К. 1 | AA6: 5-К.2 | AD6: 5-К.3 | AG6: 5-К.4 | AJ6: 5-К.5 | AM6: 5-К. 6 | AP6: 5-К.7 | AS6: 5-К.8 | AV6: 5-К.9 | AY6: 5-К.10 | BB6: 5-К.11 | BE6: 5-К.12 | BH6: 5-К.13 | BK6: 5-К.14 | BN6: 5-К.15 | BQ6: 5-К.16 | BT6: 5-К.17 | BW6: 5-К.18 | BZ6: 5-К.19 | CC6: 5-К.20 | CF6: 5-К.21 | CI6: 5-К.22 | CL6: 5-К.23 | CO6: 5-К.24 | CR6: 5-К.25 | CU6: 5-К.26 | CX6: 5-К.27 | DA6: 5-К.28 | DD6: 5-П.1 | DG6: 5-П.2 | DJ6: 5-П.3 | DM6: 5-П.4 | DP6: 5-П.5 | DS6: 5-П.6 | DV6: 5-П.7 | DY6: 5-Т.1 | EB6: 5-Т.2 | EE6: 5-Т.3 | EH6: 5-Т.4 | EK6: 5-Т.5 | EN6: 5-Т.6 | EQ6: 5-Т.7 | ET6: 5-Т.8 | EW6: 5-Т.9 | EZ6: 5-Т.10 | FC6: 5-Т.11 | FF6: 5-Т.12 | FI6: 5-Т.13 | FL6: 5-Т.14 | FO6: 5-Т.15 | FR6: 5-Т.16 | FU6: 5-Т.17 | FX6: 5-Т.18 | GA6: 5-Т.19 | GD6: 5-Т.20 | GG6: 5-Т.21 | GJ6: 5-Т.22 | GM6: 5-Т.23 | GP6: 5-Т.24 | GS6: 5-Т.25 | GV6: 5-Т.26 | GY6: 5-Т.27 | HB6: 5-Т.28 | HE6: 5-Т.29 | HH6: 5-Т.30 | HK6: 5-Т.31 | HN6: 5-Т.32 | HQ6: 5-Т.33 | HT6: 5-Т.34 | HW6: 5-Т.35 | HZ6: 5-С.1 | IC6: 5-С.2 | IF6: 5-С.3 | II6: 5-С.4 | IL6: 5-С.5 | IO6: 5-С.6 | IR6: 5-С.7
C7: ходит в колонне по одному, по двое, по трое, с перешагиванием через предметы, боком: с поворотом в другую сторону по сигналу | F7: бегает с разной скоростью - медленно, быстро, в среднем темпе, непрерывно | I7: активно участвует в национальных подвижных играх, играх с элементами соревнований и эстафетных играх, , где демонстрирует физические качества: скорость, силу, выносливость, гибкость, ловкость | L7: проявляет активность в спортивных играх и тренировках | O7: выполняет самостоятельно гигиенические процедуры | R7: владеет навыками самообслуживания и ухода за одеждой | U7: имеет первоначальные представления о здоровом образе жизни | X7: выполняет звуковой анализ слов | AA7: употребляет в речи существительные, прилагательные, наречия, многозначные слова, синонимы и антонимы | AD7: произносит имена существительные, связывая их с числительными и прилагательными с существительными | AG7: внимательно слушает собеседника, правильно задает вопросы и дает короткие или полные ответы на них | AJ7: сочиняет рассказы по наблюдениям и сюжетным картинкам | AM7: последовательно пересказывает рассказы | AP7: ведет себя культурно, тактично во время беседы | AS7: различает причинно-следственные связи, литературные жанры | AV7: читает стихотворения выразительно, с интонацией | AY7: пересказывает содержание рассказа самостоятельно, сохраняя последовательность сюжета: | BB7: передает в ролях настроение и характер героя, жесты, интонацию и мимику образа | BE7: выполняет свою роль в постановке выразительно, самостоятельно | BH7: делится впечатлениями, информацией из различных источников | BK7: выражает свое отношение к происходящему вокруг | BN7: выполняет звуковой анализ слов: определяет порядок звуков в слове, гласных и согласных | BQ7: четко произносит все звуки, различает гласные и согласные | BT7: составляет слово на заданный слог: | BW7: составляет простые предложения с предложенными словами | BZ7: правильно держит ручку: | CC7: рисует различные линии | CF7: ориентируется на странице прописи, различает рабочую строку и межстрочное пространство | CI7: правильно произносит специфические звуки казахского языка в слове | CL7: рассказывает наизусть пословицы и поговорки | CO7: понимает и произносит названия продуктов, посуды, мебели, фруктов, овощей, животных, птиц, частей тела человека, транспорта, встречающихся в повседневной жизни | CR7: называет слова, обозначающие признаки предметов (цвет, величина), действия с предметами, употребляет их в разговорной речи | CU7: употребляет знакомые слова в повседневной жизни | CX7: составляет короткие рассказы об игрушках и картинах по образцу педагога | DA7: знает прямой и обратный счет до 10 | DD7: делит множества на части и воссоединяет их | DG7: знает прямой и обратный счет в пределах 10-ти, различает вопросы "Сколько?", "Который?" ("Какой?") и правильно отвечает на них | DJ7: сравнивает предметы по различным признакам (цвет, форма, размер, материал, применение) | DM7: располагает предметы в порядке возрастания и убывания | DP7: ориентируется на листе бумаги, называет последовательно дни недели, месяцы по временам года | DS7: различает и называет геометрические фигуры (круг, овал, треугольник, квадрат, прямоугольник) | DV7: рисует различные линии | DY7: передает образы предметов живой природы через несложные движения и позы | EB7: умеет пользоваться красками, смешивает акварель в палитре с водой, красит карандашом различными принтами, для получения насыщенных цветов | EE7: получает новые цвета (фиолетовый) и оттенки (синий, розовый, темно-зеленый) путем смешивания красок: | EH7: работает с коллективом, выполняет задачи по обоюдному согласию | EK7: рисует элементы казахского орнамента и украшает ими одежду, предметы быта | EN7: изображает сюжетные рисунки: | EQ7: соблюдает аккуратность при рисовании, правила безопасного поведения | ET7: лепит с натуры и по представлению знакомые предметы разной формы и величины | EW7: лепит фигуры человека и животного, соблюдая простые пропорции | EZ7: использует различные методы лепки | FC7: составлять сюжетные композиции по содержанию сказок и рассказов | FF7: лепит разнообразную казахскую посуду, предметы быта, ювелирные изделия и украшает их орнаментами и аксессуарами | FI7: владеет навыками коллективной лепки для общей композиции | FL7: аккуратно выполняет работу, соблюдает правила безопасности | FO7: вырезает ножницами различные геометрические фигуры | FR7: вырезает знакомые или придуманные различные образы, сразу несколько одинаковых форм из бумаги, сложенной гармошкой, и предметы симметричной формы из бумаги, сложенной вдвое | FU7: выбирает и обосновывает приемы работы | FX7: составляет образ из нескольких частей | GA7: выполняет сюжетные композиции как индивидуально, так и в небольших группах, согласованно выполняя задачи | GD7: создает сюжетные композиции, дополняя их модными деталями | GG7: соблюдает правила безопасности труда и личной гигиены | GJ7: строит самостоятельно на предложенную тему | GM7: конструирует из бросового и природного материала | GP7: анализируя построенное им сооружение, находит эффективные конструктивные решения, применяет их при конструировании | GS7: совместно конструирует необходимую для игры конструкцию, выполняют работу по согласованию, играют с готовой конструкцией | GV7: может работать в команде | GY7: преобразовывает плоскостные бумажные формы в объемные | HB7: соблюдает правила безопасности на рабочем месте | HE7: различает простые музыкальные жанры (кюй, песня, танец, марш): | HH7: исполняет знакомые песни самостоятельно с музыкальным сопровождением и без сопровождения | HK7: произносит текст песни четко, громко и медленно, умеет воспринимать и передавать характер музыки | HN7: выделяет отдельные фрагменты произведения (вступление, припев, заключение) | HQ7: играет простые мелодии на музыкальных инструментах | HT7: самостоятельно и творчески исполняет песни различного характера | HW7: выполняет движения в соответствии с характером музыки | HZ7: верит в свои силы и возможности, понимает важность трудолюбия и ответственности | IC7: понимает родственные связи, знает родословную, уважает старших, заботится о младших | IF7: говорит осознанно, выражает свое мнение | II7: знает о применении специальных транспортных средств, знает элементарные правила дорожного движения | IL7: любит свою Родину, понимает значение живописной природы, достопримечательностей, исторических мест и культурного наследия Казахстана | IO7: наблюдает и понимает причинно-следственные связи между живой и неживой природой, явлениями природы, знает об охране природы, значении солнца и воздуха в жизни человека, животных и растений | IR7: понимает и различает что «правильно» или «неправильно», «хорошо» или «плохо»:
C8: ходит | D8: старается ходить | E8: не старается ходить | F8: бегает с разной скоростью | G8: старается бегать с разной скоростью | H8: не бегает с разной скоростью | I8: активно участвует, демонстрирует | J8: старается принять участие, демонстрировать | K8: принимает участие без интереса | L8: проявляет активность | M8: проявляет активность частично | N8: не проявляет активность | O8: выполняет самостоятельно | P8: выполняет самостоятельно частично | Q8: не выполняет самостоятельно | R8: владеет навыками | S8: владеет навыками частично | T8: не владеет навыками | U8: имеет первоначальные представления о здоровом образе жизни | V8: имеет частичные первоначальные представления о здоровом образе жизни | W8: не имеет первоначальных представлений о здоровом образе жизни | X8: выполняет с интересом | Y8: старается выполнять | Z8: не выполняет | AA8: употребляет | AB8: употребляет частично | AC8: не употребляет | AD8: произносит | AE8: произносит частично | AF8: не произносит | AG8: слушает собеседника, задает вопросы и отвечает на них | AH8: слушает собеседника, задает вопросы, но не отвечает на них | AI8: не слушает собеседника, не задает вопросы и не отвечает на них | AJ8: сочиняет рассказы | AK8: сочиняет рассказы частично | AL8: не сочиняет рассказы | AM8: пересказывает рассказы | AN8: пересказывает рассказы частично | AO8: не пересказывает рассказы | AP8: ведет себя культурно, тактично во время беседы | AQ8: старается вести себя культурно, тактично во время беседы | AR8: не старается вести себя культурно, тактично во время беседы | AS8: различает | AT8: различает частично | AU8: не различает | AV8: читает выразительно, с интонацией | AW8: старается читать выразительно, с интонацией | AX8: не старается читать выразительно, с интонацией | AY8: пересказывает рассказ самостоятельно | AZ8: пересказывает рассказ при помощи взрослого | BA8: не пересказывает рассказ | BB8: передает настроение, характер героя, жесты, интонацию и мимику образа | BC8: старается передать настроение, характер героя, жесты, интонацию и мимику образа | BD8: не старается передать настроение, характер героя, жесты, интонацию и мимику образа | BE8: выполняет свою роль выразительно, самостоятельно | BF8: старается выполнять свою роль выразительно, самостоятельно | BG8: не старается выполнять свою роль выразительно, самостоятельно | BH8: делится впечатлениями | BI8: делится впечатлениями частично | BJ8: не делится впечатлениями | BK8: выражает свое отношение | BL8: выражает свое отношение частично | BM8: не выражает свое отношение | BN8: определяет порядок звуков в слове | BO8: определяет порядок звуков в слове частично | BP8: не пытается определить порядок звуков в слове | BQ8: четко произносит все звуки, различает гласные и согласные | BR8: четко произносит все звуки, различает некоторые из них | BS8: не произносит все звуки, не различает гласные и согласные | BT8: составляет слово на заданный слог | BU8: пытается составить слово на заданный слог | BV8: не пытается составить слово на заданный слог | BW8: составляет простые предложения | BX8: составляет простые предложения частично | BY8: не составляет простые предложения | BZ8: правильно держит ручку | CA8: старается правильно держать ручку | CB8: не может правильно держать ручку | CC8: рисует различные линии | CD8: рисует различные линии частично | CE8: не может рисовать различные линии | CF8: умеет ориентироваться, различать пространство | CG8: частично ориентируется, различает пространство | CH8: не умеет ориентироваться, не умеет различать пространство | CI8: правильно произносит | CJ8: пытается произносить правильно | CK8: не пытается произносить правильно | CL8: рассказывает пословицы и поговорки | CM8: пытается рассказывать пословицы и поговорки | CN8: не рассказывает пословицы и поговорки | CO8: знает и называет | CP8: знает,пытается называть | CQ8: не знает и не называет | CR8: называет и употребляет | CS8: старается называть и употреблять | CT8: не старается называть и употреблять | CU8: употребляет | CV8: старается употреблять | CW8: не употребляет | CX8: составляет рассказы по образцу педагога | CY8: старается составить рассказы по образцу педагога | CZ8: не старается составлять рассказы по образцу педагога | DA8: знает прямой и обратный счет до 10 | DB8: старается считать в пределах 10 | DC8: не старается считать в пределах 10 | DD8: делит и воссоединяет | DE8: старается делить и воссоединить | DF8: не старается делить и воссоединять | DG8: знает, различает вопросы и правильно на них отвечает | DH8: знает, частично различает вопросы и старается правильно на них отвечать | DI8: путается в обратном счете, не различает вопросы и не отвечает на вопросы | DJ8: сравнивает предметы по различным признакам | DK8: пытается сравнивать предметы по различным признакам | DL8: не пытается сравнивать предметы по различным признакам | DM8: располагает предметы в порядке возрастания и убывания | DN8: пытается расположить предметы в порядке возрастания и убывания | DO8: не располагает предметы в порядке возрастания и убывания | DP8: ориентируется на листе бумаги, называет последовательно дни недели, месяцы по временам года | DQ8: ориентируется на листе бумаги, но не называет последовательно дни недели, месяцы по временам года | DR8: не ориентируется на листе бумаги, не называет последовательно дни недели, месяцы по временам года | DS8: различает и называет геометрические фигуры | DT8: частично различает и называет геометрические фигуры | DU8: различает геометрические фигуры, но не называет их | DV8: рисует различные линии | DW8: частично рисует различные линии | DX8: не рисует различные линии | DY8: передает образы через несложные движения и позы | DZ8: передает образы через несложные движения и позы частично | EA8: не старается передать образы через несложные движения и позы | EB8: пользуется красками, красит различными принтами | EC8: пользуется красками частично, красит различными принтами | ED8: не умеет пользоваться красками, не пытается красить различными принтами | EE8: получает новые цвета и оттенки | EF8: старается получать новые цвета и оттенки через смешивание красок | EG8: не может получать новые цвета и оттенки через смешивание красок | EH8: выполняет задачи по обоюдному согласию | EI8: выполняет задачи по обоюдному согласию частично | EJ8: не пытается выполнять задачи по обоюдному согласию | EK8: рисует элементы казахского орнамента и украшает ими одежду, предметы быта | EL8: рисует элементы казахского орнамента и частично может украшать ими одежду, предметы быта | EM8: не рисует элементы казахского орнамента и не может украшать ими одежду, предметы быта | EN8: изображает сюжетные рисунки | EO8: изображает сюжетные рисунки частично | EP8: не изображает сюжетные рисунки | EQ8: соблюдает аккуратность | ER8: старается соблюдать аккуратность | ES8: не соблюдает аккуратность | ET8: лепит с натуры | EU8: лепит с натуры частично | EV8: не лепит с натуры | EW8: лепит фигуры человека и животного | EX8: лепит фигуры человека и животного частично | EY8: не лепит фигуры человека и животного | EZ8: использует различные методы лепки | FA8: старается использовать различные методы лепки | FB8: не старается использовать различные методы лепки | FC8: составляет сюжетные композиции | FD8: составляет сюжетные композиции частично | FE8: не составляет сюжетные композиции | FF8: лепит, украшет | FG8: старается лепить и украшать | FH8: не лепит, не украшает | FI8: владеет навыками | FJ8: владеет навыками частично | FK8: не владеет навыками | FL8: аккуратно выполняет работу, соблюдает правила безопасности | FM8: пытается аккуратно выполнять работу, соблюдать правила безопасности | FN8: не пытается аккуратно выполнять работу, не соблюдает правила безопасности | FO8: вырезает ножницами различные геометрические фигуры | FP8: пытается вырезать ножницами различные геометрические фигуры | FQ8: не может вырезать ножницами различные геометрические фигуры | FR8: вырезает различные образы | FS8: пытается вырезать различные образы | FT8: не может вырезать различные образы | FU8: выбирает и обосновывает приемы работы | FV8: выбирает и обосновывает приемы работы частично | FW8: не пытается выбирать и обосновывать приемы работы | FX8: стремиться понять важность | FY8: составляет образ из нескольких частей частично | FZ8: не составляет образ из нескольких частей | GA8: выполняет сюжетные композиции как индивидуально, так и в небольших группах | GB8: выполняет сюжетные композиции индивидуально, не проявляет интерес к небольшим группам | GC8: не выполняет сюжетные композиции ни индивидуально, ни в группе | GD8: создает сюжетные композиции, дополняя их модными деталями | GE8: создает сюжетные композиции, но не дополняет их модными деталями | GF8: не создает сюжетные композиции | GG8: соблюдает правила безопасности труда и личной гигиены | GH8: соблюдает правила безопасности труда и личной гигиены частично | GI8: пытается соблюдать правила безопасности труда и личной гигиены | GJ8: строит самостоятельно | GK8: строит при помощи взрослого | GL8: не пытается строить самостоятельно | GM8: конструирует из бросового и природного материала | GN8: конструирует из бросового и природного материала частично | GO8: не конструирует из бросового и природного материала | GP8: применяет их при конструировании | GQ8: частично применяет их при конструировании | GR8: пытается применяет их при конструировании | GS8: совместно конструирует, выполняет работу по согласованию | GT8: пытается совместно конструировать, выполнять работу по согласованию | GU8: не пытается совместно конструировать, выполнять работу по согласованию | GV8: работает в команде | GW8: старается работать совместно в команде | GX8: не получается работа в команде | GY8: преобразовывает | GZ8: старается преобразовывать | HA8: не старается преобразовывать | HB8: соблюдает правила безопасности на рабочем месте | HC8: старается соблюдать правила безопасности на рабочем месте | HD8: не соблюдает правила безопасности на рабочем месте | HE8: различает простые музыкальные жанры | HF8: пытается различать простые музыкальные жанры | HG8: не различает простые музыкальные жанры | HH8: исполняет | HI8: исполняет частично | HJ8: не старается исполнить | HK8: произносит текст песни четко, воспринимает и передает характер музыки | HL8: старается произносить текст песни четко, воспринимает и передает характер музыки | HM8: не произносит текст песни четко, воспринимает и передает характер музыки | HN8: выделяет отдельные фрагменты произведения | HO8: старается выделять отдельные фрагменты произведения | HP8: не выделяет отдельные фрагменты произведения | HQ8: играет простые мелодии на музыкальных инструментах | HR8: играет простые мелодии на музыкальных инструментах с интересом | HS8: не проявляет интерес при игре простых мелодий на музыкальных инструментах | HT8: самостоятельно и творчески исполняет песни различного характера | HU8: исполняет песни различного характера при помощи взрослого | HV8: не исполняет песни различного характера | HW8: выполняет движения в соответствии с характером музыки | HX8: старается выполняет движения в соответствии с характером музыки | HY8: не выполняет движения в соответствии с характером музыки | HZ8: верит в свои силы и возможности, понимает важность трудолюбия и ответственности | IA8: нет уверенности в своих возможностях, понимает важность трудолюбия и ответственности | IB8: не уверен в своих возможностях, не понимает важность трудолюбия и ответственности | IC8: понимает родственные связи, уважает старших, заботится о младших | ID8: частично понимает, проявляет знаки уважения и заботы | IE8: старается понять и выполнять | IF8: говорит осознанно, выражает свое мнение | IG8: передает частичное понимание, высказывает свое мнение | IH8: пытается высказать свое мнение, чтобы передать понимание | II8: знает | IJ8: частично знает | IK8: не знает | IL8: гордится, понимает важность | IM8: любит, понимает важность | IN8: стремится понять важность | IO8: наблюдает, понимает, знает | IP8: наблюдает, частично понимае, знаетт | IQ8: наблюдает, но не понимает | IR8: понимает и различает | IS8: понимает и различает частично | IT8: старается понимать и различать
A9: 1 | B9: Башурова Полина Артемовна | C9: 1 | F9: 1 | I9: 1 | L9: 1 | O9: 1 | R9: 1 | U9: 1 | X9: 1 | AA9: 1 | AD9: 1 | AG9: 1 | AJ9: 1 | AM9: 1 | AP9: 1 | AS9: 1 | AV9: 1 | AY9: 1 | BB9: 1 | BE9: 1 | BH9: 1 | BK9: 1 | BN9: 1 | BQ9: 1 | BT9: 1 | BW9: 1 | BZ9: 1 | CC9: 1 | CF9: 1 | CI9: 1 | CL9: 1 | CO9: 1 | CR9: 1 | CU9: 1 | CX9: 1 | DA9: 1 | DD9: 1 | DG9: 1 | DJ9: 1 | DM9: 1 | DP9: 1 | DS9: 1 | DV9: 1 | DY9: 1 | EB9: 1 | EE9: 1 | EH9: 1 | EK9: 1 | EN9: 1 | EQ9: 1 | ET9: 1 | EW9: 1 | EZ9: 1 | FC9: 1 | FF9: 1 | FI9: 1 | FL9: 1 | FO9: 1 | FR9: 1 | FU9: 1 | FX9: 1 | GA9: 1 | GD9: 1 | GG9: 1 | GJ9: 1 | GM9: 1 | GP9: 1 | GS9: 1 | GV9: 1 | GY9: 1 | HB9: 1 | HE9: 1 | HH9: 1 | HK9: 1 | HN9: 1 | HQ9: 1 | HT9: 1 | HW9: 1 | HZ9: 1 | IC9: 1 | IF9: 1 | II9: 1 | IL9: 1 | IO9: 1 | IR9: 1
A10: 2 | B10: Гагарина Мария Николаевна | C10: 1 | F10: 1 | I10: 1 | L10: 1 | O10: 1 | R10: 1 | U10: 1 | X10: 1 | AA10: 1 | AD10: 1 | AG10: 1 | AJ10: 1 | AM10: 1 | AP10: 1 | AS10: 1 | AV10: 1 | AY10: 1 | BB10: 1 | BE10: 1 | BH10: 1 | BK10: 1 | BN10: 1 | BQ10: 1 | BT10: 1 | BW10: 1 | BZ10: 1 | CC10: 1 | CF10: 1 | CI10: 1 | CL10: 1 | CO10: 1 | CR10: 1 | CU10: 1 | CX10: 1 | DA10: 1 | DD10: 1 | DG10: 1 | DJ10: 1 | DM10: 1 | DP10: 1 | DS10: 1 | DV10: 1 | DY10: 1 | EB10: 1 | EE10: 1 | EH10: 1 | EK10: 1 | EN10: 1 | EQ10: 1 | ET10: 1 | EW10: 1 | EZ10: 1 | FC10: 1 | FF10: 1 | FI10: 1 | FL10: 1 | FO10: 1 | FR10: 1 | FU10: 1 | FX10: 1 | GA10: 1 | GD10: 1 | GG10: 1 | GJ10: 1 | GM10: 1 | GP10: 1 | GS10: 1 | GV10: 1 | GY10: 1 | HB10: 1 | HE10: 1 | HH10: 1 | HK10: 1 | HN10: 1 | HQ10: 1 | HT10: 1 | HW10: 1 | HZ10: 1 | IC10: 1 | IF10: 1 | II10: 1 | IL10: 1 | IO10: 1 | IR10: 1
A11: 3 | B11: Кабылова Виктория Вадимовна | C11: 1 | F11: 1 | I11: 1 | L11: 1 | O11: 1 | R11: 1 | U11: 1 | X11: 1 | AA11: 1 | AD11: 1 | AG11: 1 | AJ11: 1 | AM11: 1 | AP11: 1 | AS11: 1 | AV11: 1 | AY11: 1 | BB11: 1 | BE11: 1 | BH11: 1 | BK11: 1 | BN11: 1 | BQ11: 1 | BT11: 1 | BW11: 1 | BZ11: 1 | CC11: 1 | CF11: 1 | CI11: 1 | CL11: 1 | CO11: 1 | CR11: 1 | CU11: 1 | CX11: 1 | DA11: 1 | DD11: 1 | DG11: 1 | DJ11: 1 | DM11: 1 | DP11: 1 | DS11: 1 | DV11: 1 | DY11: 1 | EB11: 1 | EE11: 1 | EH11: 1 | EK11: 1 | EN11: 1 | EQ11: 1 | ET11: 1 | EW11: 1 | EZ11: 1 | FC11: 1 | FF11: 1 | FI11: 1 | FL11: 1 | FO11: 1 | FR11: 1 | FU11: 1 | FX11: 1 | GA11: 1 | GD11: 1 | GG11: 1 | GJ11: 1 | GM11: 1 | GP11: 1 | GS11: 1 | GV11: 1 | GY11: 1 | HB11: 1 | HE11: 1 | HH11: 1 | HK11: 1 | HN11: 1 | HQ11: 1 | HT11: 1 | HW11: 1 | HZ11: 1 | IC11: 1 | IF11: 1 | II11: 1 | IL11: 1 | IO11: 1 | IR11: 1
A12: 4 | B12: Коваль Лилия Максимовна | C12: 1 | F12: 1 | I12: 1 | L12: 1 | O12: 1 | R12: 1 | U12: 1 | X12: 1 | AA12: 1 | AD12: 1 | AG12: 1 | AJ12: 1 | AM12: 1 | AP12: 1 | AS12: 1 | AV12: 1 | AY12: 1 | BB12: 1 | BE12: 1 | BH12: 1 | BK12: 1 | BN12: 1 | BQ12: 1 | BT12: 1 | BW12: 1 | BZ12: 1 | CC12: 1 | CF12: 1 | CI12: 1 | CL12: 1 | CO12: 1 | CR12: 1 | CU12: 1 | CX12: 1 | DA12: 1 | DD12: 1 | DG12: 1 | DJ12: 1 | DM12: 1 | DP12: 1 | DS12: 1 | DV12: 1 | DY12: 1 | EB12: 1 | EE12: 1 | EH12: 1 | EK12: 1 | EN12: 1 | EQ12: 1 | ET12: 1 | EW12: 1 | EZ12: 1 | FC12: 1 | FF12: 1 | FI12: 1 | FL12: 1 | FO12: 1 | FR12: 1 | FU12: 1 | FX12: 1 | GA12: 1 | GD12: 1 | GG12: 1 | GJ12: 1 | GM12: 1 | GP12: 1 | GS12: 1 | GV12: 1 | GY12: 1 | HB12: 1 | HE12: 1 | HH12: 1 | HK12: 1 | HN12: 1 | HQ12: 1 | HT12: 1 | HW12: 1 | HZ12: 1 | IC12: 1 | IF12: 1 | II12: 1 | IL12: 1 | IO12: 1 | IR12: 1
A13: 5 | B13: Калинина Вероника Евгеньевна | C13: 1 | F13: 1 | I13: 1 | L13: 1 | O13: 1 | R13: 1 | U13: 1 | X13: 1 | AA13: 1 | AD13: 1 | AG13: 1 | AJ13: 1 | AM13: 1 | AP13: 1 | AS13: 1 | AV13: 1 | AY13: 1 | BB13: 1 | BE13: 1 | BH13: 1 | BK13: 1 | BN13: 1 | BQ13: 1 | BT13: 1 | BW13: 1 | BZ13: 1 | CC13: 1 | CF13: 1 | CI13: 1 | CL13: 1 | CO13: 1 | CR13: 1 | CU13: 1 | CX13: 1 | DA13: 1 | DD13: 1 | DG13: 1 | DJ13: 1 | DM13: 1 | DP13: 1 | DS13: 1 | DV13: 1 | DY13: 1 | EB13: 1 | EE13: 1 | EH13: 1 | EK13: 1 | EN13: 1 | EQ13: 1 | ET13: 1 | EW13: 1 | EZ13: 1 | FC13: 1 | FF13: 1 | FI13: 1 | FL13: 1 | FO13: 1 | FR13: 1 | FU13: 1 | FX13: 1 | GA13: 1 | GD13: 1 | GG13: 1 | GJ13: 1 | GM13: 1 | GP13: 1 | GS13: 1 | GV13: 1 | GY13: 1 | HB13: 1 | HE13: 1 | HH13: 1 | HK13: 1 | HN13: 1 | HQ13: 1 | HT13: 1 | HW13: 1 | HZ13: 1 | IC13: 1 | IF13: 1 | II13: 1 | IL13: 1 | IO13: 1 | IR13: 1
A14: 6 | B14: Каруно Анна Сергеевна | C14: 1 | F14: 1 | I14: 1 | L14: 1 | O14: 1 | R14: 1 | U14: 1 | X14: 1 | AA14: 1 | AD14: 1 | AG14: 1 | AJ14: 1 | AM14: 1 | AP14: 1 | AS14: 1 | AV14: 1 | AY14: 1 | BB14: 1 | BE14: 1 | BH14: 1 | BK14: 1 | BN14: 1 | BQ14: 1 | BT14: 1 | BW14: 1 | BZ14: 1 | CC14: 1 | CF14: 1 | CI14: 1 | CL14: 1 | CO14: 1 | CR14: 1 | CU14: 1 | CX14: 1 | DA14: 1 | DD14: 1 | DG14: 1 | DJ14: 1 | DM14: 1 | DP14: 1 | DS14: 1 | DV14: 1 | DY14: 1 | EB14: 1 | EE14: 1 | EH14: 1 | EK14: 1 | EN14: 1 | EQ14: 1 | ET14: 1 | EW14: 1 | EZ14: 1 | FC14: 1 | FF14: 1 | FI14: 1 | FL14: 1 | FO14: 1 | FR14: 1 | FU14: 1 | FX14: 1 | GA14: 1 | GD14: 1 | GG14: 1 | GJ14: 1 | GM14: 1 | GP14: 1 | GS14: 1 | GV14: 1 | GY14: 1 | HB14: 1 | HE14: 1 | HH14: 1 | HK14: 1 | HN14: 1 | HQ14: 1 | HT14: 1 | HW14: 1 | HZ14: 1 | IC14: 1 | IF14: 1 | II14: 1 | IL14: 1 | IO14: 1 | IR14: 1
A15: 7 | B15: Касымова Севара Рустамовна | C15: 1 | F15: 1 | I15: 1 | L15: 1 | O15: 1 | R15: 1 | U15: 1 | X15: 1 | AA15: 1 | AD15: 1 | AG15: 1 | AJ15: 1 | AM15: 1 | AP15: 1 | AS15: 1 | AV15: 1 | AY15: 1 | BB15: 1 | BE15: 1 | BH15: 1 | BK15: 1 | BN15: 1 | BQ15: 1 | BT15: 1 | BW15: 1 | BZ15: 1 | CC15: 1 | CF15: 1 | CI15: 1 | CL15: 1 | CO15: 1 | CR15: 1 | CU15: 1 | CX15: 1 | DA15: 1 | DD15: 1 | DG15: 1 | DJ15: 1 | DM15: 1 | DP15: 1 | DS15: 1 | DV15: 1 | DY15: 1 | EB15: 1 | EE15: 1 | EH15: 1 | EK15: 1 | EN15: 1 | EQ15: 1 | ET15: 1 | EW15: 1 | EZ15: 1 | FC15: 1 | FF15: 1 | FI15: 1 | FL15: 1 | FO15: 1 | FR15: 1 | FU15: 1 | FX15: 1 | GA15: 1 | GD15: 1 | GG15: 1 | GJ15: 1 | GM15: 1 | GP15: 1 | GS15: 1 | GV15: 1 | GY15: 1 | HB15: 1 | HE15: 1 | HH15: 1 | HK15: 1 | HN15: 1 | HQ15: 1 | HT15: 1 | HW15: 1 | HZ15: 1 | IC15: 1 | IF15: 1 | II15: 1 | IL15: 1 | IO15: 1 | IR15: 1
A16: 8 | B16: Кисиль Дарина Александровна | C16: 1 | F16: 1 | I16: 1 | L16: 1 | O16: 1 | R16: 1 | U16: 1 | X16: 1 | AA16: 1 | AD16: 1 | AG16: 1 | AJ16: 1 | AM16: 1 | AP16: 1 | AS16: 1 | AV16: 1 | AY16: 1 | BB16: 1 | BE16: 1 | BH16: 1 | BK16: 1 | BN16: 1 | BQ16: 1 | BT16: 1 | BW16: 1 | BZ16: 1 | CC16: 1 | CF16: 1 | CI16: 1 | CL16: 1 | CO16: 1 | CR16: 1 | CU16: 1 | CX16: 1 | DA16: 1 | DD16: 1 | DG16: 1 | DJ16: 1 | DM16: 1 | DP16: 1 | DS16: 1 | DV16: 1 | DY16: 1 | EB16: 1 | EE16: 1 | EH16: 1 | EK16: 1 | EN16: 1 | EQ16: 1 | ET16: 1 | EW16: 1 | EZ16: 1 | FC16: 1 | FF16: 1 | FI16: 1 | FL16: 1 | FO16: 1 | FR16: 1 | FU16: 1 | FX16: 1 | GA16: 1 | GD16: 1 | GG16: 1 | GJ16: 1 | GM16: 1 | GP16: 1 | GS16: 1 | GV16: 1 | GY16: 1 | HB16: 1 | HE16: 1 | HH16: 1 | HK16: 1 | HN16: 1 | HQ16: 1 | HT16: 1 | HW16: 1 | HZ16: 1 | IC16: 1 | IF16: 1 | II16: 1 | IL16: 1 | IO16: 1 | IR16: 1
A17: 9 | B17: Мамаева Полина Дмитриевна | C17: 1 | F17: 1 | I17: 1 | L17: 1 | O17: 1 | R17: 1 | U17: 1 | Y17: 1 | AB17: 1 | AE17: 1 | AH17: 1 | AK17: 1 | AN17: 1 | AQ17: 1 | AT17: 1 | AW17: 1 | AZ17: 1 | BC17: 1 | BF17: 1 | BI17: 1 | BL17: 1 | BO17: 1 | BR17: 1 | BU17: 1 | BX17: 1 | CA17: 1 | CD17: 1 | CG17: 1 | CJ17: 1 | CM17: 1 | CP17: 1 | CS17: 1 | CV17: 1 | CY17: 1 | DB17: 1 | DD17: 1 | DG17: 1 | DJ17: 1 | DM17: 1 | DP17: 1 | DS17: 1 | DV17: 1 | DY17: 1 | EB17: 1 | EE17: 1 | EH17: 1 | EK17: 1 | EN17: 1 | EQ17: 1 | ET17: 1 | EW17: 1 | EZ17: 1 | FC17: 1 | FF17: 1 | FI17: 1 | FL17: 1 | FO17: 1 | FR17: 1 | FU17: 1 | FX17: 1 | GA17: 1 | GD17: 1 | GG17: 1 | GJ17: 1 | GM17: 1 | GP17: 1 | GS17: 1 | GV17: 1 | GY17: 1 | HB17: 1 | HE17: 1 | HH17: 1 | HK17: 1 | HN17: 1 | HQ17: 1 | HT17: 1 | HW17: 1 | HZ17: 1 | IC17: 1 | IF17: 1 | II17: 1 | IL17: 1 | IO17: 1 | IR17: 1
A18: 10 | B18: Маратова Венера Талгатовна | C18: 1 | F18: 1 | I18: 1 | L18: 1 | O18: 1 | R18: 1 | U18: 1 | Y18: 1 | AB18: 1 | AE18: 1 | AH18: 1 | AK18: 1 | AN18: 1 | AQ18: 1 | AT18: 1 | AW18: 1 | AZ18: 1 | BC18: 1 | BF18: 1 | BI18: 1 | BL18: 1 | BO18: 1 | BR18: 1 | BU18: 1 | BX18: 1 | CA18: 1 | CD18: 1 | CG18: 1 | CJ18: 1 | CM18: 1 | CP18: 1 | CS18: 1 | CV18: 1 | CY18: 1 | DB18: 1 | DE18: 1 | DH18: 1 | DK18: 1 | DN18: 1 | DQ18: 1 | DT18: 1 | DW18: 1 | DY18: 1 | EB18: 1 | EE18: 1 | EH18: 1 | EK18: 1 | EN18: 1 | EQ18: 1 | ET18: 1 | EW18: 1 | EZ18: 1 | FC18: 1 | FF18: 1 | FI18: 1 | FL18: 1 | FO18: 1 | FR18: 1 | FU18: 1 | FX18: 1 | GA18: 1 | GD18: 1 | GG18: 1 | GJ18: 1 | GM18: 1 | GP18: 1 | GS18: 1 | GV18: 1 | GY18: 1 | HB18: 1 | HE18: 1 | HH18: 1 | HK18: 1 | HN18: 1 | HQ18: 1 | HT18: 1 | HW18: 1 | IA18: 1 | ID18: 1 | IG18: 1 | IJ18: 1 | IM18: 1 | IP18: 1 | IS18: 1
A19: 11 | B19: Новикова Екатерина Денисовна | C19: 1 | F19: 1 | I19: 1 | L19: 1 | O19: 1 | R19: 1 | U19: 1 | Y19: 1 | AB19: 1 | AE19: 1 | AH19: 1 | AK19: 1 | AN19: 1 | AQ19: 1 | AT19: 1 | AW19: 1 | AZ19: 1 | BC19: 1 | BF19: 1 | BI19: 1 | BL19: 1 | BO19: 1 | BR19: 1 | BU19: 1 | BX19: 1 | CA19: 1 | CD19: 1 | CG19: 1 | CJ19: 1 | CM19: 1 | CP19: 1 | CS19: 1 | CV19: 1 | CY19: 1 | DB19: 1 | DE19: 1 | DH19: 1 | DK19: 1 | DN19: 1 | DQ19: 1 | DT19: 1 | DW19: 1 | DZ19: 1 | EC19: 1 | EF19: 1 | EI19: 1 | EL19: 1 | EO19: 1 | ER19: 1 | EU19: 1 | EX19: 1 | FA19: 1 | FD19: 1 | FG19: 1 | FJ19: 1 | FM19: 1 | FP19: 1 | FS19: 1 | FV19: 1 | FY19: 1 | GB19: 1 | GE19: 1 | GH19: 1 | GK19: 1 | GN19: 1 | GQ19: 1 | GT19: 1 | GW19: 1 | GZ19: 1 | HC19: 1 | HF19: 1 | HI19: 1 | HL19: 1 | HO19: 1 | HR19: 1 | HU19: 1 | HX19: 1 | IA19: 1 | ID19: 1 | IG19: 1 | IJ19: 1 | IM19: 1 | IP19: 1 | IS19: 1
A20: 12 | B20: Плужникова Арина Александровна | C20: 1 | F20: 1 | I20: 1 | L20: 1 | O20: 1 | R20: 1 | U20: 1 | X20: 1 | AA20: 1 | AD20: 1 | AG20: 1 | AJ20: 1 | AM20: 1 | AP20: 1 | AS20: 1 | AV20: 1 | AY20: 1 | BB20: 1 | BE20: 1 | BH20: 1 | BK20: 1 | BN20: 1 | BQ20: 1 | BT20: 1 | BW20: 1 | BZ20: 1 | CC20: 1 | CF20: 1 | CI20: 1 | CL20: 1 | CO20: 1 | CR20: 1 | CU20: 1 | CX20: 1 | DA20: 1 | DD20: 1 | DG20: 1 | DJ20: 1 | DM20: 1 | DP20: 1 | DS20: 1 | DV20: 1 | DY20: 1 | EB20: 1 | EE20: 1 | EH20: 1 | EK20: 1 | EN20: 1 | EQ20: 1 | ET20: 1 | EW20: 1 | EZ20: 1 | FC20: 1 | FF20: 1 | FI20: 1 | FL20: 1 | FO20: 1 | FR20: 1 | FU20: 1 | FX20: 1 | GA20: 1 | GD20: 1 | GG20: 1 | GJ20: 1 | GM20: 1 | GP20: 1 | GS20: 1 | GV20: 1 | GY20: 1 | HB20: 1 | HE20: 1 | HH20: 1 | HK20: 1 | HN20: 1 | HQ20: 1 | HT20: 1 | HW20: 1 | HZ20: 1 | IC20: 1 | IF20: 1 | II20: 1 | IL20: 1 | IO20: 1 | IR20: 1
A21: 13 | B21: Симбирцева Екатерина Алексеевна | C21: 1 | F21: 1 | I21: 1 | L21: 1 | O21: 1 | R21: 1 | U21: 1 | X21: 1 | AA21: 1 | AD21: 1 | AG21: 1 | AJ21: 1 | AM21: 1 | AP21: 1 | AS21: 1 | AV21: 1 | AY21: 1 | BB21: 1 | BE21: 1 | BH21: 1 | BK21: 1 | BN21: 1 | BQ21: 1 | BT21: 1 | BW21: 1 | BZ21: 1 | CC21: 1 | CF21: 1 | CI21: 1 | CL21: 1 | CO21: 1 | CR21: 1 | CU21: 1 | CX21: 1 | DA21: 1 | DD21: 1 | DG21: 1 | DJ21: 1 | DM21: 1 | DP21: 1 | DS21: 1 | DV21: 1 | DY21: 1 | EB21: 1 | EE21: 1 | EH21: 1 | EK21: 1 | EN21: 1 | EQ21: 1 | ET21: 1 | EW21: 1 | EZ21: 1 | FC21: 1 | FF21: 1 | FI21: 1 | FL21: 1 | FO21: 1 | FR21: 1 | FU21: 1 | FX21: 1 | GA21: 1 | GD21: 1 | GG21: 1 | GJ21: 1 | GM21: 1 | GP21: 1 | GS21: 1 | GV21: 1 | GY21: 1 | HB21: 1 | HE21: 1 | HH21: 1 | HK21: 1 | HN21: 1 | HQ21: 1 | HT21: 1 | HW21: 1 | HZ21: 1 | IC21: 1 | IF21: 1 | II21: 1 | IL21: 1 | IO21: 1 | IR21: 1
A22: 14 | B22: Сквирский Евгений Андреевич (инкл. РАС) | C22: 1 | F22: 1 | I22: 1 | L22: 1 | O22: 1 | R22: 1 | U22: 1 | Y22: 1 | AB22: 1 | AE22: 1 | AH22: 1 | AK22: 1 | AN22: 1 | AQ22: 1 | AT22: 1 | AW22: 1 | AZ22: 1 | BC22: 1 | BF22: 1 | BI22: 1 | BL22: 1 | BO22: 1 | BR22: 1 | BU22: 1 | BX22: 1 | CA22: 1 | CD22: 1 | CG22: 1 | CJ22: 1 | CM22: 1 | CP22: 1 | CS22: 1 | CV22: 1 | CY22: 1 | DB22: 1 | DE22: 1 | DH22: 1 | DK22: 1 | DN22: 1 | DQ22: 1 | DT22: 1 | DW22: 1 | DZ22: 1 | EC22: 1 | EF22: 1 | EI22: 1 | EL22: 1 | EO22: 1 | ER22: 1 | EU22: 1 | EX22: 1 | FA22: 1 | FD22: 1 | FG22: 1 | FJ22: 1 | FM22: 1 | FP22: 1 | FS22: 1 | FV22: 1 | FY22: 1 | GB22: 1 | GE22: 1 | GH22: 1 | GK22: 1 | GN22: 1 | GQ22: 1 | GT22: 1 | GW22: 1 | GZ22: 1 | HC22: 1 | HF22: 1 | HI22: 1 | HL22: 1 | HO22: 1 | HR22: 1 | HU22: 1 | HX22: 1 | IA22: 1 | ID22: 1 | IG22: 1 | IJ22: 1 | IM22: 1 | IP22: 1 | IS22: 1
A23: 15 | B23: Скородумов Евгений Сергеевич | C23: 1 | F23: 1 | I23: 1 | L23: 1 | O23: 1 | R23: 1 | U23: 1 | X23: 1 | AA23: 1 | AD23: 1 | AG23: 1 | AJ23: 1 | AM23: 1 | AP23: 1 | AS23: 1 | AV23: 1 | AY23: 1 | BB23: 1 | BE23: 1 | BH23: 1 | BK23: 1 | BN23: 1 | BQ23: 1 | BT23: 1 | BW23: 1 | BZ23: 1 | CC23: 1 | CF23: 1 | CI23: 1 | CL23: 1 | CO23: 1 | CR23: 1 | CU23: 1 | CX23: 1 | DA23: 1 | DD23: 1 | DG23: 1 | DJ23: 1 | DM23: 1 | DP23: 1 | DS23: 1 | DV23: 1 | DY23: 1 | EB23: 1 | EE23: 1 | EH23: 1 | EK23: 1 | EN23: 1 | EQ23: 1 | ET23: 1 | EW23: 1 | EZ23: 1 | FC23: 1 | FF23: 1 | FI23: 1 | FL23: 1 | FO23: 1 | FR23: 1 | FU23: 1 | FX23: 1 | GA23: 1 | GD23: 1 | GG23: 1 | GJ23: 1 | GM23: 1 | GP23: 1 | GS23: 1 | GV23: 1 | GY23: 1 | HB23: 1 | HE23: 1 | HH23: 1 | HK23: 1 | HN23: 1 | HQ23: 1 | HT23: 1 | HW23: 1 | HZ23: 1 | IC23: 1 | IF23: 1 | II23: 1 | IL23: 1 | IO23: 1 | IR23: 1
A24: 16 | B24: Уразбекова Ясмина Ержановна | C24: 1 | F24: 1 | I24: 1 | L24: 1 | O24: 1 | R24: 1 | U24: 1 | X24: 1 | AA24: 1 | AD24: 1 | AG24: 1 | AJ24: 1 | AM24: 1 | AP24: 1 | AS24: 1 | AV24: 1 | AY24: 1 | BB24: 1 | BE24: 1 | BH24: 1 | BK24: 1 | BN24: 1 | BQ24: 1 | BT24: 1 | BW24: 1 | BZ24: 1 | CC24: 1 | CF24: 1 | CI24: 1 | CL24: 1 | CO24: 1 | CR24: 1 | CU24: 1 | CX24: 1 | DA24: 1 | DD24: 1 | DG24: 1 | DJ24: 1 | DM24: 1 | DP24: 1 | DS24: 1 | DV24: 1 | DY24: 1 | EB24: 1 | EE24: 1 | EH24: 1 | EK24: 1 | EN24: 1 | EQ24: 1 | ET24: 1 | EW24: 1 | EZ24: 1 | FC24: 1 | FF24: 1 | FI24: 1 | FL24: 1 | FO24: 1 | FR24: 1 | FU24: 1 | FX24: 1 | GA24: 1 | GD24: 1 | GG24: 1 | GJ24: 1 | GM24: 1 | GP24: 1 | GS24: 1 | GV24: 1 | GY24: 1 | HB24: 1 | HE24: 1 | HH24: 1 | HK24: 1 | HN24: 1 | HQ24: 1 | HT24: 1 | HW24: 1 | HZ24: 1 | IC24: 1 | IF24: 1 | II24: 1 | IL24: 1 | IO24: 1 | IR24: 1
A25: 17 | B25: Халихан Амир | C25: 1 | F25: 1 | I25: 1 | L25: 1 | O25: 1 | R25: 1 | U25: 1 | X25: 1 | AA25: 1 | AD25: 1 | AG25: 1 | AJ25: 1 | AM25: 1 | AP25: 1 | AS25: 1 | AV25: 1 | AY25: 1 | BB25: 1 | BE25: 1 | BH25: 1 | BK25: 1 | BN25: 1 | BQ25: 1 | BT25: 1 | BW25: 1 | BZ25: 1 | CC25: 1 | CF25: 1 | CI25: 1 | CL25: 1 | CO25: 1 | CR25: 1 | CU25: 1 | CX25: 1 | DA25: 1 | DD25: 1 | DG25: 1 | DJ25: 1 | DM25: 1 | DP25: 1 | DS25: 1 | DV25: 1 | DY25: 1 | EB25: 1 | EE25: 1 | EH25: 1 | EK25: 1 | EN25: 1 | EQ25: 1 | ET25: 1 | EW25: 1 | EZ25: 1 | FC25: 1 | FF25: 1 | FI25: 1 | FL25: 1 | FO25: 1 | FR25: 1 | FU25: 1 | FX25: 1 | GA25: 1 | GD25: 1 | GG25: 1 | GJ25: 1 | GM25: 1 | GP25: 1 | GS25: 1 | GV25: 1 | GY25: 1 | HB25: 1 | HE25: 1 | HH25: 1 | HK25: 1 | HN25: 1 | HQ25: 1 | HT25: 1 | HW25: 1 | HZ25: 1 | IC25: 1 | IF25: 1 | II25: 1 | IL25: 1 | IO25: 1 | IR25: 1
A26: 18 | B26: Химич Тимофей Григорьевич | C26: 1 | F26: 1 | I26: 1 | L26: 1 | O26: 1 | R26: 1 | U26: 1 | X26: 1 | AA26: 1 | AD26: 1 | AG26: 1 | AJ26: 1 | AM26: 1 | AP26: 1 | AS26: 1 | AV26: 1 | AY26: 1 | BB26: 1 | BE26: 1 | BH26: 1 | BK26: 1 | BN26: 1 | BQ26: 1 | BT26: 1 | BW26: 1 | BZ26: 1 | CC26: 1 | CF26: 1 | CI26: 1 | CL26: 1 | CO26: 1 | CR26: 1 | CU26: 1 | CX26: 1 | DA26: 1 | DD26: 1 | DG26: 1 | DJ26: 1 | DM26: 1 | DP26: 1 | DS26: 1 | DV26: 1 | DY26: 1 | EB26: 1 | EE26: 1 | EH26: 1 | EK26: 1 | EN26: 1 | EQ26: 1 | ET26: 1 | EW26: 1 | EZ26: 1 | FC26: 1 | FF26: 1 | FI26: 1 | FL26: 1 | FO26: 1 | FR26: 1 | FU26: 1 | FX26: 1 | GA26: 1 | GD26: 1 | GG26: 1 | GJ26: 1 | GM26: 1 | GP26: 1 | GS26: 1 | GV26: 1 | GY26: 1 | HB26: 1 | HE26: 1 | HH26: 1 | HK26: 1 | HN26: 1 | HQ26: 1 | HT26: 1 | HW26: 1 | HZ26: 1 | IC26: 1 | IF26: 1 | II26: 1 | IL26: 1 | IO26: 1 | IR26: 1
A27: 19 | B27: Чеснокова Анна Петровна | C27: 1 | F27: 1 | I27: 1 | L27: 1 | O27: 1 | R27: 1 | U27: 1 | Y27: 1 | AB27: 1 | AE27: 1 | AH27: 1 | AK27: 1 | AN27: 1 | AQ27: 1 | AT27: 1 | AW27: 1 | AZ27: 1 | BC27: 1 | BF27: 1 | BI27: 1 | BL27: 1 | BO27: 1 | BR27: 1 | BU27: 1 | BX27: 1 | CA27: 1 | CD27: 1 | CG27: 1 | CJ27: 1 | CM27: 1 | CP27: 1 | CS27: 1 | CV27: 1 | CY27: 1 | DB27: 1 | DE27: 1 | DH27: 1 | DK27: 1 | DN27: 1 | DQ27: 1 | DT27: 1 | DW27: 1 | DZ27: 1 | EC27: 1 | EF27: 1 | EI27: 1 | EL27: 1 | EO27: 1 | ER27: 1 | EU27: 1 | EX27: 1 | FA27: 1 | FD27: 1 | FG27: 1 | FJ27: 1 | FM27: 1 | FP27: 1 | FS27: 1 | FV27: 1 | FY27: 1 | GB27: 1 | GE27: 1 | GH27: 1 | GK27: 1 | GN27: 1 | GQ27: 1 | GT27: 1 | GW27: 1 | GZ27: 1 | HC27: 1 | HF27: 1 | HI27: 1 | HL27: 1 | HO27: 1 | HR27: 1 | HU27: 1 | HX27: 1 | IA27: 1 | ID27: 1 | IG27: 1 | IJ27: 1 | IM27: 1 | IP27: 1 | IS27: 1
A28: 20 | B28: Юсупова Эмилия Руслановна | C28: 1 | F28: 1 | I28: 1 | L28: 1 | O28: 1 | R28: 1 | U28: 1 | X28: 1 | AA28: 1 | AD28: 1 | AG28: 1 | AJ28: 1 | AM28: 1 | AP28: 1 | AS28: 1 | AV28: 1 | AY28: 1 | BB28: 1 | BE28: 1 | BH28: 1 | BK28: 1 | BN28: 1 | BQ28: 1 | BT28: 1 | BW28: 1 | BZ28: 1 | CC28: 1 | CF28: 1 | CI28: 1 | CL28: 1 | CO28: 1 | CR28: 1 | CU28: 1 | CX28: 1 | DA28: 1 | DD28: 1 | DG28: 1 | DJ28: 1 | DM28: 1 | DP28: 1 | DS28: 1 | DV28: 1 | DY28: 1 | EB28: 1 | EE28: 1 | EH28: 1 | EK28: 1 | EN28: 1 | EQ28: 1 | ET28: 1 | EW28: 1 | EZ28: 1 | FC28: 1 | FF28: 1 | FI28: 1 | FL28: 1 | FO28: 1 | FR28: 1 | FU28: 1 | FX28: 1 | GA28: 1 | GD28: 1 | GG28: 1 | GJ28: 1 | GM28: 1 | GP28: 1 | GS28: 1 | GV28: 1 | GY28: 1 | HB28: 1 | HE28: 1 | HH28: 1 | HK28: 1 | HN28: 1 | HQ28: 1 | HT28: 1 | HW28: 1 | HZ28: 1 | IC28: 1 | IF28: 1 | II28: 1 | IL28: 1 | IO28: 1 | IR28: 1
A29: 21
A30: 22
A31: 23
A32: 24
A33: 25
A34: 26
A35: 27
A36: 28
A37: 29
A38: 30
A39: 31
A40: 32
... A43: 35
...

Sheet Диаграмма
B1: Сравнительный мониторинг уровня знания и образования предшкольного группы на период 2023-2024 учебного года
B3: Процентный показатель
B4: Уровень | C4: Физическая культура | D4: Развитие речи | E4: Художественная литература | F4: Основы грамоты | G4: Казахский язык | H4: Основы математики | I4: Рисование | J4: Развитие творческих навыков, исследовательской деятельности детей | K4: Аппликация | L4: Конструирование | M4: Музыка | N4: Ознакомление с окружающим миром
B5: Высокий | C5: ='предшкольный класс'!E48 -> 100 | D5: ='предшкольный класс'!E53 -> 75 | E5: ='предшкольный класс'!G53 -> 75 | F5: ='предшкольный класс'!I53 -> 75 | G5: ='предшкольный класс'!K53 -> 75 | H5: ='предшкольный класс'!E57 -> 80 | I5: ='предшкольный класс'!E62 -> 85 | J5: ='предшкольный класс'!G62 -> 85 | K5: ='предшкольный класс'!I62 -> 85 | L5: ='предшкольный класс'!K62 -> 85 | M5: ='предшкольный класс'!M62 -> 85 | N5: ='предшкольный класс'!E66 -> 80
B6: Средний | C6: ='предшкольный класс'!E49 -> 0 | D6: ='предшкольный класс'!E54 -> 25 | E6: ='предшкольный класс'!G54 -> 25 | F6: ='предшкольный класс'!I54 -> 25 | G6: ='предшкольный класс'!K54 -> 25 | H6: ='предшкольный класс'!E58 -> 20 | I6: ='предшкольный класс'!E63 -> 15 | J6: ='предшкольный класс'!G63 -> 15 | K6: ='предшкольный класс'!I63 -> 15 | L6: ='предшкольный класс'!K63 -> 15 | M6: ='предшкольный класс'!M63 -> 15 | N6: ='предшкольный класс'!E67 -> 20
B7: Низкий | C7: ='предшкольный класс'!E50 -> 0 | D7: ='предшкольный класс'!E55 -> 0 | E7: ='предшкольный класс'!G55 -> 0 | F7: ='предшкольный класс'!I55 -> 0 | G7: ='предшкольный класс'!K55 -> 0 | H7: ='предшкольный класс'!E59 -> 0 | I7: ='предшкольный класс'!E64 -> 0 | J7: ='предшкольный класс'!G64 -> 0 | K7: ='предшкольный класс'!I64 -> 0 | L7: ='предшкольный класс'!K64 -> 0 | M7: ='предшкольный класс'!M64 -> 0 | N7: ='предшкольный класс'!E68 -> 0
B10: Количественный показатель
B11: Уровень | C11: Физическая культура | D11: Развитие речи | E11: Художественная литература | F11: Основы грамоты | G11: Казахский язык | H11: Основы математики | I11: Рисование | J11: Развитие творческих навыков, исследовательской деятельности детей | K11: Аппликация | L11: Конструирование | M11: Музыка | N11: Ознакомление с окружающим миром
B12: Высокий | C12: ='предшкольный класс'!D48 -> 20 | D12: ='предшкольный класс'!D53 -> 15 | E12: ='предшкольный класс'!F53 -> 15 | F12: ='предшкольный класс'!H53 -> 15 | G12: ='предшкольный класс'!J53 -> 15 | H12: ='предшкольный класс'!D57 -> 16 | I12: ='предшкольный класс'!D62 -> 17 | J12: ='предшкольный класс'!F62 -> 17 | K12: ='предшкольный класс'!H62 -> 17 | L12: ='предшкольный класс'!J62 -> 17 | M12: ='предшкольный класс'!L62 -> 17 | N12: ='предшкольный класс'!D66 -> 16
B13: Средний | C13: ='предшкольный класс'!D49 -> 0 | D13: ='предшкольный класс'!D54 -> 5 | E13: ='предшкольный класс'!F54 -> 5 | F13: ='предшкольный класс'!H54 -> 5 | G13: ='предшкольный класс'!J54 -> 5 | H13: ='предшкольный класс'!D58 -> 4 | I13: ='предшкольный класс'!D63 -> 3 | J13: ='предшкольный класс'!F63 -> 3 | K13: ='предшкольный класс'!H63 -> 3 | L13: ='предшкольный класс'!J63 -> 3 | M13: ='предшкольный класс'!L63 -> 3 | N13: ='предшкольный класс'!D67 -> 4
B14: Низкий | C14: ='предшкольный класс'!D50 -> 0 | D14: ='предшкольный класс'!D55 -> 0 | E14: ='предшкольный класс'!F55 -> 0 | F14: ='предшкольный класс'!H55 -> 0 | G14: ='предшкольный класс'!J55 -> 0 | H14: ='предшкольный класс'!D59 -> 0 | I14: ='предшкольный класс'!D64 -> 0 | J14: ='предшкольный класс'!F64 -> 0 | K14: ='предшкольный класс'!H64 -> 0 | L14: ='предшкольный класс'!J64 -> 0 | M14: ='предшкольный класс'!L64 -> 0 | N14: ='предшкольный класс'!D68 -> 0
B61: ФИ воспитателя:

Sheet ИКР 1
C2: Индивидуальная карта развития ребенка по результатам мониторинга уровня знания и образовательной сферы в 2023-2024 учебном году подготовительного дошкольного группы
C3: итог
B5: Имя ребенка | C5: ='предшкольный класс'!B9 -> Башурова Полина Артемовна
B6: Физическое развитие
B7: Физическая культура | C7: =CONCATENATE(Деңгей!C9,Деңгей!D9,Деңгей!E9) -> ходит в колонне по одному, по двое, по трое, с перешагиванием через предметы, боком: с поворотом в другую сторону по сигналу | D7: 1-Ф.1
C8: =CONCATENATE(Деңгей!F9,Деңгей!G9,Деңгей!H9) -> бегает с разной скоростью - медленно, быстро, в среднем темпе, непрерывно | D8: 1-Ф.2
C9: =CONCATENATE(Деңгей!I9,Деңгей!J9,Деңгей!K9) -> активно участвует в национальных подвижных играх, играх с элементами соревнований и эстафетных играх, , где демонстрирует физические качества: скорость, силу, выносливость, гибкость, ловкость | D9: 1-Ф.3
C10: =CONCATENATE(Деңгей!L9,Деңгей!M9,Деңгей!N9) -> проявляет активность в спортивных играх и тренировках | D10: 1-Ф.4
C11: =CONCATENATE(Деңгей!O9,Деңгей!P9,Деңгей!Q9) -> выполняет самостоятельно гигиенические процедуры | D11: 1-Ф.5
C12: =CONCATENATE(Деңгей!R9,Деңгей!S9,Деңгей!T9) -> владеет навыками самообслуживания и ухода за одеждой | D12: 1-Ф.6
C13: =CONCATENATE(Деңгей!U9,Деңгей!V9,Деңгей!W9) -> имеет первоначальные представления о здоровом образе жизни | D13: 1-Ф.7
B14: Развитие коммуникативных навыков
B15: Развитие речи | C15: =CONCATENATE(Деңгей!X9,Деңгей!Y9,Деңгей!Z9) -> выполняет звуковой анализ слов | D15: 5-К.1
C16: =CONCATENATE(Деңгей!AA9,Деңгей!AB9,Деңгей!AC9) -> выполняет звуковой анализ слов | D16: 5-К.2
C17: =CONCATENATE(Деңгей!AD9,Деңгей!AE9,Деңгей!AF9) -> произносит имена существительные, связывая их с числительными и прилагательными с существительными | D17: 5-К.3
C18: =CONCATENATE(Деңгей!AG9,Деңгей!AH9,Деңгей!AI9) -> внимательно слушает собеседника, правильно задает вопросы и дает короткие или полные ответы на них | D18: 5-К.4
C19: =CONCATENATE(Деңгей!AJ9,Деңгей!AK9,Деңгей!AL9) -> сочиняет рассказы по наблюдениям и сюжетным картинкам | D19: 5-К.5
C20: =CONCATENATE(Деңгей!AM9,Деңгей!AN9,Деңгей!AO9) -> последовательно пересказывает рассказы | D20: 5-К.6
C21: =CONCATENATE(Деңгей!AP9,Деңгей!AQ9,Деңгей!AR9) -> ведет себя культурно, тактично во время беседы | D21: 5-К.7
B23: Художественная литература | C23: =CONCATENATE(Деңгей!AS9,Деңгей!AT9,Деңгей!AU9) -> различает причинно-следственные связи, литературные жанры | D23: 5-К.8
C24: =CONCATENATE(Деңгей!AV9,Деңгей!AW9,Деңгей!AX9) -> читает стихотворения выразительно, с интонацией | D24: 5-К.9
C25: =CONCATENATE(Деңгей!AY9,Деңгей!AZ9,Деңгей!BA9) -> пересказывает содержание рассказа самостоятельно, сохраняя последовательность сюжета | D25: 5-К.10
C26: =CONCATENATE(Деңгей!BB9,Деңгей!BC9,Деңгей!BD9) -> передает в ролях настроение и характер героя, жесты, интонацию и мимику образа | D26: 5-К.11
C27: =CONCATENATE(Деңгей!BE9,Деңгей!BF9,Деңгей!BG9) -> выполняет свою роль в постановке выразительно, самостоятельно | D27: 5-К.12
C28: =CONCATENATE(Деңгей!BH9,Деңгей!BI9,Деңгей!BJ9) -> делится впечатлениями, информацией из различных источников | D28: 5-К.13
C29: =CONCATENATE(Деңгей!BK9,Деңгей!BL9,Деңгей!BM9) -> выражает свое отношение к происходящему вокруг | D29: 5-К.14
B31: Основы грамоты | C31: =CONCATENATE(Деңгей!BN9,Деңгей!BO9,Деңгей!BP9) -> выполняет звуковой анализ слов: определяет порядок звуков в слове, гласных и согласных | D31: 5-К.15
C32: =CONCATENATE(Деңгей!BQ9,Деңгей!BR9,Деңгей!BS9) -> четко произносит все звуки, различает гласные и согласные | D32: 5-К.16
C33: =CONCATENATE(Деңгей!BT9,Деңгей!BU9,Деңгей!BV9) -> составляет слово на заданный слог | D33: 5-К.17
C34: =CONCATENATE(Деңгей!BW9,Деңгей!BX9,Деңгей!BY9) -> составляет простые предложения с предложенными словами | D34: 5-К.18
C35: =CONCATENATE(Деңгей!BZ9,Деңгей!CA9,Деңгей!CB9) -> правильно держит ручку | D35: 5-К.19
C36: =CONCATENATE(Деңгей!CC9,Деңгей!CD9,Деңгей!CE9) -> рисует различные линии | D36: 5-К.20
C37: =CONCATENATE(Деңгей!CF9,Деңгей!CG9,Деңгей!CH9) -> умеет ориентироваться, различать пространство | D37: 5-К.21
B39: Казахский язык | C39: =CONCATENATE(Деңгей!CI9,Деңгей!CJ9,Деңгей!CK9) -> правильно произносит специфические звуки казахского языка в слове | D39: 5-К.22
C40: =CONCATENATE(Деңгей!CL9,Деңгей!CM9,Деңгей!CN9) -> рассказывает пословицы и поговорки | D40: 5-К.23
C41: =CONCATENATE(Деңгей!CO9,Деңгей!CP9,Деңгей!CQ9) -> понимает и произносит названия продуктов, посуды, мебели, фруктов, | D41: 5-К.24
C42: =CONCATENATE(Деңгей!CR9,Деңгей!CS9,Деңгей!CT9) -> называет слова, обозначающие признаки предметов (цвет, величина), действия с предметами, употребляет их в разговорной речи | D42: 5-К.25
C43: =CONCATENATE(Деңгей!CU9,Деңгей!CV9,Деңгей!CW9) -> называет слова, обозначающие признаки предметов (цвет, величина), действия с предметами, употребляет их в разговорной речи | D43: 5-К.26
C44: =CONCATENATE(Деңгей!CX9,Деңгей!CY9,Деңгей!CZ9) -> употребляет знакомые слова в повседневной жизни | D44: 5-К.27
C45: =CONCATENATE(Деңгей!DA9,Деңгей!DB9,Деңгей!DC9) -> составляет рассказы по образцу педагога | D45: 5-К.28
...

Sheet ИКР 2
C2: Индивидуальная карта развития ребенка по результатам мониторинга уровня знания и образовательной сферы в 2023-2024 учебном году подготовительного дошкольного группы
C3: итог
B5: Имя ребенка | C5: ='предшкольный класс'!B10 -> Гагарина Мария Николаевна
B6: Физическое развитие
B7: Физическая культура | C7: =CONCATENATE(Деңгей!C10,Деңгей!D10,Деңгей!E10) -> ходит в колонне по одному, по двое, по трое, с перешагиванием через предметы, боком: с поворотом в другую сторону по сигналу | D7: 1-Ф.1
C8: =CONCATENATE(Деңгей!F10,Деңгей!G10,Деңгей!H10) -> бегает с разной скоростью - медленно, быстро, в среднем темпе, непрерывно | D8: 1-Ф.2
C9: =CONCATENATE(Деңгей!I10,Деңгей!J10,Деңгей!K10) -> активно участвует в национальных подвижных играх, играх с элементами соревнований и эстафетных играх, , где демонстрирует физические качества: скорость, силу, выносливость, гибкость, ловкость | D9: 1-Ф.3
C10: =CONCATENATE(Деңгей!L10,Деңгей!M10,Деңгей!N10) -> проявляет активность в спортивных играх и тренировках | D10: 1-Ф.4
C11: =CONCATENATE(Деңгей!O10,Деңгей!P10,Деңгей!Q10) -> выполняет самостоятельно гигиенические процедуры | D11: 1-Ф.5
C12: =CONCATENATE(Деңгей!R10,Деңгей!S10,Деңгей!T10) -> владеет навыками самообслуживания и ухода за одеждой | D12: 1-Ф.6
C13: =CONCATENATE(Деңгей!U10,Деңгей!V10,Деңгей!W10) -> имеет первоначальные представления о здоровом образе жизни | D13: 1-Ф.7
B14: Развитие коммуникативных навыков
B15: Развитие речи | C15: =CONCATENATE(Деңгей!X10,Деңгей!Y10,Деңгей!Z10) -> выполняет звуковой анализ слов | D15: 5-К.1
C16: =CONCATENATE(Деңгей!AA10,Деңгей!AB10,Деңгей!AC10) -> выполняет звуковой анализ слов | D16: 5-К.2
C17: =CONCATENATE(Деңгей!AD10,Деңгей!AE10,Деңгей!AF10) -> произносит имена существительные, связывая их с числительными и прилагательными с существительными | D17: 5-К.3
C18: =CONCATENATE(Деңгей!AG10,Деңгей!AH10,Деңгей!AI10) -> внимательно слушает собеседника, правильно задает вопросы и дает короткие или полные ответы на них | D18: 5-К.4
C19: =CONCATENATE(Деңгей!AJ10,Деңгей!AK10,Деңгей!AL10) -> сочиняет рассказы по наблюдениям и сюжетным картинкам | D19: 5-К.5
C20: =CONCATENATE(Деңгей!AM10,Деңгей!AN10,Деңгей!AO10) -> последовательно пересказывает рассказы | D20: 5-К.6
C21: =CONCATENATE(Деңгей!AP10,Деңгей!AQ10,Деңгей!AR10) -> ведет себя культурно, тактично во время беседы | D21: 5-К.7
B23: Художественная литература | C23: =CONCATENATE(Деңгей!AS10,Деңгей!AT10,Деңгей!AU10) -> различает причинно-следственные связи, литературные жанры | D23: 5-К.8
C24: =CONCATENATE(Деңгей!AV10,Деңгей!AW10,Деңгей!AX10) -> читает стихотворения выразительно, с интонацией | D24: 5-К.9
C25: =CONCATENATE(Деңгей!AY10,Деңгей!AZ10,Деңгей!BA10) -> пересказывает содержание рассказа самостоятельно, сохраняя последовательность сюжета | D25: 5-К.10
C26: =CONCATENATE(Деңгей!BB10,Деңгей!BC10,Деңгей!BD10) -> передает в ролях настроение и характер героя, жесты, интонацию и мимику образа | D26: 5-К.11
C27: =CONCATENATE(Деңгей!BE10,Деңгей!BF10,Деңгей!BG10) -> выполняет свою роль в постановке выразительно, самостоятельно | D27: 5-К.12
C28: =CONCATENATE(Деңгей!BH10,Деңгей!BI10,Деңгей!BJ10) -> делится впечатлениями, информацией из различных источников | D28: 5-К.13
C29: =CONCATENATE(Деңгей!BK10,Деңгей!BL10,Деңгей!BM10) -> выражает свое отношение к происходящему вокруг | D29: 5-К.14
B31: Основы грамоты | C31: =CONCATENATE(Деңгей!BN10,Деңгей!BO10,Деңгей!BP10) -> выполняет звуковой анализ слов: определяет порядок звуков в слове, гласных и согласных | D31: 5-К.15
C32: =CONCATENATE(Деңгей!BQ10,Деңгей!BR10,Деңгей!BS10) -> четко произносит все звуки, различает гласные и согласные | D32: 5-К.16
C33: =CONCATENATE(Деңгей!BT10,Деңгей!BU10,Деңгей!BV10) -> составляет слово на заданный слог | D33: 5-К.17
C34: =CONCATENATE(Деңгей!BW10,Деңгей!BX10,Деңгей!BY10) -> составляет простые предложения с предложенными словами | D34: 5-К.18
C35: =CONCATENATE(Деңгей!BZ10,Деңгей!CA10,Деңгей!CB10) -> правильно держит ручку | D35: 5-К.19
C36: =CONCATENATE(Деңгей!CC10,Деңгей!CD10,Деңгей!CE10) -> рисует различные линии | D36: 5-К.20
C37: =CONCATENATE(Деңгей!CF10,Деңгей!CG10,Деңгей!CH10) -> умеет ориентироваться, различать пространство | D37: 5-К.21
B39: Казахский язык | C39: =CONCATENATE(Деңгей!CI10,Деңгей!CJ10,Деңгей!CK10) -> правильно произносит специфические звуки казахского языка в слове | D39: 5-К.22
C40: =CONCATENATE(Деңгей!CL10,Деңгей!CM10,Деңгей!CN10) -> рассказывает пословицы и поговорки | D40: 5-К.23
C41: =CONCATENATE(Деңгей!CO10,Деңгей!CP10,Деңгей!CQ10) -> понимает и произносит названия продуктов, посуды, мебели, фруктов, | D41: 5-К.24
C42: =CONCATENATE(Деңгей!CR10,Деңгей!CS10,Деңгей!CT10) -> называет слова, обозначающие признаки предметов (цвет, величина), действия с предметами, употребляет их в разговорной речи | D42: 5-К.25
C43: =CONCATENATE(Деңгей!CU10,Деңгей!CV10,Деңгей!CW10) -> называет слова, обозначающие признаки предметов (цвет, величина), действия с предметами, употребляет их в разговорной речи | D43: 5-К.26
C44: =CONCATENATE(Деңгей!CX10,Деңгей!CY10,Деңгей!CZ10) -> употребляет знакомые слова в повседневной жизни | D44: 5-К.27
C45: =CONCATENATE(Деңгей!DA10,Деңгей!DB10,Деңгей!DC10) -> составляет рассказы по образцу педагога | D45: 5-К.28
...

Sheet ИКР 3
C2: Индивидуальная карта развития ребенка по результатам мониторинга уровня знания и образовательной сферы в 2023-2024 учебном году подготовительного дошкольного группы
C3: итог
B5: Имя ребенка | C5: ='предшкольный класс'!B11 -> Кабылова Виктория Вадимовна
B6: Физическое развитие
B7: Физическая культура | C7: =CONCATENATE(Деңгей!C11,Деңгей!D11,Деңгей!E11) -> ходит в колонне по одному, по двое, по трое, с перешагиванием через предметы, боком: с поворотом в другую сторону по сигналу | D7: 1-Ф.1
C8: =CONCATENATE(Деңгей!F11,Деңгей!G11,Деңгей!H11) -> бегает с разной скоростью - медленно, быстро, в среднем темпе, непрерывно | D8: 1-Ф.2
C9: =CONCATENATE(Деңгей!I11,Деңгей!J11,Деңгей!K11) -> активно участвует в национальных подвижных играх, играх с элементами соревнований и эстафетных играх, , где демонстрирует физические качества: скорость, силу, выносливость, гибкость, ловкость | D9: 1-Ф.3
C10: =CONCATENATE(Деңгей!L11,Деңгей!M11,Деңгей!N11) -> проявляет активность в спортивных играх и тренировках | D10: 1-Ф.4
C11: =CONCATENATE(Деңгей!O11,Деңгей!P11,Деңгей!Q11) -> выполняет самостоятельно гигиенические процедуры | D11: 1-Ф.5
C12: =CONCATENATE(Деңгей!R11,Деңгей!S11,Деңгей!T11) -> владеет навыками самообслуживания и ухода за одеждой | D12: 1-Ф.6
C13: =CONCATENATE(Деңгей!U11,Деңгей!V11,Деңгей!W11) -> имеет первоначальные представления о здоровом образе жизни | D13: 1-Ф.7
B14: Развитие коммуникативных навыков
B15: Развитие речи | C15: =CONCATENATE(Деңгей!X11,Деңгей!Y11,Деңгей!Z11) -> выполняет звуковой анализ слов | D15: 5-К.1
C16: =CONCATENATE(Деңгей!AA11,Деңгей!AB11,Деңгей!AC11) -> выполняет звуковой анализ слов | D16: 5-К.2
C17: =CONCATENATE(Деңгей!AD11,Деңгей!AE11,Деңгей!AF11) -> произносит имена существительные, связывая их с числительными и прилагательными с существительными | D17: 5-К.3
C18: =CONCATENATE(Деңгей!AG11,Деңгей!AH11,Деңгей!AI11) -> внимательно слушает собеседника, правильно задает вопросы и дает короткие или полные ответы на них | D18: 5-К.4
C19: =CONCATENATE(Деңгей!AJ11,Деңгей!AK11,Деңгей!AL11) -> сочиняет рассказы по наблюдениям и сюжетным картинкам | D19: 5-К.5
C20: =CONCATENATE(Деңгей!AM11,Деңгей!AN11,Деңгей!AO11) -> последовательно пересказывает рассказы | D20: 5-К.6
C21: =CONCATENATE(Деңгей!AP11,Деңгей!AQ11,Деңгей!AR11) -> ведет себя культурно, тактично во время беседы | D21: 5-К.7
B23: Художественная литература | C23: =CONCATENATE(Деңгей!AS11,Деңгей!AT11,Деңгей!AU11) -> различает причинно-следственные связи, литературные жанры | D23: 5-К.8
C24: =CONCATENATE(Деңгей!AV11,Деңгей!AW11,Деңгей!AX11) -> читает стихотворения выразительно, с интонацией | D24: 5-К.9
C25: =CONCATENATE(Деңгей!AY11,Деңгей!AZ11,Деңгей!BA11) -> пересказывает содержание рассказа самостоятельно, сохраняя последовательность сюжета | D25: 5-К.10
C26: =CONCATENATE(Деңгей!BB11,Деңгей!BC11,Деңгей!BD11) -> передает в ролях настроение и характер героя, жесты, интонацию и мимику образа | D26: 5-К.11
C27: =CONCATENATE(Деңгей!BE11,Деңгей!BF11,Деңгей!BG11) -> выполняет свою роль в постановке выразительно, самостоятельно | D27: 5-К.12
C28: =CONCATENATE(Деңгей!BH11,Деңгей!BI11,Деңгей!BJ11) -> делится впечатлениями, информацией из различных источников | D28: 5-К.13
C29: =CONCATENATE(Деңгей!BK11,Деңгей!BL11,Деңгей!BM11) -> выражает свое отношение к происходящему вокруг | D29: 5-К.14
B31: Основы грамоты | C31: =CONCATENATE(Деңгей!BN11,Деңгей!BO11,Деңгей!BP11) -> выполняет звуковой анализ слов: определяет порядок звуков в слове, гласных и согласных | D31: 5-К.15
C32: =CONCATENATE(Деңгей!BQ11,Деңгей!BR11,Деңгей!BS11) -> четко произносит все звуки, различает гласные и согласные | D32: 5-К.16
C33: =CONCATENATE(Деңгей!BT11,Деңгей!BU11,Деңгей!BV11) -> составляет слово на заданный слог | D33: 5-К.17
C34: =CONCATENATE(Деңгей!BW11,Деңгей!BX11,Деңгей!BY11) -> составляет простые предложения с предложенными словами | D34: 5-К.18
C35: =CONCATENATE(Деңгей!BZ11,Деңгей!CA11,Деңгей!CB11) -> правильно держит ручку | D35: 5-К.19
C36: =CONCATENATE(Деңгей!CC11,Деңгей!CD11,Деңгей!CE11) -> рисует различные линии | D36: 5-К.20
C37: =CONCATENATE(Деңгей!CF11,Деңгей!CG11,Деңгей!CH11) -> умеет ориентироваться, различать пространство | D37: 5-К.21
B39: Казахский язык | C39: =CONCATENATE(Деңгей!CI11,Деңгей!CJ11,Деңгей!CK11) -> правильно произносит специфические звуки казахского языка в слове | D39: 5-К.22
C40: =CONCATENATE(Деңгей!CL11,Деңгей!CM11,Деңгей!CN11) -> рассказывает пословицы и поговорки | D40: 5-К.23
C41: =CONCATENATE(Деңгей!CO11,Деңгей!CP11,Деңгей!CQ11) -> понимает и произносит названия продуктов, посуды, мебели, фруктов, | D41: 5-К.24
C42: =CONCATENATE(Деңгей!CR11,Деңгей!CS11,Деңгей!CT11) -> называет слова, обозначающие признаки предметов (цвет, величина), действия с предметами, употребляет их в разговорной речи | D42: 5-К.25
C43: =CONCATENATE(Деңгей!CU11,Деңгей!CV11,Деңгей!CW11) -> называет слова, обозначающие признаки предметов (цвет, величина), действия с предметами, употребляет их в разговорной речи | D43: 5-К.26
C44: =CONCATENATE(Деңгей!CX11,Деңгей!CY11,Деңгей!CZ11) -> употребляет знакомые слова в повседневной жизни | D44: 5-К.27
C45: =CONCATENATE(Деңгей!DA11,Деңгей!DB11,Деңгей!DC11) -> составляет рассказы по образцу педагога | D45: 5-К.28
...

Sheet ИКР 4
C2: Индивидуальная карта развития ребенка по результатам мониторинга уровня знания и образовательной сферы в 2023-2024 учебном году подготовительного дошкольного группы
C3: итог
B5: Имя ребенка | C5: ='предшкольный класс'!B12 -> Коваль Лилия Максимовна
B6: Физическое развитие
B7: Физическая культура | C7: =CONCATENATE(Деңгей!C12,Деңгей!D12,Деңгей!E12) -> ходит в колонне по одному, по двое, по трое, с перешагиванием через предметы, боком: с поворотом в другую сторону по сигналу | D7: 1-Ф.1
C8: =CONCATENATE(Деңгей!F12,Деңгей!G12,Деңгей!H12) -> бегает с разной скоростью - медленно, быстро, в среднем темпе, непрерывно | D8: 1-Ф.2
C9: =CONCATENATE(Деңгей!I12,Деңгей!J12,Деңгей!K12) -> активно участвует в национальных подвижных играх, играх с элементами соревнований и эстафетных играх, , где демонстрирует физические качества: скорость, силу, выносливость, гибкость, ловкость | D9: 1-Ф.3
C10: =CONCATENATE(Деңгей!L12,Деңгей!M12,Деңгей!N12) -> проявляет активность в спортивных играх и тренировках | D10: 1-Ф.4
C11: =CONCATENATE(Деңгей!O12,Деңгей!P12,Деңгей!Q12) -> выполняет самостоятельно гигиенические процедуры | D11: 1-Ф.5
C12: =CONCATENATE(Деңгей!R12,Деңгей!S12,Деңгей!T12) -> владеет навыками самообслуживания и ухода за одеждой | D12: 1-Ф.6
C13: =CONCATENATE(Деңгей!U12,Деңгей!V12,Деңгей!W12) -> имеет первоначальные представления о здоровом образе жизни | D13: 1-Ф.7
B14: Развитие коммуникативных навыков
B15: Развитие речи | C15: =CONCATENATE(Деңгей!X12,Деңгей!Y12,Деңгей!Z12) -> выполняет звуковой анализ слов | D15: 5-К.1
C16: =CONCATENATE(Деңгей!AA12,Деңгей!AB12,Деңгей!AC12) -> выполняет звуковой анализ слов | D16: 5-К.2
C17: =CONCATENATE(Деңгей!AD12,Деңгей!AE12,Деңгей!AF12) -> произносит имена существительные, связывая их с числительными и прилагательными с существительными | D17: 5-К.3
C18: =CONCATENATE(Деңгей!AG12,Деңгей!AH12,Деңгей!AI12) -> внимательно слушает собеседника, правильно задает вопросы и дает короткие или полные ответы на них | D18: 5-К.4
C19: =CONCATENATE(Деңгей!AJ12,Деңгей!AK12,Деңгей!AL12) -> сочиняет рассказы по наблюдениям и сюжетным картинкам | D19: 5-К.5
C20: =CONCATENATE(Деңгей!AM12,Деңгей!AN12,Деңгей!AO12) -> последовательно пересказывает рассказы | D20: 5-К.6
C21: =CONCATENATE(Деңгей!AP12,Деңгей!AQ12,Деңгей!AR12) -> ведет себя культурно, тактично во время беседы | D21: 5-К.7
B23: Художественная литература | C23: =CONCATENATE(Деңгей!AS12,Деңгей!AT12,Деңгей!AU12) -> различает причинно-следственные связи, литературные жанры | D23: 5-К.8
